BEGIN:VCALENDAR
VERSION:2.0
PRODID:-//Jordan events calendar - AllSpots - ECPv5.14.1//NONSGML v1.0//EN
CALSCALE:GREGORIAN
METHOD:PUBLISH
X-WR-CALNAME:Jordan events calendar - AllSpots
X-ORIGINAL-URL:https://www.allspots.com/jo/events
X-WR-CALDESC:Events for Jordan events calendar - AllSpots
BEGIN:VTIMEZONE
TZID:Europe/Helsinki
BEGIN:DAYLIGHT
TZOFFSETFROM:+0200
TZOFFSETTO:+0300
TZNAME:EEST
DTSTART:20160327T010000
END:DAYLIGHT
BEGIN:STANDARD
TZOFFSETFROM:+0300
TZOFFSETTO:+0200
TZNAME:EET
DTSTART:20161030T010000
END:STANDARD
END:VTIMEZONE
BEGIN:VEVENT
DTSTART;VALUE=DATE:20161207
DTEND;VALUE=DATE:20161218
DTSTAMP:20260425T202828
CREATED:20161102T123820Z
LAST-MODIFIED:20161126T113035Z
UID:6087-1481068800-1481947199@www.allspots.com
SUMMARY:Winter Shopping @ Amman Motor Expo
DESCRIPTION:Winter Shopping @ Amman Motor Expo\nFrom 7-16/12/2016 || everyday from 2:00pm till 10:00pm\nنرحب بكم في معرض اسواق الشتاء، في قاعه معرض عمان الدولي للسيارات\nأسواق الشتاء @ معرض عمان الدولي للسيارات\nمن  7 ديسمبر لغاية 16 ديسمبر 2016\nيوميا من الساعة الثانية ظهرا وحتى العاشرة مساء\nبمشاركة دول الأردن – فلسطين – مصر – باكستان – الهند\nأثاث – ملابس – جلود – تحف – هدايا – العاب اطفال – والمزيد\nاهلًا وسهلا ونتمنى لكم شتاء دافئ كقلوبكم الدافئة\nللاستفسار او لمزيد من المعلومات الاتصال على: 065714311 – 0777303035 – 0797773332
URL:https://www.allspots.com/jo/events/calendar/winter-shopping-amman-motor-expo/
CATEGORIES:Shopping, Fairs & Expos,Suitable For Students
ATTACH;FMTTYPE=image/jpeg:https://www.allspots.com/jo/events/wp-content/uploads/2016/11/winter-shopping-expo.jpg
END:VEVENT
END:VCALENDAR