BEGIN:VCALENDAR
VERSION:2.0
PRODID:-//Jordan events calendar - AllSpots - ECPv5.14.1//NONSGML v1.0//EN
CALSCALE:GREGORIAN
METHOD:PUBLISH
X-WR-CALNAME:Jordan events calendar - AllSpots
X-ORIGINAL-URL:https://www.allspots.com/jo/events
X-WR-CALDESC:Events for Jordan events calendar - AllSpots
BEGIN:VTIMEZONE
TZID:Europe/Helsinki
BEGIN:DAYLIGHT
TZOFFSETFROM:+0200
TZOFFSETTO:+0300
TZNAME:EEST
DTSTART:20160327T010000
END:DAYLIGHT
BEGIN:STANDARD
TZOFFSETFROM:+0300
TZOFFSETTO:+0200
TZNAME:EET
DTSTART:20161030T010000
END:STANDARD
END:VTIMEZONE
BEGIN:VEVENT
DTSTART;VALUE=DATE:20161124
DTEND;VALUE=DATE:20161128
DTSTAMP:20260425T002631
CREATED:20161107T160914Z
LAST-MODIFIED:20161112T103755Z
UID:6577-1479945600-1480219199@www.allspots.com
SUMMARY:VERVE Home exhibition @ Zara Expo
DESCRIPTION:VERVE Home exhibition @ Zara Expo\nFrom 24-26 November 2016\nits about decoration and fabrics\nfor more info 0790202838
URL:https://www.allspots.com/jo/events/calendar/verve-home-exhibition-zara-expo/
LOCATION:Zara Expo – زارا اكسبو\, Next to Grand Hyatt Hotel\, Jabal Amman\, 3rd Circle\, خلف فندق حياة - بجانب الدوار الثالث
CATEGORIES:Shopping, Fairs & Expos,Suitable For Students
ATTACH;FMTTYPE=image/jpeg:https://www.allspots.com/jo/events/wp-content/uploads/2016/11/verve.jpg
END:VEVENT
END:VCALENDAR