BEGIN:VCALENDAR
VERSION:2.0
PRODID:-//Jordan events calendar - AllSpots - ECPv5.14.1//NONSGML v1.0//EN
CALSCALE:GREGORIAN
METHOD:PUBLISH
X-WR-CALNAME:Jordan events calendar - AllSpots
X-ORIGINAL-URL:https://www.allspots.com/jo/events
X-WR-CALDESC:Events for Jordan events calendar - AllSpots
BEGIN:VTIMEZONE
TZID:Europe/Helsinki
BEGIN:DAYLIGHT
TZOFFSETFROM:+0200
TZOFFSETTO:+0300
TZNAME:EEST
DTSTART:20160327T010000
END:DAYLIGHT
BEGIN:STANDARD
TZOFFSETFROM:+0300
TZOFFSETTO:+0200
TZNAME:EET
DTSTART:20161030T010000
END:STANDARD
END:VTIMEZONE
BEGIN:VEVENT
DTSTART;TZID=Europe/Helsinki:20161124T210000
DTEND;TZID=Europe/Helsinki:20161125T013000
DTSTAMP:20260425T221937
CREATED:20161117T124610Z
LAST-MODIFIED:20161123T142930Z
UID:7760-1480021200-1480037400@www.allspots.com
SUMMARY:Thursday's House Night @ Azure Rooftop
DESCRIPTION:Thursday’s House Night @ Azure Rooftop\nJoin us this Thursday for Another Amazing Event feat. our Resident DJ Wassie playing newest House hits you all need to hear! Ask your Waiter for latest promotions and offers!\nTo Reserve please call 077 777 81 61
URL:https://www.allspots.com/jo/events/calendar/thursdays-house-night-azure-rooftop/
CATEGORIES:Nightlife,Parties & Karaoke
ATTACH;FMTTYPE=image/jpeg:https://www.allspots.com/jo/events/wp-content/uploads/2016/11/house-with-wassie.jpg
END:VEVENT
END:VCALENDAR