BEGIN:VCALENDAR
VERSION:2.0
PRODID:-//Jordan events calendar - AllSpots - ECPv5.14.1//NONSGML v1.0//EN
CALSCALE:GREGORIAN
METHOD:PUBLISH
X-WR-CALNAME:Jordan events calendar - AllSpots
X-ORIGINAL-URL:https://www.allspots.com/jo/events
X-WR-CALDESC:Events for Jordan events calendar - AllSpots
BEGIN:VTIMEZONE
TZID:Europe/Helsinki
BEGIN:DAYLIGHT
TZOFFSETFROM:+0200
TZOFFSETTO:+0300
TZNAME:EEST
DTSTART:20170326T010000
END:DAYLIGHT
BEGIN:STANDARD
TZOFFSETFROM:+0300
TZOFFSETTO:+0200
TZNAME:EET
DTSTART:20171029T010000
END:STANDARD
END:VTIMEZONE
BEGIN:VEVENT
DTSTART;VALUE=DATE:20170329
DTEND;VALUE=DATE:20170401
DTSTAMP:20260424T164552
CREATED:20170321T154612Z
LAST-MODIFIED:20170321T154612Z
UID:17418-1490745600-1490932799@www.allspots.com
SUMMARY:The 17th English Language Fair
DESCRIPTION:هل تطمح بأن تصبح ناطق للغة الإنجليزية وبطلاقة؟\nالدولية للتجسير تقدم المعرض التعليمي السابع عشر لدراسة اللغة الإنجليزية بتاريخ 29 و 30 آذار\nقم بتحسين مهارات اللغة الإنجليزية لديك في أفضل معاهد اللغة في أمريكا و بريطانيا و من المتحدثين بها كلغتهم الأم! ا\nنضمن لطلابنا الحصول على أفضل خبرة ممكنه في الدراسة، و في المكان والبلد المرغوب\n!لديهم\nالموقع: فندق لاندمارك – عمان\nالتوقيت: 4:00 – 8:00 مساءً\nللمزيد من المعلومات:\n06-5810137\nللتسجيل:\nhttp://bit.ly/2m877qX
URL:https://www.allspots.com/jo/events/calendar/the-17th-english-language-fair/
CATEGORIES:Shopping, Fairs & Expos,Suitable For Students
ATTACH;FMTTYPE=image/jpeg:https://www.allspots.com/jo/events/wp-content/uploads/2017/03/The-17th-English-Language-Fair.jpg
END:VEVENT
END:VCALENDAR