BEGIN:VCALENDAR
VERSION:2.0
PRODID:-//Jordan events calendar - AllSpots - ECPv5.14.1//NONSGML v1.0//EN
CALSCALE:GREGORIAN
METHOD:PUBLISH
X-WR-CALNAME:Jordan events calendar - AllSpots
X-ORIGINAL-URL:https://www.allspots.com/jo/events
X-WR-CALDESC:Events for Jordan events calendar - AllSpots
BEGIN:VTIMEZONE
TZID:Europe/Helsinki
BEGIN:DAYLIGHT
TZOFFSETFROM:+0200
TZOFFSETTO:+0300
TZNAME:EEST
DTSTART:20160327T010000
END:DAYLIGHT
BEGIN:STANDARD
TZOFFSETFROM:+0300
TZOFFSETTO:+0200
TZNAME:EET
DTSTART:20161030T010000
END:STANDARD
END:VTIMEZONE
BEGIN:VEVENT
DTSTART;TZID=Europe/Helsinki:20161124T190000
DTEND;TZID=Europe/Helsinki:20161124T223000
DTSTAMP:20260425T172225
CREATED:20161122T175013Z
LAST-MODIFIED:20161122T175013Z
UID:8259-1480014000-1480026600@www.allspots.com
SUMMARY:Thanksgiving Dinner Buffet @ The Boulevard Arjaan by Rotana Hotel
DESCRIPTION:Celebrate Thanksgiving Day this year at The Boulevard Arjaan by Rotana Hotel savouring our luscious Dinner Buffet at Café Italia as we offer you a wide festive selection of appetizers and main dishes including live carving turkey station and mouthwatering desserts. \nDate: November 24th \nTiming: 7 – 10:30 PM \nPrice: JOD25* all inclusive per person
URL:https://www.allspots.com/jo/events/calendar/thanksgiving-dinner-buffet-the-boulevard-arjaan-by-rotana-hotel/
CATEGORIES:Food & Drinks,Special Events,Thanksgiving
ATTACH;FMTTYPE=image/jpeg:https://www.allspots.com/jo/events/wp-content/uploads/2016/11/Thanksgiving-Dinner-Buffet.jpg
END:VEVENT
END:VCALENDAR