BEGIN:VCALENDAR
VERSION:2.0
PRODID:-//Jordan events calendar - AllSpots - ECPv5.14.1//NONSGML v1.0//EN
CALSCALE:GREGORIAN
METHOD:PUBLISH
X-WR-CALNAME:Jordan events calendar - AllSpots
X-ORIGINAL-URL:https://www.allspots.com/jo/events
X-WR-CALDESC:Events for Jordan events calendar - AllSpots
BEGIN:VTIMEZONE
TZID:Europe/Helsinki
BEGIN:DAYLIGHT
TZOFFSETFROM:+0200
TZOFFSETTO:+0300
TZNAME:EEST
DTSTART:20160327T010000
END:DAYLIGHT
BEGIN:STANDARD
TZOFFSETFROM:+0300
TZOFFSETTO:+0200
TZNAME:EET
DTSTART:20161030T010000
END:STANDARD
END:VTIMEZONE
BEGIN:VEVENT
DTSTART;TZID=Europe/Helsinki:20161124T183000
DTEND;TZID=Europe/Helsinki:20161124T230000
DTSTAMP:20260425T045416
CREATED:20161116T160636Z
LAST-MODIFIED:20170125T124418Z
UID:7689-1480012200-1480028400@www.allspots.com
SUMMARY:Thanksgiving dinner @ Najla's
DESCRIPTION:Thanksgiving is just around the corner and we’re inviting you to celebrate the festivities with a three-day long gathering of family and friends! \nJoin us at Grandma Najlas for a one of a kind dining experience second to none\, where you’ll enjoy our deliciously juicy Turkey\, International & Arabic style stuffing\, sweet potatos\, broccoli & cream\, onion pie\, our special Burdara dessert and much more! \nTreat yourself and your friends/family this holiday for a cozy dinner done the way Grandma Najla used to! \nBook your tickets in advance for Thursday\, Saturday or Sunday to avoid missing out on this special occasion. Call us on 0795155566! \nWe look forward to having you dine with us!
URL:https://www.allspots.com/jo/events/calendar/thanksgiving-dinner-at-najlas/
CATEGORIES:Food & Drinks,Special Events,Thanksgiving
ATTACH;FMTTYPE=image/jpeg:https://www.allspots.com/jo/events/wp-content/uploads/2016/11/thanksgiving-dinner-at-najlas.jpg
END:VEVENT
END:VCALENDAR