BEGIN:VCALENDAR
VERSION:2.0
PRODID:-//Jordan events calendar - AllSpots - ECPv5.14.1//NONSGML v1.0//EN
CALSCALE:GREGORIAN
METHOD:PUBLISH
X-WR-CALNAME:Jordan events calendar - AllSpots
X-ORIGINAL-URL:https://www.allspots.com/jo/events
X-WR-CALDESC:Events for Jordan events calendar - AllSpots
BEGIN:VTIMEZONE
TZID:Europe/Helsinki
BEGIN:DAYLIGHT
TZOFFSETFROM:+0200
TZOFFSETTO:+0300
TZNAME:EEST
DTSTART:20160327T010000
END:DAYLIGHT
BEGIN:STANDARD
TZOFFSETFROM:+0300
TZOFFSETTO:+0200
TZNAME:EET
DTSTART:20161030T010000
END:STANDARD
END:VTIMEZONE
BEGIN:VEVENT
DTSTART;TZID=Europe/Helsinki:20161119T120000
DTEND;TZID=Europe/Helsinki:20161119T160000
DTSTAMP:20260424T232133
CREATED:20161114T153044Z
LAST-MODIFIED:20161114T153044Z
UID:7417-1479556800-1479571200@www.allspots.com
SUMMARY:Start and Run Open Source DIY Business
DESCRIPTION:IBTECAR is inviting you over to it’s GWE event.\nThe event this year is about getting the open source and DIY community to discuss the opportunities and stories of establishing startups based on open source business models.\nWe will be having some speakers in this field and introducing the\nonline platform of CleanTech.IBTECAR to the community as one of the examples of such business models.\nThis event is part of the European Union in Jordan funded project CleanTech.IBTECAR through SRTD II Program \nSessions: \n– CleanTech.IBTECAR Project\, Jamil Khatib\, Ibtecar\n– Open Innovation\, Mohammad Khair W. Obaidat\n– Introduction to Open Hardware concepts\, Jamil Khatib\, Ibtecar\n– DIY prototyping phases\, Belal Affouri\, MakerPot\n– DIY Examples\, Mohammad Shannak \, Mixed Dimensions Inc\n– 3D Printing Opportunities\, Ahmad Alsoussi\, Printie3D\n– Opportunities of Open Source for startups\, Yousef Wadi\, Nestrom \nRegisteration Link: https://www.eventbrite.com/e/start-and-run-open-source-diy-business-tickets-28963187674\nRecent Posts
URL:https://www.allspots.com/jo/events/calendar/start-and-run-open-source-diy-business/
CATEGORIES:Lectures & Discussions
ATTACH;FMTTYPE=image/jpeg:https://www.allspots.com/jo/events/wp-content/uploads/2016/11/lect-1.jpg
END:VEVENT
END:VCALENDAR