BEGIN:VCALENDAR
VERSION:2.0
PRODID:-//Jordan events calendar - AllSpots - ECPv5.14.1//NONSGML v1.0//EN
CALSCALE:GREGORIAN
METHOD:PUBLISH
X-WR-CALNAME:Jordan events calendar - AllSpots
X-ORIGINAL-URL:https://www.allspots.com/jo/events
X-WR-CALDESC:Events for Jordan events calendar - AllSpots
BEGIN:VTIMEZONE
TZID:Europe/Helsinki
BEGIN:DAYLIGHT
TZOFFSETFROM:+0200
TZOFFSETTO:+0300
TZNAME:EEST
DTSTART:20160327T010000
END:DAYLIGHT
BEGIN:STANDARD
TZOFFSETFROM:+0300
TZOFFSETTO:+0200
TZNAME:EET
DTSTART:20161030T010000
END:STANDARD
END:VTIMEZONE
BEGIN:VEVENT
DTSTART;VALUE=DATE:20161124
DTEND;VALUE=DATE:20161128
DTSTAMP:20260425T002535
CREATED:20161124T151616Z
LAST-MODIFIED:20161124T152601Z
UID:8554-1479945600-1480219199@www.allspots.com
SUMMARY:Shops Weekend Sale @ Taj Mall
DESCRIPTION:Shops Weekend Sale @ Taj Mall\nاستفيدوا من الخصومات الرائعة على كل شيئ في المحلات التالية\nزوروا تاج لايف ستايل اليوم لتستمتعوا بالتخفيضات\nSTRADIVARIUS – 25%\nMANGO – 25% on Everything\nMONSOON – 30%\nGARAGE – 25%\nGAP – 30%\nUS POLO – 25%\nLA VIE EN ROSE – 30%\nOKAIDI – 25%\nCALL IT SPRING – 25%\nALDO – 25%\nSTEVE MADDEN – 25%\nPARFOIS – 25%\nACCESSORIZE – 25%\nALDO ACCS – 25%
URL:https://www.allspots.com/jo/events/calendar/shops-weekend-sale-taj-mall/
CATEGORIES:Sales & Offers,Suitable For Students
ATTACH;FMTTYPE=image/jpeg:https://www.allspots.com/jo/events/wp-content/uploads/2016/11/weekend-sale.jpg
END:VEVENT
END:VCALENDAR