BEGIN:VCALENDAR
VERSION:2.0
PRODID:-//Jordan events calendar - AllSpots - ECPv5.14.1//NONSGML v1.0//EN
CALSCALE:GREGORIAN
METHOD:PUBLISH
X-WR-CALNAME:Jordan events calendar - AllSpots
X-ORIGINAL-URL:https://www.allspots.com/jo/events
X-WR-CALDESC:Events for Jordan events calendar - AllSpots
BEGIN:VTIMEZONE
TZID:Europe/Helsinki
BEGIN:DAYLIGHT
TZOFFSETFROM:+0200
TZOFFSETTO:+0300
TZNAME:EEST
DTSTART:20160327T010000
END:DAYLIGHT
BEGIN:STANDARD
TZOFFSETFROM:+0300
TZOFFSETTO:+0200
TZNAME:EET
DTSTART:20161030T010000
END:STANDARD
END:VTIMEZONE
BEGIN:VEVENT
DTSTART;TZID=Europe/Helsinki:20161203T180000
DTEND;TZID=Europe/Helsinki:20161203T180000
DTSTAMP:20260426T000319
CREATED:20161201T145321Z
LAST-MODIFIED:20161201T145321Z
UID:9528-1480788000-1480788000@www.allspots.com
SUMMARY:Pottery and meditation @ My Pottery Shop
DESCRIPTION:Pottery and meditation @ My Pottery Shop\nورشة عمل صلصال و ساعة تاءمل\nSaturday 3/12/2016 – at 6 PM – 8 PM\nPottery making in itself is profoundly relaxing. Join us as we embark on a two hour clay and meditation session. Come explore the world of pottery making\, and create your own piece of pottery\, while soothing your soul through our guided meditation session by Peace Revolution coaches.
URL:https://www.allspots.com/jo/events/calendar/pottery-and-meditation-my-pottery-shop/
CATEGORIES:Sports & Outdoor,Workshops & Courses
ATTACH;FMTTYPE=image/jpeg:https://www.allspots.com/jo/events/wp-content/uploads/2016/12/magical-pottery4.jpg
END:VEVENT
END:VCALENDAR