BEGIN:VCALENDAR
VERSION:2.0
PRODID:-//Jordan events calendar - AllSpots - ECPv5.14.1//NONSGML v1.0//EN
CALSCALE:GREGORIAN
METHOD:PUBLISH
X-WR-CALNAME:Jordan events calendar - AllSpots
X-ORIGINAL-URL:https://www.allspots.com/jo/events
X-WR-CALDESC:Events for Jordan events calendar - AllSpots
BEGIN:VTIMEZONE
TZID:Europe/Helsinki
BEGIN:DAYLIGHT
TZOFFSETFROM:+0200
TZOFFSETTO:+0300
TZNAME:EEST
DTSTART:20170326T010000
END:DAYLIGHT
BEGIN:STANDARD
TZOFFSETFROM:+0300
TZOFFSETTO:+0200
TZNAME:EET
DTSTART:20171029T010000
END:STANDARD
END:VTIMEZONE
BEGIN:VEVENT
DTSTART;TZID=Europe/Helsinki:20170410T180000
DTEND;TZID=Europe/Helsinki:20170410T200000
DTSTAMP:20260426T012339
CREATED:20170410T154336Z
LAST-MODIFIED:20170410T154336Z
UID:19065-1491847200-1491854400@www.allspots.com
SUMMARY:Photography Exhibition by Alessio Mamo and Fethi Sahraoui
DESCRIPTION:Alessio Mamo\nAlessio Mamo is a Sicilian freelance photographer based in Catania\, Italy. He extensively covers issues related to refugee displacement and migration. His photos are published in magazine such as Time\, Der Spiegel and Newsweek. He is represented by Redux Pictures worldwide. \nDisplaced worshipper\nA journey through the Iraqi Christian’s religious celebrations\, the displacement and the resilience in facing devastation and the ISIS’s tentative of annihilation\, resisting as minority in a still far to reconcile and to stabilize Iraq.\nA project by Alessio Mamo and Marta Bellingreri \nاليسيو مامو\nاليسيو مامو هو مصور مستقل من صقلية يعيش حالي في مدينة كاتانيا الايطالية. يغطي اليسيو قضايا تتعلق بتهجير اللاجئين والهجرة بشكل واسع بدء من صقلية وامتداد إلى الشرق الاوسط مؤخر\nُتنشر صوره في مجلات وصحف يومية وأسبوعية مثل التايم ودير شبيغل ونيوزويك. تقوم وكالة الصور الامريكية ريداكس بيكتشرز بتمثيل عمله حول العالم \nمتعبدون مشردون\nرحلة في احتفالاتهم الدينية، ونزوحهم وصمودهم في وجه الدمار وإبادة داعش المؤقتة، مقاومين كأقلية مسيحية في عراق لا يزال بعيد عن المصالحة والاستقرار\nمشروع لاليسيو مامو ومارتا بيلينجريري \n\nFethi Sahraoui\nBorn in 1993\, in the southern town of Hassi R’mel\, Fethi Sahraoui is a self-taught social documentary photographer\, raised by his grandmother. Fethi is currently I’m preparing a master degree in ‘American Civilization’ in the university of his home town Mascara. Fathi’s passion for photography came from all what is visual around his especially cinema. At the age of 19 Fethi bought his first camera and started wandering and wondering\, today he is a member of the 220 Collective. His quest is to document Algeria. \nB as Bouchentouf\nBorn in 1996\, Bouchentouf is my cousin from the paternal side\, he is the youngest boy in a family of nine. Like the most of his brothers he is a redhead\, Bouchentouf was diagnosed with a mental disease at an early stage in his life\, quit school just after two years of studying in a primary school and lost his father at the age of five.\nفتحي صحراوي\nُولدُت سنة1993،في جنوب الجزائر، مدينة حاسي الرمل، تعّلمت التصوير وحدي لاصير مصّور اجتماعي وثائقي. نشأُت عند جدتي. طالب جامعي في قسم الانجليزية وأحّضر شهادة ماستر في “الحضارة الامريكية” في جامعة مدينتي معسكر. شغفي بالتصوير أتى من كل ماهو بصري خاصة السينما. في سن 19 اشتري تكاميرتي الاولى وبدأت التجّول والاندهاش\nبما أرى. وأنا اليوم عضو في جماعة 220. ما يهمني هو توثيق الجزائر \nب مثل بوشنتوف\nُولَد سنة 1996، بوشنتوف هو ابن عمتي من جهة الاب، أصغر ذكر في عائلة من تسعة أولاد، ومثل أغلب إخوته هو أصهب.اكُتشف عند بوشنتوف مرض عقلي في سنوات حياته الاولى. ترك المدرسة بعد سنتين من الدراسة في المدرسة الابتدائية. مات والده وهو في سن\nالخامسة.
URL:https://www.allspots.com/jo/events/calendar/photography-exhibition-by-alessio-mamo-and-fethi-sahraoui/
CATEGORIES:Art Exhibitions & Galleries,Cultural & Arts
ATTACH;FMTTYPE=image/jpeg:https://www.allspots.com/jo/events/wp-content/uploads/2017/04/Photography-Exhibition-by-Alessio-Mamo-and-Fethi-Sahraoui.jpg
END:VEVENT
END:VCALENDAR