BEGIN:VCALENDAR
VERSION:2.0
PRODID:-//Jordan events calendar - AllSpots - ECPv5.14.1//NONSGML v1.0//EN
CALSCALE:GREGORIAN
METHOD:PUBLISH
X-WR-CALNAME:Jordan events calendar - AllSpots
X-ORIGINAL-URL:https://www.allspots.com/jo/events
X-WR-CALDESC:Events for Jordan events calendar - AllSpots
BEGIN:VTIMEZONE
TZID:Europe/Helsinki
BEGIN:DAYLIGHT
TZOFFSETFROM:+0200
TZOFFSETTO:+0300
TZNAME:EEST
DTSTART:20160327T010000
END:DAYLIGHT
BEGIN:STANDARD
TZOFFSETFROM:+0300
TZOFFSETTO:+0200
TZNAME:EET
DTSTART:20161030T010000
END:STANDARD
END:VTIMEZONE
BEGIN:VEVENT
DTSTART;VALUE=DATE:20161124
DTEND;VALUE=DATE:20161127
DTSTAMP:20260425T033628
CREATED:20161120T155302Z
LAST-MODIFIED:20161120T155302Z
UID:7970-1479945600-1480132799@www.allspots.com
SUMMARY:Palestine Resilience Conference @ InterContinental Jordan
DESCRIPTION:The First Palestine Resilience Conference (PRC) 2016 – From Sumud to Transformative Resilience will provide the space where practitioners\, donors\, government actors\, non-government actors\, and the private sector will meet to think-plan-deliver on how to influence resilience-based programming across the occupied Palestinian territory (oPt). Organized jointly by the Government of Palestine and the United Nations Development Programme/Programme of Assistance to the Palestinian People (UNDP/PAPP)\, the Conference will address key questions and concerns of various stakeholders including whether there is another way to more effectively deliver humanitarian and development interventions that result in real on the ground change and empower individuals\, communities\, and institutions to become less vulnerable to shocks?\nFurther information is available on http://www.palestineresilience.ps/
URL:https://www.allspots.com/jo/events/calendar/palestine-resilience-conference-intercontinental-jordan/
LOCATION:InterContinental Hotel Amman\, Jabal Amman\, 3rd Circle towards 2nd Circle - Islamic College Street\, Amman
CATEGORIES:Lectures & Discussions
ATTACH;FMTTYPE=image/jpeg:https://www.allspots.com/jo/events/wp-content/uploads/2016/11/Palestine-Resilience-Conference.jpg
GEO:31.9453666;35.9283716
X-APPLE-STRUCTURED-LOCATION;VALUE=URI;X-ADDRESS=InterContinental Hotel Amman Jabal Amman 3rd Circle towards 2nd Circle - Islamic College Street Amman;X-APPLE-RADIUS=500;X-TITLE=Jabal Amman\, 3rd Circle towards 2nd Circle - Islamic College Street:geo:35.9283716,31.9453666
END:VEVENT
END:VCALENDAR