BEGIN:VCALENDAR
VERSION:2.0
PRODID:-//Jordan events calendar - AllSpots - ECPv5.14.1//NONSGML v1.0//EN
CALSCALE:GREGORIAN
METHOD:PUBLISH
X-WR-CALNAME:Jordan events calendar - AllSpots
X-ORIGINAL-URL:https://www.allspots.com/jo/events
X-WR-CALDESC:Events for Jordan events calendar - AllSpots
BEGIN:VTIMEZONE
TZID:Europe/Helsinki
BEGIN:DAYLIGHT
TZOFFSETFROM:+0200
TZOFFSETTO:+0300
TZNAME:EEST
DTSTART:20160327T010000
END:DAYLIGHT
BEGIN:STANDARD
TZOFFSETFROM:+0300
TZOFFSETTO:+0200
TZNAME:EET
DTSTART:20161030T010000
END:STANDARD
END:VTIMEZONE
BEGIN:VEVENT
DTSTART;TZID=Europe/Helsinki:20161119T113000
DTEND;TZID=Europe/Helsinki:20161119T113000
DTSTAMP:20260424T211541
CREATED:20161118T125843Z
LAST-MODIFIED:20161118T125843Z
UID:7816-1479555000-1479555000@www.allspots.com
SUMMARY:Once Upon a Time @ The Good Book Shop
DESCRIPTION:Storytelling and crafts for kids 9-14 \nThe Good Book Shop \nSat 19 November @ 11::30 am
URL:https://www.allspots.com/jo/events/calendar/once-upon-a-time-the-good-book-shop/
CATEGORIES:Books & Poetry,Kids & Family
ATTACH;FMTTYPE=image/jpeg:https://www.allspots.com/jo/events/wp-content/uploads/2016/11/good-book-shop-storytelling.jpg
END:VEVENT
END:VCALENDAR