BEGIN:VCALENDAR
VERSION:2.0
PRODID:-//Jordan events calendar - AllSpots - ECPv5.14.1//NONSGML v1.0//EN
CALSCALE:GREGORIAN
METHOD:PUBLISH
X-WR-CALNAME:Jordan events calendar - AllSpots
X-ORIGINAL-URL:https://www.allspots.com/jo/events
X-WR-CALDESC:Events for Jordan events calendar - AllSpots
BEGIN:VTIMEZONE
TZID:Europe/Helsinki
BEGIN:DAYLIGHT
TZOFFSETFROM:+0200
TZOFFSETTO:+0300
TZNAME:EEST
DTSTART:20160327T010000
END:DAYLIGHT
BEGIN:STANDARD
TZOFFSETFROM:+0300
TZOFFSETTO:+0200
TZNAME:EET
DTSTART:20161030T010000
END:STANDARD
END:VTIMEZONE
BEGIN:VEVENT
DTSTART;TZID=Europe/Helsinki:20161123T210000
DTEND;TZID=Europe/Helsinki:20161124T000000
DTSTAMP:20260425T034023
CREATED:20161121T163402Z
LAST-MODIFIED:20161129T102942Z
UID:8087-1479934800-1479945600@www.allspots.com
SUMMARY:Nomads Live @ O SIX Gastro Lounge
DESCRIPTION:Nomads Live @ O SIX Gastro Lounge\nEvery Wednesday Night – 9:00pm onward\nFor the first time\, the Nomads نومادز will be hosted for a nights of your favorite fusion tunes from around the world.\nEntrance is 10 JOD at the door including 1 free drink!\nFor reservations please call: 0799940606\nFeaturing:\nFuad Ramadan Gritli – Lead Vocal / Rhythm Guitar (Libya)\nLaith Al Bandak – Qanoun (Palestine)\nFouad Jeryes – Lead Guitars / Talk Box (Jordan)\nMoatasem Azar – Percussion (Jordan)\nLoay Malahmeh – Banjo / Harmonica / Spoons (Jordan)\nQased Ihsan – Accordion / Bass Guitar (Jordan)
URL:https://www.allspots.com/jo/events/calendar/nomads-live-o-six-every-wednesday/2016-11-23/
LOCATION:O Six Gastro Lounge\, Rooftop of Canyon Boutique Hotel -  4th circle - near Jordan Hospital
CATEGORIES:Live Musical Concerts,Nightlife
ATTACH;FMTTYPE=image/jpeg:https://www.allspots.com/jo/events/wp-content/uploads/2016/11/nomads-live-at-o-six.jpg
GEO:30.585164;36.238414
X-APPLE-STRUCTURED-LOCATION;VALUE=URI;X-ADDRESS=O Six Gastro Lounge Rooftop of Canyon Boutique Hotel -  4th circle - near Jordan Hospital;X-APPLE-RADIUS=500;X-TITLE=Rooftop of Canyon Boutique Hotel -  4th circle - near Jordan Hospital:geo:36.238414,30.585164
END:VEVENT
END:VCALENDAR