BEGIN:VCALENDAR
VERSION:2.0
PRODID:-//Jordan events calendar - AllSpots - ECPv5.14.1//NONSGML v1.0//EN
CALSCALE:GREGORIAN
METHOD:PUBLISH
X-WR-CALNAME:Jordan events calendar - AllSpots
X-ORIGINAL-URL:https://www.allspots.com/jo/events
X-WR-CALDESC:Events for Jordan events calendar - AllSpots
BEGIN:VTIMEZONE
TZID:Europe/Helsinki
BEGIN:DAYLIGHT
TZOFFSETFROM:+0200
TZOFFSETTO:+0300
TZNAME:EEST
DTSTART:20160327T010000
END:DAYLIGHT
BEGIN:STANDARD
TZOFFSETFROM:+0300
TZOFFSETTO:+0200
TZNAME:EET
DTSTART:20161030T010000
END:STANDARD
END:VTIMEZONE
BEGIN:VEVENT
DTSTART;TZID=Europe/Helsinki:20161207T193000
DTEND;TZID=Europe/Helsinki:20161207T233000
DTSTAMP:20260426T021144
CREATED:20161205T103244Z
LAST-MODIFIED:20161205T103350Z
UID:9778-1481139000-1481153400@www.allspots.com
SUMMARY:Natale Evoo Christmas Feast @ Sheraton Al Nabil Hotel
DESCRIPTION:Natale Evoo Christmas Feast @ Sheraton Amman Al Nabil Hotel\nfrom December 17 till 24\, 2016 – 7:30pm till 11:30pm\nRejoice with festive tunes and join us at EVOO for a special Christmas menu. Be merry with your loved ones and take in the festivities. For reservation please call us at 065934111
URL:https://www.allspots.com/jo/events/calendar/natale-evoo-christmas-feast-sheraton-al-nabil-hotel/2016-12-07/
LOCATION:Sheraton Hotel\, Amman\, Jabal Amman\, 5th Circle\, فندق الشيراتون - جبل عمان - الدوار الخامس
CATEGORIES:Christmas Events,Food & Drinks
ATTACH;FMTTYPE=image/jpeg:https://www.allspots.com/jo/events/wp-content/uploads/2016/12/sheraton-feast.jpg
END:VEVENT
END:VCALENDAR