BEGIN:VCALENDAR
VERSION:2.0
PRODID:-//Jordan events calendar - AllSpots - ECPv5.14.1//NONSGML v1.0//EN
CALSCALE:GREGORIAN
METHOD:PUBLISH
X-WR-CALNAME:Jordan events calendar - AllSpots
X-ORIGINAL-URL:https://www.allspots.com/jo/events
X-WR-CALDESC:Events for Jordan events calendar - AllSpots
BEGIN:VTIMEZONE
TZID:Europe/Helsinki
BEGIN:DAYLIGHT
TZOFFSETFROM:+0200
TZOFFSETTO:+0300
TZNAME:EEST
DTSTART:20160327T010000
END:DAYLIGHT
BEGIN:STANDARD
TZOFFSETFROM:+0300
TZOFFSETTO:+0200
TZNAME:EET
DTSTART:20161030T010000
END:STANDARD
END:VTIMEZONE
BEGIN:VEVENT
DTSTART;TZID=Europe/Helsinki:20161124T190000
DTEND;TZID=Europe/Helsinki:20161124T230000
DTSTAMP:20260425T063159
CREATED:20161104T094222Z
LAST-MODIFIED:20161104T094222Z
UID:6340-1480014000-1480028400@www.allspots.com
SUMMARY:Movember it at Grain & Grass @ Grand Hyatt Amman
DESCRIPTION:You Grow it… We’ll Shave it \nAs support to the prostate awareness campaign and celebrating Movember the mustache season \, we decided at Grain & Grass to offer you a free shaving and a free drink by the end of this month at November 24th. \nGrow Your Mustache to show your support !! \nFor more information please call 07 8640 3308
URL:https://www.allspots.com/jo/events/calendar/movember-it-at-grain-grass-grand-hyatt-amman/
LOCATION:Grand Hyatt Amman\, Jabal Amman\, Hussein Bin Ali Street\, Jordan
CATEGORIES:Charity & Fundraisers,Special Events
ATTACH;FMTTYPE=image/jpeg:https://www.allspots.com/jo/events/wp-content/uploads/2016/11/shave.jpg
GEO:31.9453666;35.9283716
X-APPLE-STRUCTURED-LOCATION;VALUE=URI;X-ADDRESS=Grand Hyatt Amman Jabal Amman Hussein Bin Ali Street Jordan;X-APPLE-RADIUS=500;X-TITLE=Jabal Amman\, Hussein Bin Ali Street:geo:35.9283716,31.9453666
END:VEVENT
END:VCALENDAR