BEGIN:VCALENDAR
VERSION:2.0
PRODID:-//Jordan events calendar - AllSpots - ECPv5.14.1//NONSGML v1.0//EN
CALSCALE:GREGORIAN
METHOD:PUBLISH
X-WR-CALNAME:Jordan events calendar - AllSpots
X-ORIGINAL-URL:https://www.allspots.com/jo/events
X-WR-CALDESC:Events for Jordan events calendar - AllSpots
BEGIN:VTIMEZONE
TZID:Europe/Helsinki
BEGIN:DAYLIGHT
TZOFFSETFROM:+0200
TZOFFSETTO:+0300
TZNAME:EEST
DTSTART:20160327T010000
END:DAYLIGHT
BEGIN:STANDARD
TZOFFSETFROM:+0300
TZOFFSETTO:+0200
TZNAME:EET
DTSTART:20161030T010000
END:STANDARD
END:VTIMEZONE
BEGIN:VEVENT
DTSTART;TZID=Europe/Helsinki:20161201T083000
DTEND;TZID=Europe/Helsinki:20161201T083000
DTSTAMP:20260425T140300
CREATED:20161130T095402Z
LAST-MODIFIED:20161130T095822Z
UID:9156-1480581000-1480581000@www.allspots.com
SUMMARY:JEBS: A Hostage Nation - Jordan Private Public Dilaogue
DESCRIPTION:JEBS: A Hostage Nation – Jordan Private Public Dilaogue\n On Thursday 1/12/2016 – at 8:30 AM – 10 AM\nLadies and Gentlemen\,\nThe Young Entrepreneurs Association (YEA) and the Friedrich Naumann Foundation for Liberty (FNF) have the honor of inviting you to our morning Jordan Economic Breakfast Series (JEBS):\nTitle: ” A Hostage Nation-Jordan Private Public Dialogue”\nSpeaker: Mr. Laith Al Qasem\, Chairman Arabian Business Consultants for Development ABCD\nArabic-English interpretation will be provided\nLocation: Sheraton Hotel\nDate: Thursday\, December 1st\, 2016\, 8:30am – 10:00am\nWe would be delighted if you could join us at this event and be thankful for your confirmation at: director@yea.com.jo\nSincerely
URL:https://www.allspots.com/jo/events/calendar/jebs-a-hostage-nation-jordan-private-public-dilaogue/
LOCATION:Sheraton Hotel\, Amman\, Jabal Amman\, 5th Circle\, فندق الشيراتون - جبل عمان - الدوار الخامس
CATEGORIES:Lectures & Discussions,Suitable For Students
ATTACH;FMTTYPE=image/jpeg:https://www.allspots.com/jo/events/wp-content/uploads/2016/11/hostage-nation.jpg
END:VEVENT
END:VCALENDAR