BEGIN:VCALENDAR
VERSION:2.0
PRODID:-//Jordan events calendar - AllSpots - ECPv5.14.1//NONSGML v1.0//EN
CALSCALE:GREGORIAN
METHOD:PUBLISH
X-WR-CALNAME:Jordan events calendar - AllSpots
X-ORIGINAL-URL:https://www.allspots.com/jo/events
X-WR-CALDESC:Events for Jordan events calendar - AllSpots
BEGIN:VTIMEZONE
TZID:Europe/Helsinki
BEGIN:DAYLIGHT
TZOFFSETFROM:+0200
TZOFFSETTO:+0300
TZNAME:EEST
DTSTART:20160327T010000
END:DAYLIGHT
BEGIN:STANDARD
TZOFFSETFROM:+0300
TZOFFSETTO:+0200
TZNAME:EET
DTSTART:20161030T010000
END:STANDARD
END:VTIMEZONE
BEGIN:VEVENT
DTSTART;TZID=Europe/Helsinki:20161124T173000
DTEND;TZID=Europe/Helsinki:20161124T190000
DTSTAMP:20260425T050636
CREATED:20161122T170104Z
LAST-MODIFIED:20161122T170104Z
UID:8220-1480008600-1480014000@www.allspots.com
SUMMARY:Incontro con Paola Caridi
DESCRIPTION:Incontro con la giornalista e scrittrice Paola Caridi\, giovedì 24/11/2016 alle 17:30.\nVisita il suo blog:\nhttp://www.invisiblearabs.com/
URL:https://www.allspots.com/jo/events/calendar/incontro-con-paola-caridi/
CATEGORIES:Lectures & Discussions
ATTACH;FMTTYPE=image/jpeg:https://www.allspots.com/jo/events/wp-content/uploads/2016/11/Incontro-con-Paola-Caridi.jpg
END:VEVENT
END:VCALENDAR