BEGIN:VCALENDAR
VERSION:2.0
PRODID:-//Jordan events calendar - AllSpots - ECPv5.14.1//NONSGML v1.0//EN
CALSCALE:GREGORIAN
METHOD:PUBLISH
X-WR-CALNAME:Jordan events calendar - AllSpots
X-ORIGINAL-URL:https://www.allspots.com/jo/events
X-WR-CALDESC:Events for Jordan events calendar - AllSpots
BEGIN:VTIMEZONE
TZID:Europe/Helsinki
BEGIN:DAYLIGHT
TZOFFSETFROM:+0200
TZOFFSETTO:+0300
TZNAME:EEST
DTSTART:20170326T010000
END:DAYLIGHT
BEGIN:STANDARD
TZOFFSETFROM:+0300
TZOFFSETTO:+0200
TZNAME:EET
DTSTART:20171029T010000
END:STANDARD
END:VTIMEZONE
BEGIN:VEVENT
DTSTART;TZID=Europe/Helsinki:20170328T200000
DTEND;TZID=Europe/Helsinki:20170329T000000
DTSTAMP:20260424T132412
CREATED:20170322T184412Z
LAST-MODIFIED:20170322T184412Z
UID:17502-1490731200-1490745600@www.allspots.com
SUMMARY:FuckUp Nights - Amman VOL 2 - Talks about Failures @ Kegs - House of Ale
DESCRIPTION:FuckUp Nights – Amman VOL 2 – Talks about Failures @ Kegs – House of Ale\nTuesday\, March 28 at 8 PM – 11:59 PM\nLET’S TALK ABOUT FAILURES – Tired of hearing about amazing success stories\, achievements\, and the glories of all these people and their never ending successes? Well then\, this is the place to be\nNo rainbows – No butterflies – No happily ever after 😉\nWHAT IS FUN Amman – FuckUp Nights is a global movement that started in Mexico in 2012 that shares business failure stories publicly. Hundreds of people attend each event to hear three to four entrepreneurs share their failures and we are super hyped to start this here in Jordan.\nHOW WE ROLL – Each speaker is given 7 minutes and is able to use 10 images. After each speaker\, there’s a question/answer session\, as well as time for networking.\nWHO IS SPEAKING – Stay tuned – Announcing speakers shortly.\nWHERE – Kegs – House of Ale\nWHEN – TUESDAY 28 March || DOORS 8PM – TALKS 9PM\nWHY SHOULD I COME – Learn from others mistakes and journey’s while you enjoy a complimentary Carakale beer upon entry 🙂\nHOW MUCH – FREE\nWHO SUPPORTS US – Carakale Brewing Company – Malahi – Mlabbas – Kegs – House of Ale\nMORE INFO – Contact hello@malahi.co or call us at 0796163606
URL:https://www.allspots.com/jo/events/calendar/fuckup-nights-amman-vol-2-talks-about-failures-kegs-house-of-ale/
LOCATION:Kegs – House of Ale\, Jabal Amman\, Hussein Bin Ali Street 
CATEGORIES:Nightlife,Special Events
ATTACH;FMTTYPE=image/jpeg:https://www.allspots.com/jo/events/wp-content/uploads/2017/03/hu-media.jpg
END:VEVENT
END:VCALENDAR