BEGIN:VCALENDAR
VERSION:2.0
PRODID:-//Jordan events calendar - AllSpots - ECPv5.14.1//NONSGML v1.0//EN
CALSCALE:GREGORIAN
METHOD:PUBLISH
X-WR-CALNAME:Jordan events calendar - AllSpots
X-ORIGINAL-URL:https://www.allspots.com/jo/events
X-WR-CALDESC:Events for Jordan events calendar - AllSpots
BEGIN:VTIMEZONE
TZID:Europe/Helsinki
BEGIN:DAYLIGHT
TZOFFSETFROM:+0200
TZOFFSETTO:+0300
TZNAME:EEST
DTSTART:20160327T010000
END:DAYLIGHT
BEGIN:STANDARD
TZOFFSETFROM:+0300
TZOFFSETTO:+0200
TZNAME:EET
DTSTART:20161030T010000
END:STANDARD
END:VTIMEZONE
BEGIN:VEVENT
DTSTART;TZID=Europe/Helsinki:20161125T123000
DTEND;TZID=Europe/Helsinki:20161125T153000
DTSTAMP:20260425T180538
CREATED:20161122T175416Z
LAST-MODIFIED:20161123T112237Z
UID:8262-1480077000-1480087800@www.allspots.com
SUMMARY:French Brunch Buffet @ Café Margaux
DESCRIPTION:Celebrate your weekend in a French way!\nFrench Brunch Buffet @ Café Margaux\non Friday 25th & Saturday 26th\, November \n12:30 PM – 3:30 PM \nGet together with family and friends and spend quality time over Brunch at Café Margaux; as we offer you rich French cuisine delicacies on the occasion of The French Week at The Boulevard. Make it a special weekend. \nThe French Brunch Buffet offers a rich breakfast bar\, salads variety\, French hot dishes\, live stations and a delightful Desserts bar for JOD25* per person.
URL:https://www.allspots.com/jo/events/calendar/french-brunch-buffet-cafe-margaux/2016-11-25/
CATEGORIES:Food & Drinks
ATTACH;FMTTYPE=image/jpeg:https://www.allspots.com/jo/events/wp-content/uploads/2016/11/French-Brunch-Buffet.jpg
END:VEVENT
END:VCALENDAR