BEGIN:VCALENDAR
VERSION:2.0
PRODID:-//Jordan events calendar - AllSpots - ECPv5.14.1//NONSGML v1.0//EN
CALSCALE:GREGORIAN
METHOD:PUBLISH
X-WR-CALNAME:Jordan events calendar - AllSpots
X-ORIGINAL-URL:https://www.allspots.com/jo/events
X-WR-CALDESC:Events for Jordan events calendar - AllSpots
BEGIN:VTIMEZONE
TZID:Europe/Helsinki
BEGIN:DAYLIGHT
TZOFFSETFROM:+0200
TZOFFSETTO:+0300
TZNAME:EEST
DTSTART:20160327T010000
END:DAYLIGHT
BEGIN:STANDARD
TZOFFSETFROM:+0300
TZOFFSETTO:+0200
TZNAME:EET
DTSTART:20161030T010000
END:STANDARD
END:VTIMEZONE
BEGIN:VEVENT
DTSTART;TZID=Europe/Helsinki:20161125T133000
DTEND;TZID=Europe/Helsinki:20161125T143000
DTSTAMP:20260425T142754
CREATED:20161121T165731Z
LAST-MODIFIED:20161121T165731Z
UID:8102-1480080600-1480084200@www.allspots.com
SUMMARY:Free Workshop: Color your SCARF
DESCRIPTION:In the framework of the UN Campaign “16 Days of Activism Against Gender Based Violence” UNESCO Amman Office and The Ghor el Safi Women’s Association are organizing a free workshop to show support for the UN campaign. The event is organized in cooperation with UN Jordan الأمم المتحدة – الأردن and UN Women Jordan.\nThe workshop will be conducted by the members of the Ghor el Safi Association for Social Development who are dye experts and own a handicrafts brand that produced handmade products using just natural dyes such as iron\, pomegranate\, madder or tea. Pease visit the Facebook Page Safi Crafts صافي كرافتس and check the Event “Colors of Jordan”: https://www.facebook.com/events/151468718655895/ \nThe workshop will teach you how to color a trendy scarf using just natural products. Of course\, the color will be orange as it is the color of the UN Campaign and you will take home the scarf! \nThe workshop is free of charge and will host up to 20 people. Book your spot at https://www.sajilni.com/event/color-your-scarf-with-natural-orange-dyes-and-show-your-support\nJust attendees registered at “sajilni” will\, be accepted and able to participate in the workshop.\nTo learn more about the campaign visit: http://www.unwomen.org/en/what-we-do/ending-violence-against-women/take-action/16-days-of-activism\nضِمن إطار حملة الـ 16 يوماً لمُناهضة العُنف ضِد المرأة ينظم مكتب اليونسكو عمان بالشراكة مع جمعية سيدات غور الصافي للتنمية الإجتماعية ورشة عمل مجانية لدعم حملة الـ 16 يوم لمناهضة العنف. الفعالية تنظم بالتعاون مع الأمم المتحدة في الأردن وهيئة الأمم المتحدة للمرأة.\nوستقام ورشة العمل من قبل عضوات جمعية سيدات غور الصافي للتنمية الإجتماعية وهن خبيرات صباغة منتجات يدوية ويملكن العلامة التجارية للحرف اليدوية – صافي كرافتس.\nصافي كرافتس هي منتجات يدوية يتم صباغتها من قبل سيدات منطقة غور الصافي بإستخدام الموارد الطبيعية مثل الرمان، و الحديد، و الكافور، و نبات الفوة، و الشاي.\nللمزيد من التفاصيل يرجى زيارة صفحة الفيس بوك التالية: https://web.facebook.com/events/151468718655895/\nورشة العمل ستزود المشاركين بتفاصيل كيفية صباغة وشاح عصري باستخدام المنتجات الطبيعية فقط.\nسيستخدم اللون البرتقالي الذي يعبر عن حملة الـ 16 يوم لمناهضة العنف ضد المرأة في صباغة الأوشحة حيث ستقدم الأوشحة كهدية للمشاركين في ورشة العمل.\nورشة العمل مجانية لأول 20 شخص يقوم بالتسجيل من خلال الرابط التالي: \nhttps://www.sajilni.com/event/color-your-scarf-with-natural-orange-dyes-and-show-your-support\nأرجو طباعة ورقة التسجيل واحضارها معكم. \nلمزيد من التفاصيل عن حملة الـ 16 يوم لمناهضة المرأة يرجى زيارة الموقع التالي:\nhttp://www.unwomen.org/en/what-we-do/ending-violence-against-women/take-action/16-days-of-activism
URL:https://www.allspots.com/jo/events/calendar/free-workshop-color-your-scarf/
CATEGORIES:Workshops & Courses
ATTACH;FMTTYPE=image/jpeg:https://www.allspots.com/jo/events/wp-content/uploads/2016/11/Free-Workshop-Color-your-SCARF.jpg
END:VEVENT
END:VCALENDAR