BEGIN:VCALENDAR
VERSION:2.0
PRODID:-//Jordan events calendar - AllSpots - ECPv5.14.1//NONSGML v1.0//EN
CALSCALE:GREGORIAN
METHOD:PUBLISH
X-WR-CALNAME:Jordan events calendar - AllSpots
X-ORIGINAL-URL:https://www.allspots.com/jo/events
X-WR-CALDESC:Events for Jordan events calendar - AllSpots
BEGIN:VTIMEZONE
TZID:Europe/Helsinki
BEGIN:DAYLIGHT
TZOFFSETFROM:+0200
TZOFFSETTO:+0300
TZNAME:EEST
DTSTART:20170326T010000
END:DAYLIGHT
BEGIN:STANDARD
TZOFFSETFROM:+0300
TZOFFSETTO:+0200
TZNAME:EET
DTSTART:20171029T010000
END:STANDARD
END:VTIMEZONE
BEGIN:VEVENT
DTSTART;TZID=Europe/Helsinki:20170410T120000
DTEND;TZID=Europe/Helsinki:20170410T120000
DTSTAMP:20260426T073141
CREATED:20170406T164009Z
LAST-MODIFIED:20170406T164009Z
UID:18855-1491825600-1491825600@www.allspots.com
SUMMARY:Cooking Session: Éclair @ Cozmo\, Taj Mall
DESCRIPTION:Cooking Session: Éclair @ Cozmo\, Taj Mall\nOn Monday 10/4/2017 – 12:00pm\nJoin us Monday at 12 PM for a special cooking session with Chef Fatima Al Sharabati’s signature dish Éclair! A special thanks to Al Bayraq stores who will be distributing some great gifts\nانضموا الينا في مطبخ كوزمو يوم الإثنين الساعة 12 ظهراً، لتتعلموا طريقة عمل الإكلير على طريقة الشيف فاطمة الشرباتي. شكر خاص لمخازن البيرق التجارية للتموين على المساهمة في هذه الفعالية
URL:https://www.allspots.com/jo/events/calendar/cooking-session-eclair-cozmo-taj-mall/
CATEGORIES:Suitable For Students,Workshops & Courses
ATTACH;FMTTYPE=image/jpeg:https://www.allspots.com/jo/events/wp-content/uploads/2017/04/eclair.jpg
END:VEVENT
END:VCALENDAR