BEGIN:VCALENDAR
VERSION:2.0
PRODID:-//Jordan events calendar - AllSpots - ECPv5.14.1//NONSGML v1.0//EN
CALSCALE:GREGORIAN
METHOD:PUBLISH
X-WR-CALNAME:Jordan events calendar - AllSpots
X-ORIGINAL-URL:https://www.allspots.com/jo/events
X-WR-CALDESC:Events for Jordan events calendar - AllSpots
BEGIN:VTIMEZONE
TZID:Europe/Helsinki
BEGIN:DAYLIGHT
TZOFFSETFROM:+0200
TZOFFSETTO:+0300
TZNAME:EEST
DTSTART:20160327T010000
END:DAYLIGHT
BEGIN:STANDARD
TZOFFSETFROM:+0300
TZOFFSETTO:+0200
TZNAME:EET
DTSTART:20161030T010000
END:STANDARD
END:VTIMEZONE
BEGIN:VEVENT
DTSTART;VALUE=DATE:20161124
DTEND;VALUE=DATE:20161125
DTSTAMP:20260425T020755
CREATED:20161108T170215Z
LAST-MODIFIED:20161112T102154Z
UID:6749-1479945600-1479956400@www.allspots.com
SUMMARY:Colors of Jordan: The Indigo Edition @ Shams El Balad Cafe
DESCRIPTION:Colors of Jordan: The Indigo Edition @ Shams El Balad Cafe\nBazar | Workshops | Lectures | Local Food\n On 24th\, 25th & 26th\, November 2016\nOpening Ceremony: Thursday 24th of November\, 2016\nBazaar and Activities: Friday 25th and Saturday 26th of November: from 10am to 9pm\nFor more information please call Shams El Balad at 064651150 \nThis event is organized in the Framework of the UNESCO Project “Empowering Rural Women and Increasing Resilience in the Jordan Valley”\, funded by the Drosos Foundation.\n“Colors Of Jordan. The Indigo Edition” will contribute to promoting the handicrafts brand of The Ghor el Safi Women’s Association for Social Development\, Safi Crafts. Safi Crafts produces handmade products dyed by local women from Ghor el Safi using natural resources such as pomegranate\, iron\, eucalyptus\, madder or tea. One of their most precious and unique dyes is Indigo\, a crop that was cultivated in Ancient Times in Jordan which gives a dark natural blue color. The UNESCO Project has re-introduced its cultivation in Jordan and revived the traditional know-how of dyeing with Indigo. The event will include Kids activities\, workshops on natural dyes and lectures. \n 
URL:https://www.allspots.com/jo/events/calendar/colors-of-jordan-the-indigo-edition-shams-el-balad-cafe/
CATEGORIES:Food & Drinks,Shopping, Fairs & Expos,Suitable For Students,Workshops & Courses
ATTACH;FMTTYPE=image/jpeg:https://www.allspots.com/jo/events/wp-content/uploads/2016/11/colors-of-jordan.jpg
END:VEVENT
END:VCALENDAR