BEGIN:VCALENDAR
VERSION:2.0
PRODID:-//Jordan events calendar - AllSpots - ECPv5.14.1//NONSGML v1.0//EN
CALSCALE:GREGORIAN
METHOD:PUBLISH
X-WR-CALNAME:Jordan events calendar - AllSpots
X-ORIGINAL-URL:https://www.allspots.com/jo/events
X-WR-CALDESC:Events for Jordan events calendar - AllSpots
BEGIN:VTIMEZONE
TZID:Europe/Helsinki
BEGIN:DAYLIGHT
TZOFFSETFROM:+0200
TZOFFSETTO:+0300
TZNAME:EEST
DTSTART:20160327T010000
END:DAYLIGHT
BEGIN:STANDARD
TZOFFSETFROM:+0300
TZOFFSETTO:+0200
TZNAME:EET
DTSTART:20161030T010000
END:STANDARD
END:VTIMEZONE
BEGIN:VEVENT
DTSTART;TZID=Europe/Helsinki:20161125T180000
DTEND;TZID=Europe/Helsinki:20161125T210000
DTSTAMP:20260425T064657
CREATED:20161102T120850Z
LAST-MODIFIED:20161119T090720Z
UID:6060-1480096800-1480107600@www.allspots.com
SUMMARY:Christmas Tree Lighting @ Orthodox Club\, Abdoun
DESCRIPTION:Christmas Tree Lighting @ Orthodox Club\, Abdoun\n On Friday 25/11/2016 – 6:00pm until 10:00pm\nحفل اضاءة شجرة عيد الميلاد المجيد الذي يقيمه النادي الأرثوذكسي بمشاركة كورال المدرسة الوطنية الأرثوذكسية وموسيقات مجموعات كشافة عمانن الأرثوذكسية\nمساء يوم الجمعة الموافق 25/11/2016 – الساعة السادسة مساء في صالة أميل حداد الرياضية
URL:https://www.allspots.com/jo/events/calendar/christmas-tree-lighting-orthodox-club-abdoun/
LOCATION:Orthodox Club\, Abdoun\, near Abdoun Circle\, Amman
CATEGORIES:Christmas Events
ATTACH;FMTTYPE=image/jpeg:https://www.allspots.com/jo/events/wp-content/uploads/2016/11/chritsmas-tree-at-orthodox-cluub.jpg
GEO:31.9453666;35.9283716
X-APPLE-STRUCTURED-LOCATION;VALUE=URI;X-ADDRESS=Orthodox Club Abdoun near Abdoun Circle Amman;X-APPLE-RADIUS=500;X-TITLE=Abdoun\, near Abdoun Circle:geo:35.9283716,31.9453666
END:VEVENT
END:VCALENDAR