BEGIN:VCALENDAR
VERSION:2.0
PRODID:-//Jordan events calendar - AllSpots - ECPv5.14.1//NONSGML v1.0//EN
CALSCALE:GREGORIAN
METHOD:PUBLISH
X-WR-CALNAME:Jordan events calendar - AllSpots
X-ORIGINAL-URL:https://www.allspots.com/jo/events
X-WR-CALDESC:Events for Jordan events calendar - AllSpots
BEGIN:VTIMEZONE
TZID:Europe/Helsinki
BEGIN:DAYLIGHT
TZOFFSETFROM:+0200
TZOFFSETTO:+0300
TZNAME:EEST
DTSTART:20160327T010000
END:DAYLIGHT
BEGIN:STANDARD
TZOFFSETFROM:+0300
TZOFFSETTO:+0200
TZNAME:EET
DTSTART:20161030T010000
END:STANDARD
END:VTIMEZONE
BEGIN:VEVENT
DTSTART;TZID=Europe/Helsinki:20161208T170000
DTEND;TZID=Europe/Helsinki:20161208T170000
DTSTAMP:20260426T070806
CREATED:20161205T120955Z
LAST-MODIFIED:20161205T134027Z
UID:9897-1481216400-1481216400@www.allspots.com
SUMMARY:Christmas Storytelling @ Readers\, 7th Circle
DESCRIPTION:Christmas Storytelling @ Readers\, 7th Circle\nOn Thursday 8/12/2016 – at 5 pm\nPass by our 7th circle branch for an enchanting Christmas tale by the fabulous Shalabieh!\nSign up by calling us on 065828488
URL:https://www.allspots.com/jo/events/calendar/christmas-storytelling-readers-7th-circle/
CATEGORIES:Books & Poetry,Christmas Events,Kids & Family
ATTACH;FMTTYPE=image/jpeg:https://www.allspots.com/jo/events/wp-content/uploads/2016/12/cjhristmas-stories.jpg
END:VEVENT
END:VCALENDAR