BEGIN:VCALENDAR
VERSION:2.0
PRODID:-//Jordan events calendar - AllSpots - ECPv5.14.1//NONSGML v1.0//EN
CALSCALE:GREGORIAN
METHOD:PUBLISH
X-WR-CALNAME:Jordan events calendar - AllSpots
X-ORIGINAL-URL:https://www.allspots.com/jo/events
X-WR-CALDESC:Events for Jordan events calendar - AllSpots
BEGIN:VTIMEZONE
TZID:Europe/Helsinki
BEGIN:DAYLIGHT
TZOFFSETFROM:+0200
TZOFFSETTO:+0300
TZNAME:EEST
DTSTART:20160327T010000
END:DAYLIGHT
BEGIN:STANDARD
TZOFFSETFROM:+0300
TZOFFSETTO:+0200
TZNAME:EET
DTSTART:20161030T010000
END:STANDARD
END:VTIMEZONE
BEGIN:VEVENT
DTSTART;VALUE=DATE:20161124
DTEND;VALUE=DATE:20161128
DTSTAMP:20260425T002355
CREATED:20161101T122635Z
LAST-MODIFIED:20161101T122845Z
UID:5928-1479945600-1480219199@www.allspots.com
SUMMARY:Christmas Bazaar @ The Wine Maker
DESCRIPTION:The Annual Christmas Bazaar @ The Wine Maker\nNovember 24 – November 26\, 2016\nThe Winemaker Annual Christmas Bazaar is back.\nEat\, drink and be Merry.\nFeaturing an attractive discount to celebrate this glorious season.\nThursday 24th of November 6:00 pm – 10:00 pm\nFriday 25th of November 11:00 am – 10:00 pm\nSaturday 26th of November 11:00 am – 10:00 pm
URL:https://www.allspots.com/jo/events/calendar/christmas-bazaar-the-wine-maker/
CATEGORIES:Christmas Events,Shopping, Fairs & Expos
ATTACH;FMTTYPE=image/jpeg:https://www.allspots.com/jo/events/wp-content/uploads/2016/11/christmas-bazaar.jpg
END:VEVENT
END:VCALENDAR