BEGIN:VCALENDAR
VERSION:2.0
PRODID:-//Jordan events calendar - AllSpots - ECPv5.14.1//NONSGML v1.0//EN
CALSCALE:GREGORIAN
METHOD:PUBLISH
X-WR-CALNAME:Jordan events calendar - AllSpots
X-ORIGINAL-URL:https://www.allspots.com/jo/events
X-WR-CALDESC:Events for Jordan events calendar - AllSpots
BEGIN:VTIMEZONE
TZID:UTC
BEGIN:STANDARD
TZOFFSETFROM:+0000
TZOFFSETTO:+0000
TZNAME:UTC
DTSTART:20160101T000000
END:STANDARD
END:VTIMEZONE
BEGIN:VEVENT
DTSTART;VALUE=DATE:20161124
DTEND;VALUE=DATE:20161129
DTSTAMP:20260425T002736
CREATED:20161031T112537Z
LAST-MODIFIED:20161127T085543Z
UID:5843-1479945600-1480305599@www.allspots.com
SUMMARY:Christmas Bazaar @ Roman Catholic Church\, Um Summaq
DESCRIPTION:تحت رعاية صاحبة السمو الملكي\nالأميرة نور بنت عاصم المعظمة\nتتشرف مجموعة كشافة ومرشدات مطرانية الروم الكاثوليك – أم السماق بدعوتكم لحضور\n بازار الوحدة الوطنية – Christmas Bazar\nالمكان: مطرانية الروم الكاثوليك – ام السماق\nبمناسبة عيد الميلاد المجيد ورأس السنة الميلادية 2017\nوذلك حسب المواعيد التالية\nيوم الخميس  24/11/2016 الافتتاح الساعة السابعة عصرا ولغاية الحادية عشر ليلا\nالساعة السابعة والنصف حضور الفنان توفيق الدلو وتقديم عرض غنائي\nيوم الجمعة 25/11/2016 من الساعة الثانية عشر ظهرا ولغاية الساعة العاشرة ليلا\nالساعة الواحدة والنصف ظهرا حفلة للاطفال مع فريق\nFunzzy Funzz\nالساعة السادسة حضور شخصيات وطنية شبابية\nيوم السبت 26/11/2016 من الساعة الرابعة عصرا ولغاية العاشرة مساءا\nالساعة السابعة حضور جوقة ينبوع المحبة وتقديم أمسية تراتيل\n: يوم الاحد 27/11/2016 من الساعة التاسعة صباحا ولغاية الساعة العاشرة مساءا\nالساعة السابعة والنصف مساء حضور شبيبة الاردن للدراما المسيحية وتقديم عرض للاطفال\nيوجد منطقة مخصصة للألعاب والمأكولات\nيرصد ريع البازار لدعم ذوي الاحتياجات الخاصة\nبالمحبة والوحدة يدا بيد نصنع المعجزات في حياة احبائنا وعائلتها المحتاجة\nالدخول لجميع الفعاليات مجاني\n،،، المسيح ولد فمجدوه ،،،\nللاستفسار : طارق مسلم : 0795353115
URL:https://www.allspots.com/jo/events/calendar/christmas-bazaar-roman-catholic-church-um-summaq/
CATEGORIES:Christmas Events,Shopping, Fairs & Expos
END:VEVENT
END:VCALENDAR