BEGIN:VCALENDAR
VERSION:2.0
PRODID:-//Jordan events calendar - AllSpots - ECPv5.14.1//NONSGML v1.0//EN
CALSCALE:GREGORIAN
METHOD:PUBLISH
X-WR-CALNAME:Jordan events calendar - AllSpots
X-ORIGINAL-URL:https://www.allspots.com/jo/events
X-WR-CALDESC:Events for Jordan events calendar - AllSpots
BEGIN:VTIMEZONE
TZID:Europe/Helsinki
BEGIN:DAYLIGHT
TZOFFSETFROM:+0200
TZOFFSETTO:+0300
TZNAME:EEST
DTSTART:20160327T010000
END:DAYLIGHT
BEGIN:STANDARD
TZOFFSETFROM:+0300
TZOFFSETTO:+0200
TZNAME:EET
DTSTART:20161030T010000
END:STANDARD
END:VTIMEZONE
BEGIN:VEVENT
DTSTART;TZID=Europe/Helsinki:20161203T160000
DTEND;TZID=Europe/Helsinki:20161203T160000
DTSTAMP:20260425T174003
CREATED:20161130T102640Z
LAST-MODIFIED:20161130T102723Z
UID:9157-1480780800-1480780800@www.allspots.com
SUMMARY:Children's Film "Arthur Christmas" @ Shoman Foundation
DESCRIPTION:سينما الأطفال في مؤسسة عبد الحميد شومان/ درب المعرفة، تقدم فيلم الأطفال “ارثر كريسماس” وذلك يوم السبت الموافق 3/12/2016 الساعة 4 مساءً\nيحصل ابن سانتا الأخرق آرثر على مهمة و هي توصيل هدية عيد الميلاد لفتاة صغيرة بأقل من ساعتين\nملاحظة: العرض مخصص للأطفال أعمار 7-11 عاماً\nThe Children Cinema at Abdul Hameed Shoman Foundation/ Knowledge Path Library Presents “Arthur Christmasi” on Saturday\, the 3rd of December at 4:00 pm.\nSanta’s clumsy son Arthur gets put on a mission to give out a present they misplaced to a young girl in less than 2 hours.\nNote: For children ages 7-11 years
URL:https://www.allspots.com/jo/events/calendar/childrens-film-arthur-christmas-shoman-foundation/
LOCATION:Abdul Hameed Shoman Foundation – مؤسسة عبدالحميد شومان\,  Jabal Amman\, between 2nd and 1st Circle\, Al Kulliyah Al Elmiyah Al Eslamiyah Street\, Building #15 - Maraqa Commercial Complex \,  جبل عمان\, بين الدوار الثاني والاول - شارع الكلية العلمية الاسلامية - عمارة رقم 15\, Amman
CATEGORIES:Kids & Family,Movies & Film,Suitable For Students
ATTACH;FMTTYPE=image/jpeg:https://www.allspots.com/jo/events/wp-content/uploads/2016/11/arthur-christmas.jpg
END:VEVENT
END:VCALENDAR