BEGIN:VCALENDAR
VERSION:2.0
PRODID:-//Jordan events calendar - AllSpots - ECPv5.14.1//NONSGML v1.0//EN
CALSCALE:GREGORIAN
METHOD:PUBLISH
X-WR-CALNAME:Jordan events calendar - AllSpots
X-ORIGINAL-URL:https://www.allspots.com/jo/events
X-WR-CALDESC:Events for Jordan events calendar - AllSpots
BEGIN:VTIMEZONE
TZID:Europe/Helsinki
BEGIN:DAYLIGHT
TZOFFSETFROM:+0200
TZOFFSETTO:+0300
TZNAME:EEST
DTSTART:20160327T010000
END:DAYLIGHT
BEGIN:STANDARD
TZOFFSETFROM:+0300
TZOFFSETTO:+0200
TZNAME:EET
DTSTART:20161030T010000
END:STANDARD
BEGIN:DAYLIGHT
TZOFFSETFROM:+0200
TZOFFSETTO:+0300
TZNAME:EEST
DTSTART:20170326T010000
END:DAYLIGHT
BEGIN:STANDARD
TZOFFSETFROM:+0300
TZOFFSETTO:+0200
TZNAME:EET
DTSTART:20171029T010000
END:STANDARD
END:VTIMEZONE
BEGIN:VEVENT
DTSTART;VALUE=DATE:20161201
DTEND;VALUE=DATE:20170102
DTSTAMP:20260426T071331
CREATED:20161201T145013Z
LAST-MODIFIED:20161201T145013Z
UID:9526-1480550400-1483243199@www.allspots.com
SUMMARY:30% - 50% Sale @ Hamleys
DESCRIPTION:30% – 50% Sale @ Hamleys\nOffer is valid until 31/12/2016\nPass by Hamleys today & enjoy 30% – 50% off a wide range of products!\nFor more information please call Hamleys branches:\n• Mecca Street: 065511332\n• Abdoun: 065930127\n• City Mall: 065816478\n• Taj Lifestyle: 065920823\n• Cozmo Centre: 065501240 Ext.1138\n• Abdali Mall: 064011246 – 064011247
URL:https://www.allspots.com/jo/events/calendar/30-50-sale-hamleys/
CATEGORIES:Sales & Offers,Suitable For Students
ATTACH;FMTTYPE=image/jpeg:https://www.allspots.com/jo/events/wp-content/uploads/2016/12/hamleys-sale.jpg
END:VEVENT
BEGIN:VEVENT
DTSTART;VALUE=DATE:20161207
DTEND;VALUE=DATE:20161218
DTSTAMP:20260426T071331
CREATED:20161102T123820Z
LAST-MODIFIED:20161126T113035Z
UID:6087-1481068800-1481947199@www.allspots.com
SUMMARY:Winter Shopping @ Amman Motor Expo
DESCRIPTION:Winter Shopping @ Amman Motor Expo\nFrom 7-16/12/2016 || everyday from 2:00pm till 10:00pm\nنرحب بكم في معرض اسواق الشتاء، في قاعه معرض عمان الدولي للسيارات\nأسواق الشتاء @ معرض عمان الدولي للسيارات\nمن  7 ديسمبر لغاية 16 ديسمبر 2016\nيوميا من الساعة الثانية ظهرا وحتى العاشرة مساء\nبمشاركة دول الأردن – فلسطين – مصر – باكستان – الهند\nأثاث – ملابس – جلود – تحف – هدايا – العاب اطفال – والمزيد\nاهلًا وسهلا ونتمنى لكم شتاء دافئ كقلوبكم الدافئة\nللاستفسار او لمزيد من المعلومات الاتصال على: 065714311 – 0777303035 – 0797773332
URL:https://www.allspots.com/jo/events/calendar/winter-shopping-amman-motor-expo/
CATEGORIES:Shopping, Fairs & Expos,Suitable For Students
ATTACH;FMTTYPE=image/jpeg:https://www.allspots.com/jo/events/wp-content/uploads/2016/11/winter-shopping-expo.jpg
END:VEVENT
BEGIN:VEVENT
DTSTART;VALUE=DATE:20161209
DTEND;VALUE=DATE:20170102
DTSTAMP:20260426T071331
CREATED:20161209T175145Z
LAST-MODIFIED:20161209T175815Z
UID:10314-1481241600-1483243199@www.allspots.com
SUMMARY:Toys Discount @ AlShalati
DESCRIPTION:Sale Up To 70% On Toys\nToys Discount @ AlShalati\nCome & Visit Us Now To Enjoy The Discount On More Than 200 Items..\nMerry Christmas\nOFFER Valid Till 31-Dec-2016
URL:https://www.allspots.com/jo/events/calendar/toys-discount-alshalati/
CATEGORIES:Sales & Offers,Suitable For Students
ATTACH;FMTTYPE=image/jpeg:https://www.allspots.com/jo/events/wp-content/uploads/2016/12/shalati.jpg
END:VEVENT
BEGIN:VEVENT
DTSTART;VALUE=DATE:20161210
DTEND;VALUE=DATE:20161218
DTSTAMP:20260426T071331
CREATED:20161121T164359Z
LAST-MODIFIED:20161122T111727Z
UID:8099-1481328000-1481947199@www.allspots.com
SUMMARY:Christmas Market @ Marriott hotel\, Amman
DESCRIPTION:It’s beginning to look a lot like Christmas! \nThe enticing smell of mulled wine and hot chocolate\, roasted almonds\, bratwurst and gingerbread fill the air. And it’s not only tiny tots who will have their eyes all a-glow as the Santa Claus appears! 50 vendors will display their wonderful gifts and handicrafted presents. An Elf tent will entertain children and teens\, decorating Christmas ornaments and making cookies. \nSo come and join to a truly authentic German & Austrian Christmas market!
URL:https://www.allspots.com/jo/events/calendar/christmas-market-marriott-hotel-amman/
LOCATION:Marriott Hotel\, Amman\, Issam Al Ajlouni Street\, Shmeissani\, Jordan
CATEGORIES:Christmas Events,Shopping, Fairs & Expos,Special Events
ATTACH;FMTTYPE=image/jpeg:https://www.allspots.com/jo/events/wp-content/uploads/2016/11/christmas-market-at-marriott-amman.jpg
GEO:31.9453666;35.9283716
X-APPLE-STRUCTURED-LOCATION;VALUE=URI;X-ADDRESS=Marriott Hotel Amman Issam Al Ajlouni Street Shmeissani Jordan;X-APPLE-RADIUS=500;X-TITLE=Issam Al Ajlouni Street\, Shmeissani:geo:35.9283716,31.9453666
END:VEVENT
BEGIN:VEVENT
DTSTART;VALUE=DATE:20161210
DTEND;VALUE=DATE:20170102
DTSTAMP:20260426T071331
CREATED:20161130T125723Z
LAST-MODIFIED:20161130T130814Z
UID:9310-1481328000-1483243199@www.allspots.com
SUMMARY:Mlabbas Freeze Fest @ Mlabbas
DESCRIPTION:Mlabbas Freeze Fest @ Mlabbas\nDecember 10 – December 23\, 2016\nRainbow St. Branch: . Amman Winter Display (15th of December\, 2016) . Christmas gifts and packages for the whole family!! . Warm beverage.\nAbdoun Branch: . Holiday Market for the whole family from the 10th till the 31st of December\, 2016. . Hundreds of Secret Santa items and ideas.\nTaj Mall Branch: . Guess the Mlabbas Jar (candies) competition and win!!\nفرع شارع الرينبو: . عمان بالفترينا (15 ديسمبر 2016) . هدايا عيد الميلاد المجيد لكل أفراد العائلة!! . مشروبات ساخنة\nفرع عبدون: . سوق عيد الميلاد المجيد من 10 ديسمبر حتى 31 ديسمبر 2016 . العديد من الأفكار والهدايا للعبة “سانتا السري”\nفرع تاج مول:  إحزروا عدد الملبس بالجرة وإربحوا!!
URL:https://www.allspots.com/jo/events/calendar/mlabbas-freeze-fest-mlabbas/
CATEGORIES:Christmas Events,Shopping, Fairs & Expos,Special Events,Suitable For Students
ATTACH;FMTTYPE=image/jpeg:https://www.allspots.com/jo/events/wp-content/uploads/2016/11/Mlabbas-fest.jpg
END:VEVENT
BEGIN:VEVENT
DTSTART;VALUE=DATE:20161211
DTEND;VALUE=DATE:20161218
DTSTAMP:20260426T071331
CREATED:20161211T154326Z
LAST-MODIFIED:20161211T154326Z
UID:10395-1481414400-1481947199@www.allspots.com
SUMMARY:Umm el Jimal Rock Art collection @ Marriott hotel\, Amman
DESCRIPTION:Pass by the Christmas Market at Amman Marriot Hotel to celebrate the festive season and get your loved ones a gift from Umm el Jimal’s Rock Art collection
URL:https://www.allspots.com/jo/events/calendar/umm-el-jimal-rock-art-collection-marriott-hotel-amman/
LOCATION:Marriott Hotel\, Amman\, Issam Al Ajlouni Street\, Shmeissani\, Jordan
CATEGORIES:Christmas Events,Shopping, Fairs & Expos,Special Events
ATTACH;FMTTYPE=image/jpeg:https://www.allspots.com/jo/events/wp-content/uploads/2016/12/rock-collection.jpg
GEO:31.9453666;35.9283716
X-APPLE-STRUCTURED-LOCATION;VALUE=URI;X-ADDRESS=Marriott Hotel Amman Issam Al Ajlouni Street Shmeissani Jordan;X-APPLE-RADIUS=500;X-TITLE=Issam Al Ajlouni Street\, Shmeissani:geo:35.9283716,31.9453666
END:VEVENT
BEGIN:VEVENT
DTSTART;VALUE=DATE:20161214
DTEND;VALUE=DATE:20161217
DTSTAMP:20260426T071331
CREATED:20161119T090256Z
LAST-MODIFIED:20161119T090531Z
UID:7842-1481673600-1481860799@www.allspots.com
SUMMARY:Papa Noel Charity Bazaar 2016
DESCRIPTION:Papa Noel Charity Bazaar \nOn 14 & 15 of December 2016 – from 11:00am until 7:00pm\nمؤسسه الكالا ترحب بكم في البازار الخيري بمناسبه عيد الميلاد المجيد\nو ذلك في تاريخ 14-15 ديسمبر 2016\nالمكان: نقابة مقاولي الانشاءات الاردنيين\nهناك العديد من المفاجاءه و المسابقات و الهدايا و الجوائز\nسيتوفر لدينا كل مستلزمات تزين الشجر و هدايا العيد المجيد\nحضوركم دعم لكل سيده منتجه في مجتمعنا الأردني\nمعاً لدعم كل سيده منجزه لكل سيده تعمل من منزلها\nيشرفنا حضوركم\nالدعوه عامه\nللاستفسار: 0799922036 – 0795665791
URL:https://www.allspots.com/jo/events/calendar/papa-noel-charity-bazaar-2016/
CATEGORIES:Christmas Events,Shopping, Fairs & Expos
ATTACH;FMTTYPE=image/jpeg:https://www.allspots.com/jo/events/wp-content/uploads/2016/11/noel-bazaar.jpg
END:VEVENT
BEGIN:VEVENT
DTSTART;TZID=Europe/Helsinki:20161214T170000
DTEND;TZID=Europe/Helsinki:20161214T190000
DTSTAMP:20260426T071331
CREATED:20161211T124940Z
LAST-MODIFIED:20161211T124940Z
UID:10362-1481734800-1481742000@www.allspots.com
SUMMARY:احتفالية اليوم العالمي للغة العربية @ مكة مول
DESCRIPTION:احتفالية اليوم العالمي للغة العربية @ مكة مول – الطابق الأرضي \nيوم 14 ويوم 15 من ديسبمر 2016 – الساعة الخامسة مساء\nتحتفل الملحقية الثقافية السعودية في الأردن\nباليوم العالمي للغة العربية تحت عنوان\n” لغتي هويتي”\nوالتي تهدف إلى إبراز أهمية اللغة العربية في العالم العربي والعالم أجمع.\nسيتخلل الاحتفال\n* معرض متكامل عن اللغة العربية\n* فعاليات للكبار والصغار\n* مسابقات وجوائز
URL:https://www.allspots.com/jo/events/calendar/%d8%a7%d8%ad%d8%aa%d9%81%d8%a7%d9%84%d9%8a%d8%a9-%d8%a7%d9%84%d9%8a%d9%88%d9%85-%d8%a7%d9%84%d8%b9%d8%a7%d9%84%d9%85%d9%8a-%d9%84%d9%84%d8%ba%d8%a9-%d8%a7%d9%84%d8%b9%d8%b1%d8%a8%d9%8a%d8%a9-%d9%85/2016-12-14/
CATEGORIES:Cultural & Arts,Shopping, Fairs & Expos,Suitable For Students
ATTACH;FMTTYPE=image/jpeg:https://www.allspots.com/jo/events/wp-content/uploads/2016/12/arabic.jpg
END:VEVENT
BEGIN:VEVENT
DTSTART;VALUE=DATE:20161215
DTEND;VALUE=DATE:20161219
DTSTAMP:20260426T071331
CREATED:20161105T142851Z
LAST-MODIFIED:20161116T114357Z
UID:6380-1481760000-1482033599@www.allspots.com
SUMMARY:Amman Winter Wonderland @ Ras El Ain Gallery Hangar
DESCRIPTION:Amman Winter Wonderland @ Ras El Ain Gallery Hangar\nDecember 15 – December 17\, 2016\nAmman Winter Wonderland is the most enjoyable weekend of festive fun in Amman! It is everything you love about Christmas all under one roof!\nWith plenty of activities\, you can visit Santa\, watch our Christmas Tree Lighting Ceremony\, take a walk through our Christmas Bazaar\, win lots of prizes\, make a wish and it might come true\, watch live music performances\, check out our Christmas Tree Exhibition and much more!\nWith our non-stop entertainment and prize giveaways we will have the audience in the Christmas spirit faster than you can imagine!\nFree admission to all! Merry Christmas!
URL:https://www.allspots.com/jo/events/calendar/amman-winter-wondeland-ras-el-ain-gallery-hangar/
LOCATION:Ras Al Ain Gallery & Hangar\, Ali Bin Abi Talib Street - Opposite to Al Hussien Cultural Center\, Amman
CATEGORIES:Christmas Events,Kids & Family,Shopping, Fairs & Expos
ATTACH;FMTTYPE=image/jpeg:https://www.allspots.com/jo/events/wp-content/uploads/2016/11/wonderland.jpg
GEO:31.9453666;35.9283716
X-APPLE-STRUCTURED-LOCATION;VALUE=URI;X-ADDRESS=Ras Al Ain Gallery & Hangar Ali Bin Abi Talib Street - Opposite to Al Hussien Cultural Center Amman;X-APPLE-RADIUS=500;X-TITLE=Ali Bin Abi Talib Street - Opposite to Al Hussien Cultural Center:geo:35.9283716,31.9453666
END:VEVENT
BEGIN:VEVENT
DTSTART;VALUE=DATE:20161215
DTEND;VALUE=DATE:20161218
DTSTAMP:20260426T071331
CREATED:20161205T153028Z
LAST-MODIFIED:20161207T110241Z
UID:9955-1481760000-1481947199@www.allspots.com
SUMMARY:Bazaar Ghair Shekel @ Sadeen Hotel\, Khalda
DESCRIPTION:بازار غير شكل @ فندق سدين – خلدا\nBazaar Ghair Shekel @ Sadeen Hotel\, Khalda\nيومي الخميس والجمعة من الشهر الحالي بتاريخ 15-16 ديسمبر 2016 –  من الساعة 10 صباحا – 10 مساءا\nبازارنا حيكون لمدة يومين . يومين من التميز . فيه العديد من المشتركين المميزين . طاولاتنا هالمرة غييييير . غير شكل طبعا\nراح يكون البازار بفندق سدين – خلدا\nحضرنالكم العديد من برامج الخصومات للمشتركين والزوار\nزورونا في بازار غير شكل، يومي الخميس والجمعة 15 و 16 ديسمبر الحالي، في فندق سدين، عمان خلدا، من اشارات البشيتي باتجاه اشارات البنك العربي سابقا، على اليسار قبل اشارات البنك العربي، مقابل السيفوي الجديد. من الساعة العاشرة صباحا وحتى العاشرة مساء\n*** الخصومات والميزات التالية سيحصل عليها كل زائر للبازار عمره فوق 18 سنة\n*كوبون خصم مقداره 15% في كوفي شوب ومطعم\nMOOD\n\, فندق سدين الطابق السابع، حيث الاطلالة الخلابة على غرب عمان، والاستمتاع بأشهى المأكولات والمشروبات\n*حصول الزائرين من السيدات على كوبون مجاني لاستعمال النادي الرياضي في فندق سدين\nGym & Tonic\nلمدة يوم واحد دون اي التزامات او مقابل مادي.\n*الدخول للبازار عام ومجاني للجميع، يوجد ايضا خدمة اصطفاف متاحة لزوار البازار خلال اليومين\nحضوركم يسعدنا ويشرفنا، هو بمثابة نزهة وترفيه لكم ولعائلاتكم في عطلة نهاية الاسبوع\nابقوا معنا على الموعد\nبازار غير شكل، فندق سدين ، خلدا، الخميس والجمعة 15و 16 ديسمبر الحالي\nللاستفسار ولأي معلومات اخرى: 0790106510 – 0798080950
URL:https://www.allspots.com/jo/events/calendar/bazaar-ghair-shekel-sadeen-hotel-khalda/
CATEGORIES:Shopping, Fairs & Expos,Suitable For Students
ATTACH;FMTTYPE=image/jpeg:https://www.allspots.com/jo/events/wp-content/uploads/2016/12/bazaar-sadeen.jpg
END:VEVENT
END:VCALENDAR