BEGIN:VCALENDAR
VERSION:2.0
PRODID:-//Jordan events calendar - AllSpots - ECPv5.14.1//NONSGML v1.0//EN
CALSCALE:GREGORIAN
METHOD:PUBLISH
X-WR-CALNAME:Jordan events calendar - AllSpots
X-ORIGINAL-URL:https://www.allspots.com/jo/events
X-WR-CALDESC:Events for Jordan events calendar - AllSpots
BEGIN:VTIMEZONE
TZID:Europe/Helsinki
BEGIN:DAYLIGHT
TZOFFSETFROM:+0200
TZOFFSETTO:+0300
TZNAME:EEST
DTSTART:20160327T010000
END:DAYLIGHT
BEGIN:STANDARD
TZOFFSETFROM:+0300
TZOFFSETTO:+0200
TZNAME:EET
DTSTART:20161030T010000
END:STANDARD
BEGIN:DAYLIGHT
TZOFFSETFROM:+0200
TZOFFSETTO:+0300
TZNAME:EEST
DTSTART:20170326T010000
END:DAYLIGHT
BEGIN:STANDARD
TZOFFSETFROM:+0300
TZOFFSETTO:+0200
TZNAME:EET
DTSTART:20171029T010000
END:STANDARD
TZID:UTC
BEGIN:STANDARD
TZOFFSETFROM:+0000
TZOFFSETTO:+0000
TZNAME:UTC
DTSTART:20160101T000000
END:STANDARD
END:VTIMEZONE
BEGIN:VEVENT
DTSTART;VALUE=DATE:20161201
DTEND;VALUE=DATE:20170102
DTSTAMP:20260425T231259
CREATED:20161201T145013Z
LAST-MODIFIED:20161201T145013Z
UID:9526-1480550400-1483243199@www.allspots.com
SUMMARY:30% - 50% Sale @ Hamleys
DESCRIPTION:30% – 50% Sale @ Hamleys\nOffer is valid until 31/12/2016\nPass by Hamleys today & enjoy 30% – 50% off a wide range of products!\nFor more information please call Hamleys branches:\n• Mecca Street: 065511332\n• Abdoun: 065930127\n• City Mall: 065816478\n• Taj Lifestyle: 065920823\n• Cozmo Centre: 065501240 Ext.1138\n• Abdali Mall: 064011246 – 064011247
URL:https://www.allspots.com/jo/events/calendar/30-50-sale-hamleys/
CATEGORIES:Sales & Offers,Suitable For Students
ATTACH;FMTTYPE=image/jpeg:https://www.allspots.com/jo/events/wp-content/uploads/2016/12/hamleys-sale.jpg
END:VEVENT
BEGIN:VEVENT
DTSTART;VALUE=DATE:20161205
DTEND;VALUE=DATE:20161211
DTSTAMP:20260425T231259
CREATED:20161205T143713Z
LAST-MODIFIED:20161205T143820Z
UID:9924-1480896000-1481342399@www.allspots.com
SUMMARY:20% Off On All Items @ Calliope\, Taj lifestyle
DESCRIPTION:20% Off On All Items @ Calliope\, Taj lifestyle\nHurry up and visit us!
URL:https://www.allspots.com/jo/events/calendar/20-off-on-all-items-calliope-taj-lifestyle/
CATEGORIES:Sales & Offers,Suitable For Students
ATTACH;FMTTYPE=image/jpeg:https://www.allspots.com/jo/events/wp-content/uploads/2016/12/calliope.jpg
END:VEVENT
BEGIN:VEVENT
DTSTART;VALUE=DATE:20161207
DTEND;VALUE=DATE:20161218
DTSTAMP:20260425T231259
CREATED:20161102T123820Z
LAST-MODIFIED:20161126T113035Z
UID:6087-1481068800-1481947199@www.allspots.com
SUMMARY:Winter Shopping @ Amman Motor Expo
DESCRIPTION:Winter Shopping @ Amman Motor Expo\nFrom 7-16/12/2016 || everyday from 2:00pm till 10:00pm\nنرحب بكم في معرض اسواق الشتاء، في قاعه معرض عمان الدولي للسيارات\nأسواق الشتاء @ معرض عمان الدولي للسيارات\nمن  7 ديسمبر لغاية 16 ديسمبر 2016\nيوميا من الساعة الثانية ظهرا وحتى العاشرة مساء\nبمشاركة دول الأردن – فلسطين – مصر – باكستان – الهند\nأثاث – ملابس – جلود – تحف – هدايا – العاب اطفال – والمزيد\nاهلًا وسهلا ونتمنى لكم شتاء دافئ كقلوبكم الدافئة\nللاستفسار او لمزيد من المعلومات الاتصال على: 065714311 – 0777303035 – 0797773332
URL:https://www.allspots.com/jo/events/calendar/winter-shopping-amman-motor-expo/
CATEGORIES:Shopping, Fairs & Expos,Suitable For Students
ATTACH;FMTTYPE=image/jpeg:https://www.allspots.com/jo/events/wp-content/uploads/2016/11/winter-shopping-expo.jpg
END:VEVENT
BEGIN:VEVENT
DTSTART;VALUE=DATE:20161208
DTEND;VALUE=DATE:20161212
DTSTAMP:20260425T231259
CREATED:20161119T102901Z
LAST-MODIFIED:20161119T112413Z
UID:7856-1481155200-1481428799@www.allspots.com
SUMMARY:Fuheis Bazaar @ Beit Al-Fuheis
DESCRIPTION:Fuheis Bazaar @ Beit Al-Fuheis\n On December 8th\, 9th & 10th\, 2016 – daily until 10:00pm\nتحت رعاية رئيس بلدية الفحيص السيد هويشل العكروش تقيم مؤسسات الفحيص بالتعاون مع بلدية الفحيص وبمشاركة نادي شباب الفحيص ومجموعة كشافة ومرشدات مار جريس\nبازار الفحيص الموحد الثاني @ بيت الفحيص\nايام الخميس والجمعة السبت – 8 و 9 و 10 من ديسمبر 2016\nتوقيت البازار الخميس من 4 عصرا للساعة 10 مساء\nيوم الجمعة والسبت من 10 صباحا للساعة 10 مساء\nفقرات خاصة للاطفال يوميا الساعة 7 مساء
URL:https://www.allspots.com/jo/events/calendar/fuheis-bazaar-beit-al-fuheis/
CATEGORIES:Christmas Events,Shopping, Fairs & Expos
ATTACH;FMTTYPE=image/jpeg:https://www.allspots.com/jo/events/wp-content/uploads/2016/11/bazar-fuheis.jpg
END:VEVENT
BEGIN:VEVENT
DTSTART;VALUE=DATE:20161208
DTEND;VALUE=DATE:20161212
DTSTAMP:20260425T231259
CREATED:20161126T174931Z
LAST-MODIFIED:20161126T174931Z
UID:8714-1481155200-1481428799@www.allspots.com
SUMMARY:Happy New Year bazar
DESCRIPTION:الفرح ومتعة التسوق تجدوها في\nHappy New Year Bazar\nالذي يضم نخبة من المشاركين بمجموعة مميزة من الاشغال والاعمال اليدوية والمأكولات الشهية بالاضافة للملابس والعطور والاكسسوارات والالعاب ، والرسم بكافة اشكاله ، وعروض شيقه لفرقة فرافيش وسانتا كلوز وسحب على الجوائز وهدايا لكل الحضور\nوالذي سيتم برعاية محل Hisha & shisha و Beba Beauty Center و Crystal Clear Accessories\nللاستفسار 0797698328 / 0798824299
URL:https://www.allspots.com/jo/events/calendar/happy-new-year-bazar/
CATEGORIES:Christmas Events,Shopping, Fairs & Expos,Special Events
ATTACH;FMTTYPE=image/jpeg:https://www.allspots.com/jo/events/wp-content/uploads/2016/11/happy-new-year-bazar.jpg
END:VEVENT
BEGIN:VEVENT
DTSTART;VALUE=DATE:20161209
DTEND;VALUE=DATE:20161213
DTSTAMP:20260425T231259
CREATED:20161030T141706Z
LAST-MODIFIED:20161030T141706Z
UID:5836-1481241600-1481515199@www.allspots.com
SUMMARY:البازار الخيري الأول بمناسبة عيد الميلاد المجيد @ نادي شباب الفحيص
DESCRIPTION:المسيح ولد فمجدوه\nتعلن مجموعة كشافة مار جريس لنادي شباب الفحيص\nعن اقامة بازارها الخيري الأول بمناسبة عيد الميلاد المجيد\nو ذلك أيام الجمعة و السبت و الأحد الموافق\n9-10-11/12/2016\nفي نادي شباب الفحيص – الصالة الرياضية \nللاستفسار و حجز الطاولات\nهاتف 0772542882 قائد المجموعة رائد الناصر\n0798585299 القائد أسد الناصر \nملاحظة: يرجى العلم بأن سعر الطاولة الواحدة لمدة ثلاثة أيام عشرون ديناراُ فقط لا غير\nو كل عام و انتم بألف خير \nيرصد ريع هذا البازار لدعم أنشطة المجموعة الكشفية
URL:https://www.allspots.com/jo/events/calendar/%d8%a7%d9%84%d8%a8%d8%a7%d8%b2%d8%a7%d8%b1-%d8%a7%d9%84%d8%ae%d9%8a%d8%b1%d9%8a-%d8%a7%d9%84%d8%a3%d9%88%d9%84-%d8%a8%d9%85%d9%86%d8%a7%d8%b3%d8%a8%d8%a9-%d8%b9%d9%8a%d8%af-%d8%a7%d9%84%d9%85%d9%8a/
CATEGORIES:Charity & Fundraisers,Christmas Events,Shopping, Fairs & Expos,Special Events
END:VEVENT
BEGIN:VEVENT
DTSTART;VALUE=DATE:20161209
DTEND;VALUE=DATE:20161210
DTSTAMP:20260425T231259
CREATED:20161119T162036Z
LAST-MODIFIED:20161201T124642Z
UID:7909-1481241600-1481277600@www.allspots.com
SUMMARY:Christmas Market: Food & More @ Zara Centre
DESCRIPTION:Christmas Market: Food & More @ Zara Centre\nOn December 9 & December 10\, 2016\nDaily from 12:00pm till 10:00pm\nIndulge and tingle your taste buds at Zara center for a warm winter food market bringing along a little bit of everything to complete your holiday necessities.\nSanta and his elves will be visiting the children’s corner and different activities will be entertaining your little ones while you enjoy the market with friends and family.\nFor more information 064611014
URL:https://www.allspots.com/jo/events/calendar/food-more-at-zara-centre/
LOCATION:Zara Centre / Wadi Saqra\, Amman\, Jordan\, Amman\, Jordan
CATEGORIES:Christmas Events,Food & Drinks,Kids & Family,Shopping, Fairs & Expos
ATTACH;FMTTYPE=image/jpeg:https://www.allspots.com/jo/events/wp-content/uploads/2016/11/christmas-at-zara.jpg
GEO:31.9453633;35.9283895
X-APPLE-STRUCTURED-LOCATION;VALUE=URI;X-ADDRESS=Zara Centre / Wadi Saqra Amman Jordan Amman Jordan;X-APPLE-RADIUS=500;X-TITLE=Amman\, Jordan:geo:35.9283895,31.9453633
END:VEVENT
BEGIN:VEVENT
DTSTART;VALUE=DATE:20161209
DTEND;VALUE=DATE:20170102
DTSTAMP:20260425T231259
CREATED:20161209T175145Z
LAST-MODIFIED:20161209T175815Z
UID:10314-1481241600-1483243199@www.allspots.com
SUMMARY:Toys Discount @ AlShalati
DESCRIPTION:Sale Up To 70% On Toys\nToys Discount @ AlShalati\nCome & Visit Us Now To Enjoy The Discount On More Than 200 Items..\nMerry Christmas\nOFFER Valid Till 31-Dec-2016
URL:https://www.allspots.com/jo/events/calendar/toys-discount-alshalati/
CATEGORIES:Sales & Offers,Suitable For Students
ATTACH;FMTTYPE=image/jpeg:https://www.allspots.com/jo/events/wp-content/uploads/2016/12/shalati.jpg
END:VEVENT
BEGIN:VEVENT
DTSTART;TZID=Europe/Helsinki:20161209T080000
DTEND;TZID=Europe/Helsinki:20161211T170000
DTSTAMP:20260425T231259
CREATED:20161207T115458Z
LAST-MODIFIED:20161207T115826Z
UID:10214-1481270400-1481475600@www.allspots.com
SUMMARY:بازار العيد @ كنيسة سيدة البشارة - اللويبده
DESCRIPTION:كشافة مطرانية اللاتين – اللويبده\nبازار العيد @ كنيسة سيدة البشارة – اللويبده\nيوم الجمعة والسبت والاحد – 9-11 ديسمبر 2016\nشاركونا افتتاح بازارنا يوم الجمعة الساعة الخامسة مساءً و جيبوا اطفالكم معكم ليلعبوا مع احلى الشخصيات الكرتونية و يتصوروا مع سانتا…مجانا\nيوم السبت احلى حفلة أطفال الساعة ٧:٣٠ مساءً مع هدايا من سانتا…مجاناً\nويوم الاحد من الساعة العاشرة صباحا للساعة العاشرة مساء\nللمزيد من المعلومات او للاستفسار يرجى الاتصال على: 0796430498
URL:https://www.allspots.com/jo/events/calendar/%d8%a8%d8%a7%d8%b2%d8%a7%d8%b1-%d8%a7%d9%84%d8%b9%d9%8a%d8%af-%d9%83%d9%86%d9%8a%d8%b3%d8%a9-%d8%b3%d9%8a%d8%af%d8%a9-%d8%a7%d9%84%d8%a8%d8%b4%d8%a7%d8%b1%d8%a9-%d8%a7%d9%84%d9%84%d9%88%d9%8a/
CATEGORIES:Christmas Events,Kids & Family,Shopping, Fairs & Expos,Suitable For Students
ATTACH;FMTTYPE=image/jpeg:https://www.allspots.com/jo/events/wp-content/uploads/2016/12/bazaar-1.jpg
END:VEVENT
BEGIN:VEVENT
DTSTART;TZID=Europe/Helsinki:20161209T090000
DTEND;TZID=Europe/Helsinki:20161209T160000
DTSTAMP:20260425T231259
CREATED:20161205T134233Z
LAST-MODIFIED:20161205T134311Z
UID:9904-1481274000-1481299200@www.allspots.com
SUMMARY:Book Fair @ Modern Montessori School
DESCRIPTION:Book Fair @ Modern Montessori School\nThe Montessori PTA is pleased to invite you to attend the PTA Book Fair that is going to take place in the outdoor Basketball Court at the #Montessori_JO for two consecutive days\nDec 8th: For parents & students ONLY (8:00AM- 4:00PM)\n Dec 9th: An open invitation to all (9:00AM-4:00PM)\nWe look forward to seeing you all!!\nيتشرف مجلس الاباء والمعلمين بحضور معرض كتاب المجلس والذي سيقام في ملعب كرة السلة الخارجية\nفي مدرسة المونتيسوري الحديثة ليومين متتاليين\nيوم الخميس الموافق 08/12/2016 من الساعة الثامنة صباحا حتى الساعة الرابعة عصرا للأهالي والطلاب فقط\nيوم الجمعة الموافق 09/12/2016 من الساعة التاسعة صباحا حتى الساعة الرابعة عصرا وستكون دعوة مفتوحة للجميع\nنتطلع لرؤيتكم ونسعد لحضوركم
URL:https://www.allspots.com/jo/events/calendar/book-fair-modern-montessori-school-2/
CATEGORIES:Books & Poetry,Shopping, Fairs & Expos,Suitable For Students
ATTACH;FMTTYPE=image/jpeg:https://www.allspots.com/jo/events/wp-content/uploads/2016/12/reading-montessori.jpg
END:VEVENT
BEGIN:VEVENT
DTSTART;TZID=Europe/Helsinki:20161209T100000
DTEND;TZID=Europe/Helsinki:20161209T210000
DTSTAMP:20260425T231259
CREATED:20161109T165428Z
LAST-MODIFIED:20161109T165428Z
UID:6798-1481277600-1481317200@www.allspots.com
SUMMARY:بازار كنيسة الصعود لعيد الميلاد  @ كنيسة الصعود خلدا
DESCRIPTION:البازار في قاعة الكنيسة لمدة يومين، الجمعة ١٢/٩، و السبت ١٢/١٠، من الساعة العاشرة صباحاً حتى التاسعة مساءً \nيُرصد ريع البازار للأعمال الخيرية \nحضوركم يُشرفنا و يُزيدنا بهجة و كل عام و أنتم بخير.
URL:https://www.allspots.com/jo/events/calendar/%d8%a8%d8%a7%d8%b2%d8%a7%d8%b1-%d9%83%d9%86%d9%8a%d8%b3%d8%a9-%d8%a7%d9%84%d8%b5%d8%b9%d9%88%d8%af-%d9%84%d8%b9%d9%8a%d8%af-%d8%a7%d9%84%d9%85%d9%8a%d9%84%d8%a7%d8%af-%d9%83%d9%86%d9%8a%d8%b3%d8%a9/2016-12-09/
CATEGORIES:Charity & Fundraisers,Christmas Events,Shopping, Fairs & Expos,Special Events
ATTACH;FMTTYPE=image/jpeg:https://www.allspots.com/jo/events/wp-content/uploads/2016/11/kaniseh.jpg
END:VEVENT
BEGIN:VEVENT
DTSTART;TZID=Europe/Helsinki:20161209T100000
DTEND;TZID=Europe/Helsinki:20161209T200000
DTSTAMP:20260425T231259
CREATED:20161126T180416Z
LAST-MODIFIED:20161127T075319Z
UID:8731-1481277600-1481313600@www.allspots.com
SUMMARY:البازار الخيري الرابع لجمعية الشبان المسيحية - الاردن
DESCRIPTION:تدعوكم جمعية الشبان المسيحية لحضور بازارها الخيري الرابع بمناسبة عيد الميلاد المجيد \, وذلك يوم الجمعة 9/12/2016 من الساعة العاشرة صباحا الى الساعة الثامنة مساءا\nهنالك جلسات عائلية \, اعمال يدوية \, مستلزمات العيد \, منتجات محلية \, مأكولات\nوتقدم شبيبة الاردن للدراما المسيحية حفلة للاطفال الساعة الثالثة مساءا\n( دخولية مجانية)\nيشرفنا حضوركم وكل عام وأنتم بخير
URL:https://www.allspots.com/jo/events/calendar/%d8%a7%d9%84%d8%a8%d8%a7%d8%b2%d8%a7%d8%b1-%d8%a7%d9%84%d8%ae%d9%8a%d8%b1%d9%8a-%d8%a7%d9%84%d8%b1%d8%a7%d8%a8%d8%b9-%d9%84%d8%ac%d9%85%d8%b9%d9%8a%d8%a9-%d8%a7%d9%84%d8%b4%d8%a8%d8%a7%d9%86-%d8%a7/
CATEGORIES:Charity & Fundraisers,Christmas Events,Shopping, Fairs & Expos
ATTACH;FMTTYPE=image/jpeg:https://www.allspots.com/jo/events/wp-content/uploads/2016/11/ymca-bazar.jpg
END:VEVENT
BEGIN:VEVENT
DTSTART;TZID=Europe/Helsinki:20161209T110000
DTEND;TZID=Europe/Helsinki:20161209T220000
DTSTAMP:20260425T231259
CREATED:20161201T125132Z
LAST-MODIFIED:20161201T125234Z
UID:9478-1481281200-1481320800@www.allspots.com
SUMMARY:Charity Bazaar @ Redeemer Church Hall\, Jabal Amman
DESCRIPTION:انضموا لنا في البازار الخيري الميلادي السنوي لعام 2016\nيوم الجمعة الموافق 9/12/2016 من الساعة الحادية عشرة صباحا ولغاية الساعة العاشرة مساء بقاعة كنيسة الفادي/ جبل عمان بجانب المدرسة الأهلية للبنات. سيخصص ريع البازار لدعم العائلات المحتاجة. كل عام وأنتم بخير\nJoin us at the Annual Christmas Charity Bazaar 2016\nFriday\, Dec.9th\, 2016 at 11 am – 10 pm\, at Redeemer church hall – Jabal Amman\, next to the Ahliyyah School for Girls. Proceeds will go to support families in need
URL:https://www.allspots.com/jo/events/calendar/charity-bazaar-redeemer-church-hall-jabal-amman/
CATEGORIES:Charity & Fundraisers,Christmas Events,Shopping, Fairs & Expos,Suitable For Students
ATTACH;FMTTYPE=image/jpeg:https://www.allspots.com/jo/events/wp-content/uploads/2016/12/bazaar.jpg
END:VEVENT
BEGIN:VEVENT
DTSTART;TZID=UTC:20161209T120000
DTEND;TZID=UTC:20161209T210000
DTSTAMP:20260425T231259
CREATED:20161026T130204Z
LAST-MODIFIED:20161030T105020Z
UID:5460-1481284800-1481317200@www.allspots.com
SUMMARY:Noel Bazaar @ Kempinski Hotel Amman
DESCRIPTION:ندعوكم للمشاركة معنا في بازار\nNoel Bazaar @ Kempinski Hotel Amman\nيوم الجمعة والسبت 9 و 10 ديسمبر 2016 من الساعة 12:00 مساءأ -9:00 مساءأ\nيحتوي البازار على مجموعة متنوعة من المنتجات و زينة عيد الميلاد، وصناديق مصنوعة يدويا، و منتجات من إعادة التدوير، والكثير من الخيارات والهدايا. بالإضافة إلى ذلك، سيكون لدينا فعاليات خاصة للأطفال، ورسام الكاريكاتير، الحلويات المميزة ، والديكورات \, وأكثر من ذلك بكثير\nللاستفسار الرجاء الاتصال على الارقام التالية : 065377316 – 0775377332\nIt is with great pleasure that we present to you Noel Bazaar on Friday and Saturday 9th &10th of December from 12:00 pm -9:00 pm. Noel Bazaar will have a variety of beautiful products including accessories\, Christmas decorations\, handmade boxes\, recycling projects and loads of gift options for your beloved ones. Additionally\, we will have a fun room for children\, a cartoonist\, some delicious treats\, beautiful decorations and much more\nBelieve us you will not want to miss this event’\nAll proceeds go towards PTI’s ongoing efforts to develop communities all over Jordan.\nfor more information please call us 065377316 – 0775377332
URL:https://www.allspots.com/jo/events/calendar/noel-bazaar-kempinski-hotel-amman/2016-12-09/
LOCATION:Kempinski Hotel Amman\, Abdulhamid Shuman Street- Shumeisani-Amman-Jordan Amman \, Amman\, Jordan
CATEGORIES:Christmas Events,Shopping, Fairs & Expos
GEO:31.9453666;35.9283716
X-APPLE-STRUCTURED-LOCATION;VALUE=URI;X-ADDRESS=Kempinski Hotel Amman Abdulhamid Shuman Street- Shumeisani-Amman-Jordan Amman  Amman Jordan;X-APPLE-RADIUS=500;X-TITLE=Abdulhamid Shuman Street- Shumeisani-Amman-Jordan Amman:geo:35.9283716,31.9453666
END:VEVENT
BEGIN:VEVENT
DTSTART;TZID=Europe/Helsinki:20161209T140000
DTEND;TZID=Europe/Helsinki:20161209T200000
DTSTAMP:20260425T231259
CREATED:20161203T182703Z
LAST-MODIFIED:20161203T182739Z
UID:9578-1481292000-1481313600@www.allspots.com
SUMMARY:Black Friday Sale @ Sharmiran\, 8th Circle
DESCRIPTION:Black Friday Sale @ Sharmiran\, 8th Circle\nOn Friday\, December 9th\, 2016 – at 2 PM – 8 PM\nOh\, didn’t we create a buzz? Everyone in Amman is talking about our offer and didn’t happen yet!\nWe told you we’re the best when it comes to discounts and offers and we will deliver to our word ?!\nStart the count down! Friday is approaching or as we at Sharmiran like to call it: CRAZY Friday is coming!\nالعرض رح يكون الجمعة تاريخ ٩/١٢/٢٠١٦\nو من الساعة ٢ الظهر حتى ٨ بالليل\nو بفرع الدوار الثامن فقط\nبس شو هو العرض !!! شو نسبة الخصم\nاستنونا !!!! ولا تضيعوها
URL:https://www.allspots.com/jo/events/calendar/black-friday-sale-sharmiran-8th-circle/
CATEGORIES:Sales & Offers,Suitable For Students
ATTACH;FMTTYPE=image/jpeg:https://www.allspots.com/jo/events/wp-content/uploads/2016/12/black-friday-at-sharmiran.jpg
END:VEVENT
BEGIN:VEVENT
DTSTART;VALUE=DATE:20161210
DTEND;VALUE=DATE:20161218
DTSTAMP:20260425T231259
CREATED:20161121T164359Z
LAST-MODIFIED:20161122T111727Z
UID:8099-1481328000-1481947199@www.allspots.com
SUMMARY:Christmas Market @ Marriott hotel\, Amman
DESCRIPTION:It’s beginning to look a lot like Christmas! \nThe enticing smell of mulled wine and hot chocolate\, roasted almonds\, bratwurst and gingerbread fill the air. And it’s not only tiny tots who will have their eyes all a-glow as the Santa Claus appears! 50 vendors will display their wonderful gifts and handicrafted presents. An Elf tent will entertain children and teens\, decorating Christmas ornaments and making cookies. \nSo come and join to a truly authentic German & Austrian Christmas market!
URL:https://www.allspots.com/jo/events/calendar/christmas-market-marriott-hotel-amman/
LOCATION:Marriott Hotel\, Amman\, Issam Al Ajlouni Street\, Shmeissani\, Jordan
CATEGORIES:Christmas Events,Shopping, Fairs & Expos,Special Events
ATTACH;FMTTYPE=image/jpeg:https://www.allspots.com/jo/events/wp-content/uploads/2016/11/christmas-market-at-marriott-amman.jpg
GEO:31.9453666;35.9283716
X-APPLE-STRUCTURED-LOCATION;VALUE=URI;X-ADDRESS=Marriott Hotel Amman Issam Al Ajlouni Street Shmeissani Jordan;X-APPLE-RADIUS=500;X-TITLE=Issam Al Ajlouni Street\, Shmeissani:geo:35.9283716,31.9453666
END:VEVENT
BEGIN:VEVENT
DTSTART;VALUE=DATE:20161210
DTEND;VALUE=DATE:20170102
DTSTAMP:20260425T231259
CREATED:20161130T125723Z
LAST-MODIFIED:20161130T130814Z
UID:9310-1481328000-1483243199@www.allspots.com
SUMMARY:Mlabbas Freeze Fest @ Mlabbas
DESCRIPTION:Mlabbas Freeze Fest @ Mlabbas\nDecember 10 – December 23\, 2016\nRainbow St. Branch: . Amman Winter Display (15th of December\, 2016) . Christmas gifts and packages for the whole family!! . Warm beverage.\nAbdoun Branch: . Holiday Market for the whole family from the 10th till the 31st of December\, 2016. . Hundreds of Secret Santa items and ideas.\nTaj Mall Branch: . Guess the Mlabbas Jar (candies) competition and win!!\nفرع شارع الرينبو: . عمان بالفترينا (15 ديسمبر 2016) . هدايا عيد الميلاد المجيد لكل أفراد العائلة!! . مشروبات ساخنة\nفرع عبدون: . سوق عيد الميلاد المجيد من 10 ديسمبر حتى 31 ديسمبر 2016 . العديد من الأفكار والهدايا للعبة “سانتا السري”\nفرع تاج مول:  إحزروا عدد الملبس بالجرة وإربحوا!!
URL:https://www.allspots.com/jo/events/calendar/mlabbas-freeze-fest-mlabbas/
CATEGORIES:Christmas Events,Shopping, Fairs & Expos,Special Events,Suitable For Students
ATTACH;FMTTYPE=image/jpeg:https://www.allspots.com/jo/events/wp-content/uploads/2016/11/Mlabbas-fest.jpg
END:VEVENT
END:VCALENDAR