BEGIN:VCALENDAR
VERSION:2.0
PRODID:-//Jordan events calendar - AllSpots - ECPv5.14.1//NONSGML v1.0//EN
CALSCALE:GREGORIAN
METHOD:PUBLISH
X-WR-CALNAME:Jordan events calendar - AllSpots
X-ORIGINAL-URL:https://www.allspots.com/jo/events
X-WR-CALDESC:Events for Jordan events calendar - AllSpots
BEGIN:VTIMEZONE
TZID:Europe/Helsinki
BEGIN:DAYLIGHT
TZOFFSETFROM:+0200
TZOFFSETTO:+0300
TZNAME:EEST
DTSTART:20160327T010000
END:DAYLIGHT
BEGIN:STANDARD
TZOFFSETFROM:+0300
TZOFFSETTO:+0200
TZNAME:EET
DTSTART:20161030T010000
END:STANDARD
END:VTIMEZONE
BEGIN:VEVENT
DTSTART;VALUE=DATE:20161120
DTEND;VALUE=DATE:20161128
DTSTAMP:20260424T181840
CREATED:20161110T223646Z
LAST-MODIFIED:20161121T154037Z
UID:7029-1479600000-1480219199@www.allspots.com
SUMMARY:Le French Marché @ The Boulevard
DESCRIPTION:Le French Marché @ The Boulevard\nLe French Marché brings you Paris to the heart of Amman at The Boulevard with live entertainment\, French products\, mouthwatering French bites and a lot of surprises and activities!\nThis event is managed by CAFRAJ – French Chamber of Commerce & Industry in Jordan in collaboration with the Ambassade de France en Jordanie\nالسفارة الفرنسية في الأردن\nand Institut Français de Jordanie\nالأسبوع الفرنسي في عمّان\nمن 20-26 تشرين ثاني 2016\nستكتسي عمّان هذا الأسبوع ألواناً فرنسية. نرحب بكم جميعاً في السوق الفرنسي الذي سيفتتح في بوليفارد العبدلي، حيث تنتظركم الفعاليات الثقافية المتنوعة والتي تنظمها غرفة التجارة الفرنسية الأردنية بالتعاون مع السفارة الفرنسية والمعهد الفرنسي\nنرحب بعشّاق فرنسا في قلب عمّان\nوكما وعدناكم، فقد أحضرنا باريس إلى عمّان من أجلكم
URL:https://www.allspots.com/jo/events/calendar/le-french-marche-the-boulevard/
CATEGORIES:Food & Drinks,Shopping, Fairs & Expos,Special Events,Suitable For Students
ATTACH;FMTTYPE=image/jpeg:https://www.allspots.com/jo/events/wp-content/uploads/2016/11/le-french.jpg
END:VEVENT
BEGIN:VEVENT
DTSTART;VALUE=DATE:20161120
DTEND;VALUE=DATE:20161121
DTSTAMP:20260424T181840
CREATED:20161113T165024Z
LAST-MODIFIED:20161114T134837Z
UID:7317-1479600000-1479632400@www.allspots.com
SUMMARY:مهرجان القراءة للجميع @ العقبة
DESCRIPTION:تحت رعاية عطوفة مدير تربية محافظة العقبة\nالدكتور خالد الذنيبات الأكرم\nتتشرف مديرية ثقافة العقبة دعوتكم لزيارة معرض مكتبة الأسرة الأردنية 2016\nمهرجان القراءة للجميع\nيبدأ المعرض يوم الأحد 20/11/2016\nو يستمر الى يوم الخميس 24/11/2016\nمن 9صباحا حتى 6 مساءً\nفي مركز مصادر التعلم – اشارات العاشرة\nعلما بان الأسعار 35 قرش للكتب و 25 قرش للقصص
URL:https://www.allspots.com/jo/events/calendar/%d9%85%d9%87%d8%b1%d8%ac%d8%a7%d9%86-%d8%a7%d9%84%d9%82%d8%b1%d8%a7%d8%a1%d8%a9-%d9%84%d9%84%d8%ac%d9%85%d9%8a%d8%b9-%d8%a7%d9%84%d8%b9%d9%82%d8%a8%d8%a9/
CATEGORIES:Books & Poetry,Shopping, Fairs & Expos,Special Events
ATTACH;FMTTYPE=image/jpeg:https://www.allspots.com/jo/events/wp-content/uploads/2016/11/thnaibat.jpg
END:VEVENT
BEGIN:VEVENT
DTSTART;VALUE=DATE:20161120
DTEND;VALUE=DATE:20161127
DTSTAMP:20260424T181840
CREATED:20161120T165418Z
LAST-MODIFIED:20161123T125002Z
UID:8003-1479600000-1480132799@www.allspots.com
SUMMARY:The One Flash Friday 25 NOV\, 2016
DESCRIPTION:Enjoy 30% OFF everything in store\nfor ONE DAY ONLY during our FLASH FRIDAY SALE\non the 25th of November at THE One.\nFor more information please call: 064620305
URL:https://www.allspots.com/jo/events/calendar/the-one-flash-friday-25-nov-2016/
CATEGORIES:Sales & Offers
ATTACH;FMTTYPE=image/jpeg:https://www.allspots.com/jo/events/wp-content/uploads/2016/11/The-One-Flash-Friday-25-NOV-2016.jpg
END:VEVENT
BEGIN:VEVENT
DTSTART;TZID=Europe/Helsinki:20161120T080000
DTEND;TZID=Europe/Helsinki:20161120T170000
DTSTAMP:20260424T181840
CREATED:20161119T160834Z
LAST-MODIFIED:20161119T160834Z
UID:7897-1479628800-1479661200@www.allspots.com
SUMMARY:Book Fair and Story Telling at Little Learners Nursery
DESCRIPTION:“A home filled with reading material is a good way to help kids become enthusiastic readers.”\nMoms and Dads are welcomed to visit the book fair @ little learners nursery\nSunday\, 20th from 8.00am till 5.00pm ?\nThe Nursery will also be hosting the amazing kids books writer Suzan Ghawi to read her book “لارا الفارة” at 11:30am\, everyone is welcome to come and meet Suzan and listen to the story ?
URL:https://www.allspots.com/jo/events/calendar/book-fair-and-story-telling-at-little-learners-nursery/
CATEGORIES:Books & Poetry,Kids & Family,Shopping, Fairs & Expos,Special Events
ATTACH;FMTTYPE=image/jpeg:https://www.allspots.com/jo/events/wp-content/uploads/2016/11/book-fair.jpg
END:VEVENT
BEGIN:VEVENT
DTSTART;TZID=Europe/Helsinki:20161120T120000
DTEND;TZID=Europe/Helsinki:20161120T170000
DTSTAMP:20260424T181840
CREATED:20161118T095914Z
LAST-MODIFIED:20161118T095914Z
UID:7801-1479643200-1479661200@www.allspots.com
SUMMARY:Winter Offer ( Ticket & Popcorn & Pepsi) @ Prime Cinemas Irbid
DESCRIPTION:بتحب تحضر افلام ؟\nبندعوك بيوم الاحد 20/11 لتكون عنا ب عرض فريد من نوعه لاهالي اربد ..\nاحضر اي فيلم من اختيارك من الساعة 12 للساعة 5 المسا\nمع بوشار و بيبسي ب 6 دنانير فقط ! \nهذا العرض فقط بيوم 20/11/2016\nبامكانك حضور اي فيلم من اختيارك
URL:https://www.allspots.com/jo/events/calendar/winter-offer-ticket-popcorn-pepsi-prime-cinemas-irbid/
CATEGORIES:Movies & Film,Sales & Offers
ATTACH;FMTTYPE=image/jpeg:https://www.allspots.com/jo/events/wp-content/uploads/2016/11/prime.jpg
END:VEVENT
BEGIN:VEVENT
DTSTART;VALUE=DATE:20161121
DTEND;VALUE=DATE:20161122
DTSTAMP:20260424T181840
CREATED:20161115T154845Z
LAST-MODIFIED:20161116T113106Z
UID:7497-1479686400-1479711600@www.allspots.com
SUMMARY:معرض السيارات الدولي 2017
DESCRIPTION:Motorshow 2017\nمعرض السيارات الدولي 2017\nمن 21 و لغاية 25/11/2016\nقاعة معرض عمان الدولي للسيارات/طريق المطار\nمن الساعة 3 عصراً و لغاية 10 مساءً\nبمشاركة وكلاء السيارات و قطع الغيار\nتذكرة الدخول دينار واحد\nهاتف\n065714211\nخلوي\n0797773332
URL:https://www.allspots.com/jo/events/calendar/motorshow-2017-%d9%85%d8%b9%d8%b1%d8%b6-%d8%a7%d9%84%d8%b3%d9%8a%d8%a7%d8%b1%d8%a7%d8%aa-%d8%a7%d9%84%d8%af%d9%88%d9%84%d9%8a-2017/
CATEGORIES:Shopping, Fairs & Expos,Special Events
ATTACH;FMTTYPE=image/jpeg:https://www.allspots.com/jo/events/wp-content/uploads/2016/11/jaf.jpg
END:VEVENT
END:VCALENDAR