BEGIN:VCALENDAR
VERSION:2.0
PRODID:-//Jordan events calendar - AllSpots - ECPv5.14.1//NONSGML v1.0//EN
CALSCALE:GREGORIAN
METHOD:PUBLISH
X-WR-CALNAME:Jordan events calendar - AllSpots
X-ORIGINAL-URL:https://www.allspots.com/jo/events
X-WR-CALDESC:Events for Jordan events calendar - AllSpots
BEGIN:VTIMEZONE
TZID:Europe/Helsinki
BEGIN:DAYLIGHT
TZOFFSETFROM:+0200
TZOFFSETTO:+0300
TZNAME:EEST
DTSTART:20160327T010000
END:DAYLIGHT
BEGIN:STANDARD
TZOFFSETFROM:+0300
TZOFFSETTO:+0200
TZNAME:EET
DTSTART:20161030T010000
END:STANDARD
END:VTIMEZONE
BEGIN:VEVENT
DTSTART;VALUE=DATE:20161107
DTEND;VALUE=DATE:20161119
DTSTAMP:20260424T130437
CREATED:20161107T161203Z
LAST-MODIFIED:20161108T121443Z
UID:6580-1478476800-1479441599@www.allspots.com
SUMMARY:The Secret Garden by Lama Hourani
DESCRIPTION:The Secret Garden by Lama Hourani\nFrom 7-17 November 2016
URL:https://www.allspots.com/jo/events/calendar/the-secret-garden-by-lama-hourani/
LOCATION:Foresight32 Art Gallery – LAMA HOURANI Jewelry\, Ibn Al Roumi street villa #32
CATEGORIES:Shopping, Fairs & Expos,Suitable For Students
ATTACH;FMTTYPE=image/jpeg:https://www.allspots.com/jo/events/wp-content/uploads/2016/11/lama-hourani.jpg
GEO:33.4988065;36.2968351
X-APPLE-STRUCTURED-LOCATION;VALUE=URI;X-ADDRESS=Foresight32 Art Gallery – LAMA HOURANI Jewelry Ibn Al Roumi street villa #32;X-APPLE-RADIUS=500;X-TITLE=Ibn Al Roumi street villa #32:geo:36.2968351,33.4988065
END:VEVENT
BEGIN:VEVENT
DTSTART;VALUE=DATE:20161117
DTEND;VALUE=DATE:20161121
DTSTAMP:20260424T130437
CREATED:20161114T164903Z
LAST-MODIFIED:20161114T164903Z
UID:7459-1479340800-1479614399@www.allspots.com
SUMMARY:مهرجان الخير و الزيتون @ الفحيص
DESCRIPTION:تحت رعاية سعادة النائب هيا الشبلي المحترمة\nيتشرف اتحاد المرأة / فرع الفحيص بدعوتكم للمشاركة في افتتاح\nمهرجان الخير و الزيتون\n – يفتتح المهرجان ابوابه يومي الجمعه والسبت 18/11/2016 و 19/11/2016\nمن الساعه 11 صباحا لغايه 7 مساء\nلدعم المشاريع الصغيرة لسيدات المجتمع\nو ذلك في مقر الاتحاد الكائن في الفحيص مقابل مدرسة الفحيص الثانوية للبنات و بجانب منتزه الفحيص السياحي يوم الخميس الموافق 17/11/2016 الساعة الرابعة مساء و يتخلله الكثير و المنوع من المنتجات البيتيه\nو حضوركم يشرفنا و فيه تمكين و دعم لسيدات المجتمع المنتجات\nاهلا وسهلا\nالدعوة عامة
URL:https://www.allspots.com/jo/events/calendar/%d9%85%d9%87%d8%b1%d8%ac%d8%a7%d9%86-%d8%a7%d9%84%d8%ae%d9%8a%d8%b1-%d9%88-%d8%a7%d9%84%d8%b2%d9%8a%d8%aa%d9%88%d9%86-%d8%a7%d9%84%d9%81%d8%ad%d9%8a%d8%b5/
CATEGORIES:Charity & Fundraisers,Shopping, Fairs & Expos,Suitable For Students
ATTACH;FMTTYPE=image/jpeg:https://www.allspots.com/jo/events/wp-content/uploads/2016/11/zaitoun-fest.jpg
END:VEVENT
BEGIN:VEVENT
DTSTART;TZID=Europe/Helsinki:20161117T100000
DTEND;TZID=Europe/Helsinki:20161117T220000
DTSTAMP:20260424T130437
CREATED:20161109T173620Z
LAST-MODIFIED:20170124T120246Z
UID:6834-1479376800-1479420000@www.allspots.com
SUMMARY:Snatch - White Friday
DESCRIPTION:Join us for the BIGGEST SALE OF THE SEASON and enjoy up to 90% off your favourite brands and boutiques. Support local talents\, shops and give back to society with Snatch the Sale ! Also get a chance to win great prizes… Stay tuned to learn more about participating brands and boutiques\, Snatch partners and much more! \nFree Valet Parking\n3 JD Ticket \nLocation : Nuqul Automotive- VolksWagen Showroom 7th Circle Amman- Jordan \nOppening hours:\nThursday\, Saturday 10:00 AM – 10:00 PM\nFriday 2:00 PM – 10:00 PM
URL:https://www.allspots.com/jo/events/calendar/snatch-white-friday/
CATEGORIES:Sales & Offers,Shopping, Fairs & Expos
ATTACH;FMTTYPE=image/jpeg:https://www.allspots.com/jo/events/wp-content/uploads/2016/11/snatch.jpg
END:VEVENT
END:VCALENDAR