BEGIN:VCALENDAR
VERSION:2.0
PRODID:-//Jordan events calendar - AllSpots - ECPv5.14.1//NONSGML v1.0//EN
CALSCALE:GREGORIAN
METHOD:PUBLISH
X-WR-CALNAME:Jordan events calendar - AllSpots
X-ORIGINAL-URL:https://www.allspots.com/jo/events
X-WR-CALDESC:Events for Jordan events calendar - AllSpots
BEGIN:VTIMEZONE

END:VTIMEZONE
BEGIN:VEVENT
DTSTART;TZID=Europe/Helsinki:20260426T060527
DTEND;TZID=Europe/Helsinki:20170417T010000
DTSTAMP:20260426T060527
CREATED:20170414T135004Z
LAST-MODIFIED:20170414T135004Z
UID:19347-0-1492390800@www.allspots.com
SUMMARY:سهرة العشاء مع صوت النجم امير صلاح @ مطعم الحصيرة
DESCRIPTION:سهرة العشاء مع صوت النجم امير صلاح\nيوم الاحد 16/4/2017\nللحجز والاستفسار الإتصال على الرقم 0798750096
URL:https://www.allspots.com/jo/events/calendar/%d8%b3%d9%87%d8%b1%d8%a9-%d8%a7%d9%84%d8%b9%d8%b4%d8%a7%d8%a1-%d9%85%d8%b9-%d8%b5%d9%88%d8%aa-%d8%a7%d9%84%d9%86%d8%ac%d9%85-%d8%a7%d9%85%d9%8a%d8%b1-%d8%b5%d9%84%d8%a7%d8%ad-%d9%85%d8%b7%d8%b9/
CATEGORIES:Easter Events,Food & Drinks,Musical, Theatrical & Films,Nightlife,Parties & Karaoke,Special Events
ATTACH;FMTTYPE=image/jpeg:https://www.allspots.com/jo/events/wp-content/uploads/2017/04/amir-salah.jpg
END:VEVENT
BEGIN:VEVENT
DTSTART;TZID=Europe/Helsinki:20170416T120000
DTEND;TZID=Europe/Helsinki:20170416T120000
DTSTAMP:20260426T060527
CREATED:20170405T142751Z
LAST-MODIFIED:20170405T142751Z
UID:18769-1492344000-1492344000@www.allspots.com
SUMMARY:بوفيه غداء عيد الفصح المجيد @ النادي الأرثوذكسي
DESCRIPTION:النادي الأرثوذكسي\nشاركونا في بوفيه غداء\nعيد الفصح المجيد\nمع المطرب المحبوب\n؟؟؟؟؟؟؟؟؟؟؟\nفي أجواء النادي العائلية و المأكولات الشهية\nيوم الأحد 16/4/2017\nفي قاعة وهبة تماري و مطعم النادي\nو كل عام و انتم بخير\nسعر البطاقة\nللكبار 22 دينار\nللصغار 10 دينار\nشامل الضريبة\nللحجز هاتف\n5920491\nفرعي 215 – 216 \nخلوي: 0797300412
URL:https://www.allspots.com/jo/events/calendar/%d8%a8%d9%88%d9%81%d9%8a%d9%87-%d8%ba%d8%af%d8%a7%d8%a1-%d8%b9%d9%8a%d8%af-%d8%a7%d9%84%d9%81%d8%b5%d8%ad-%d8%a7%d9%84%d9%85%d8%ac%d9%8a%d8%af-%d8%a7%d9%84%d9%86%d8%a7%d8%af%d9%8a-%d8%a7%d9%84%d8%a3/
LOCATION:Orthodox Club\, Abdoun\, near Abdoun Circle\, Amman
CATEGORIES:Easter Events,Food & Drinks,Special Events
ATTACH;FMTTYPE=image/jpeg:https://www.allspots.com/jo/events/wp-content/uploads/2017/04/easter-lunch-at-orthodox-club.jpg
GEO:31.9453666;35.9283716
X-APPLE-STRUCTURED-LOCATION;VALUE=URI;X-ADDRESS=Orthodox Club Abdoun near Abdoun Circle Amman;X-APPLE-RADIUS=500;X-TITLE=Abdoun\, near Abdoun Circle:geo:35.9283716,31.9453666
END:VEVENT
BEGIN:VEVENT
DTSTART;TZID=Europe/Helsinki:20170416T120000
DTEND;TZID=Europe/Helsinki:20170416T170000
DTSTAMP:20260426T060527
CREATED:20170415T082617Z
LAST-MODIFIED:20170415T082617Z
UID:19381-1492344000-1492362000@www.allspots.com
SUMMARY:Easter Celebrations at The Dead Sea
DESCRIPTION:Join us for a fun-filled Easter celebration at Akkad Restaurant\, with a daily BBQ brunch buffet for families. We feature a wide range of fresh salads\, Arabic mezzeh and a wide range of tempting specialties from Chef’s BBQ\, for price\, for the price of JOD 34.00++ per person. \nJunior guest 12 years of age and younger are only paying the half-price. Kids under the age of six dine with our compliments.A special children’s corner will offer will offer all-time favorites snacks\, complemented\, complemented by home-made cakes\, cookies\, pastries and ice cream. \nWe organise fun activities during the day\, including face painting and a real egg hunt! \nWe look forward to your reservation by calling us at: +962 5 356 8888.
URL:https://www.allspots.com/jo/events/calendar/easter-celebrations-at-the-dead-sea/
LOCATION:Kempinski Hotel Ishtar\, Dead Sea\, Dead Sea
CATEGORIES:Easter Events,Food & Drinks,Special Events
ATTACH;FMTTYPE=image/jpeg:https://www.allspots.com/jo/events/wp-content/uploads/2017/04/Easter-Celebrations-at-The-Dead-Sea.jpg
END:VEVENT
BEGIN:VEVENT
DTSTART;TZID=Europe/Helsinki:20170416T123000
DTEND;TZID=Europe/Helsinki:20170416T160000
DTSTAMP:20260426T060527
CREATED:20170409T144912Z
LAST-MODIFIED:20170409T144912Z
UID:18974-1492345800-1492358400@www.allspots.com
SUMMARY:Easter Hop @ Le Meridien Amman
DESCRIPTION:LA BRASSERIE EASTER HOP \nHop over to #LaBrasserie for a #scrumptious #Easter lunch with the composed #melodies of live #piano to fit your taste and let your little ones enjoy “Easter #Surprises #Entertainment” \nPrice : JD25++ per person with one round of soft drink \nFree for kids from 1-5 years old.\nKids between 6-12 years enjoy 50% discount. \nFor information please call +9625696511. \nاستمتع بالفصح في لابرازيري \nهيا الى مطعم لا برازيري لتناول وجبة غذاء شهية في عيد الفصح على أنغام البيانو ، ودع أطفالك يستمتعون بمفاجآت الفصح المتنوعة. \nالوقت : 12:30 – 16:00\nالسعر : ++25 دينار للشخص مع نوع واحد من المشروبات الغازية. \nمجانا للأطفال من عمر 1-5 سنوات.\nاستمتع بخصم 50% على الأطفال من عمر 6-12 سنة \nللحجز يرجى الاتصال على : 9625696511 +
URL:https://www.allspots.com/jo/events/calendar/easter-hop-le-meridien-amman/
LOCATION:Le Meridien Hotel – فندق الميريديان\, Queen Noor Street -  Shmeisani 
CATEGORIES:Easter Events,Food & Drinks,Kids & Family,Special Events
ATTACH;FMTTYPE=image/jpeg:https://www.allspots.com/jo/events/wp-content/uploads/2017/04/Easter-Hop.jpg
END:VEVENT
BEGIN:VEVENT
DTSTART;TZID=Europe/Helsinki:20170416T123000
DTEND;TZID=Europe/Helsinki:20170416T160000
DTSTAMP:20260426T060527
CREATED:20170410T150611Z
LAST-MODIFIED:20170410T150611Z
UID:19041-1492345800-1492358400@www.allspots.com
SUMMARY:Easter Lunch @ Grand Millennium Hotel Amman
DESCRIPTION:Add a special flavor to your Easter and join us with your family on Easter Sunday for a special lunch buffet to entice your appetite and please your taste buds.\n#RSVP 079 7590 900\nعيد فصح مجيد!\nتمتع مع عائلتك بعرض الغذاء من البوفيه المفتوح و المقدم خصيصاً للإحتفال بعيد الفصح المجيد
URL:https://www.allspots.com/jo/events/calendar/easter-lunch-grand-millennium-hotel-amman/
LOCATION:Grand Millennium Hotel\, Shmeisani\, Iliyya Abou Madi Street
CATEGORIES:Easter Events,Food & Drinks,Special Events
ATTACH;FMTTYPE=image/jpeg:https://www.allspots.com/jo/events/wp-content/uploads/2017/04/easter-lunch-at-Grand-Millennium-Hotel-Amman‎.jpg
GEO:31.9644699;35.9009326
X-APPLE-STRUCTURED-LOCATION;VALUE=URI;X-ADDRESS=Grand Millennium Hotel Shmeisani Iliyya Abou Madi Street;X-APPLE-RADIUS=500;X-TITLE=Shmeisani\, Iliyya Abou Madi Street:geo:35.9009326,31.9644699
END:VEVENT
BEGIN:VEVENT
DTSTART;TZID=Europe/Helsinki:20170416T123000
DTEND;TZID=Europe/Helsinki:20170416T230000
DTSTAMP:20260426T060527
CREATED:20170412T154858Z
LAST-MODIFIED:20170412T154858Z
UID:19178-1492345800-1492383600@www.allspots.com
SUMMARY:Egg'citing Easter Sunday at Amman Rotana
DESCRIPTION:Gather your loved ones and celebrate Easter Sunday in one of our three egg’citing venues at Amman Rotana. \nBrunch at ThreeSixty:\nRich international buffet\nLive cooking stations\nJOD 26++ per person including house beverages \nLunch at Gusto:\nDelectably picked sharing appetizers\nLive pizza and risotto stations\nJOD 22++ per person \nLunch at Rodeo Grill:\nSpecial set menu by Chef Marcelo\nJOD 35++ per person \nDon’t forget to let your kids participate in our special Easter egg hunt in the lobby! \nFor reservations\, please visit http://roho.it/ttgmk
URL:https://www.allspots.com/jo/events/calendar/eggciting-easter-sunday-at-amman-rotana/
CATEGORIES:Easter Events,Food & Drinks,Kids & Family,Special Events
ATTACH;FMTTYPE=image/jpeg:https://www.allspots.com/jo/events/wp-content/uploads/2017/04/Eggciting-Easter-Sunday-at-Amman-Rotana.jpg
END:VEVENT
BEGIN:VEVENT
DTSTART;TZID=Europe/Helsinki:20170416T130000
DTEND;TZID=Europe/Helsinki:20170416T150000
DTSTAMP:20260426T060527
CREATED:20170414T133808Z
LAST-MODIFIED:20170414T133808Z
UID:19337-1492347600-1492354800@www.allspots.com
SUMMARY:Easter Celebration @ DoubleTree by Hilton Aqaba
DESCRIPTION:Join our Easter celebrations with a mouth-watering lunch buffet in our main restaurant\, Gusto. Happy Easter everyone
URL:https://www.allspots.com/jo/events/calendar/easter-celebration-doubletree-by-hilton-aqaba/
CATEGORIES:Easter Events,Food & Drinks,Special Events
ATTACH;FMTTYPE=image/jpeg:https://www.allspots.com/jo/events/wp-content/uploads/2017/04/easter-celebration-aqaba.jpg
END:VEVENT
BEGIN:VEVENT
DTSTART;TZID=Europe/Helsinki:20170416T130000
DTEND;TZID=Europe/Helsinki:20170416T160000
DTSTAMP:20260426T060527
CREATED:20170415T082024Z
LAST-MODIFIED:20170415T082024Z
UID:19375-1492347600-1492358400@www.allspots.com
SUMMARY:Let The Easter Celebration Start!
DESCRIPTION:Get right to the Easter celebrations with our indulgent Easter Brunch. \nExperience our magical Easter family Sunday brunch that is full of surprises including a delicious buffet\, entertainment and fabulous kids activities at The Walk Restaurant. \nBook Your table for JOD 21.00++ per person. \nFor more information\, please call +9623 2090888.
URL:https://www.allspots.com/jo/events/calendar/let-the-easter-celebration-start/
LOCATION:Kempinski Hotel\, Aqaba\, Aqaba
CATEGORIES:Easter Events,Food & Drinks,Kids & Family,Special Events
ATTACH;FMTTYPE=image/jpeg:https://www.allspots.com/jo/events/wp-content/uploads/2017/04/easter-at-Kempinski-Hotel-Aqaba-Red-Sea.jpg
GEO:29.532086;35.0062821
END:VEVENT
BEGIN:VEVENT
DTSTART;TZID=Europe/Helsinki:20170416T130000
DTEND;TZID=Europe/Helsinki:20170416T160000
DTSTAMP:20260426T060527
CREATED:20170415T082350Z
LAST-MODIFIED:20170415T082350Z
UID:19378-1492347600-1492358400@www.allspots.com
SUMMARY:Easter Brunch @ Grand Hyatt Amman
DESCRIPTION:Celebrate Easter Sunday at Grand Hyatt Amman !! \nwhere can enjoy our creatively created international buffet for the Easter family brunch with live cooking stations and special desserts.\nEntrainment : In-house music\nKids will enjoy the egg hunting activity \nVenue: 32 Restaurant\nPrice: 32 JD’s ++ ( including soft drink)\nTiming: 1 PM – 4 PM \nfor reservations and more information\, please call 465 1234
URL:https://www.allspots.com/jo/events/calendar/easter-brunch-grand-hyatt-amman/
LOCATION:Grand Hyatt Amman\, Jabal Amman\, Hussein Bin Ali Street\, Jordan
CATEGORIES:Easter Events,Food & Drinks,Special Events
ATTACH;FMTTYPE=image/jpeg:https://www.allspots.com/jo/events/wp-content/uploads/2017/04/Easter-Brunch-At-Grand-Hyatt-Amman.jpg
GEO:31.9453666;35.9283716
X-APPLE-STRUCTURED-LOCATION;VALUE=URI;X-ADDRESS=Grand Hyatt Amman Jabal Amman Hussein Bin Ali Street Jordan;X-APPLE-RADIUS=500;X-TITLE=Jabal Amman\, Hussein Bin Ali Street:geo:35.9283716,31.9453666
END:VEVENT
BEGIN:VEVENT
DTSTART;TZID=Europe/Helsinki:20170416T183000
DTEND;TZID=Europe/Helsinki:20170416T223000
DTSTAMP:20260426T060527
CREATED:20170413T135848Z
LAST-MODIFIED:20170413T135938Z
UID:19255-1492367400-1492381800@www.allspots.com
SUMMARY:Easter buffet feast and lots of treats @ Movenpick Resort & Residences\, Aqaba
DESCRIPTION:     Easter buffet feast and lots of treats @ Palm Court Restaurant \, Movenpick Resort & Residences\, Aqaba\nFill your plate with gastronomic treats from different parts of the world and splurge on our wide selection of easter buffet. Book 5 adults and get a total of 25% off on your food & beverage bill when you dine at the Palm Court Restaurant and Terrace on either morning or evening of 16th April 2017.\nBreakfast is set from 6:30 am to 10:30 am for JD 12++.\nDinner is set from 6:30 pm to 10:30 pm for JD 22++.\nKids age 6 to 12 gets 50% off.\nAnd kids age 5 years and below\, always dine for free.\nInquire and Reserve via call at 032034020
URL:https://www.allspots.com/jo/events/calendar/easter-buffet-feast-and-lots-of-treats-movenpick-resort-residences-aqaba/
LOCATION:Movenpick Resort & Residences\, Aqaba\, King Hussein Street\, Aqaba\, العقبة
CATEGORIES:Easter Events,Food & Drinks
ATTACH;FMTTYPE=image/jpeg:https://www.allspots.com/jo/events/wp-content/uploads/2017/04/easter-food-at-movenpick-aqaba.jpg
GEO:29.5242939;35.0019505
X-APPLE-STRUCTURED-LOCATION;VALUE=URI;X-ADDRESS=Movenpick Resort & Residences Aqaba King Hussein Street Aqaba العقبة;X-APPLE-RADIUS=500;X-TITLE=King Hussein Street\, Aqaba:geo:35.0019505,29.5242939
END:VEVENT
BEGIN:VEVENT
DTSTART;TZID=Europe/Helsinki:20170416T200000
DTEND;TZID=Europe/Helsinki:20170416T200000
DTSTAMP:20260426T060527
CREATED:20170414T135659Z
LAST-MODIFIED:20170414T135659Z
UID:19353-1492372800-1492372800@www.allspots.com
SUMMARY:Easter Party with Singer Najem Alsalman @ Bawabit Madaba
DESCRIPTION:بوابة مادبا\nSinger Najem Alsalman\nDJ Jaber Alamat\n16-4-2017\nEaster Party\nMaza & Dinner\nno cover charge\n0795636600-053240335
URL:https://www.allspots.com/jo/events/calendar/easter-party-with-singer-najem-alsalman-bawabit-madaba/
CATEGORIES:Easter Events,Food & Drinks,Musical, Theatrical & Films,Nightlife,Parties & Karaoke,Special Events
ATTACH;FMTTYPE=image/jpeg:https://www.allspots.com/jo/events/wp-content/uploads/2017/04/easter-party-at-bawabit-madaba.jpg
END:VEVENT
BEGIN:VEVENT
DTSTART;TZID=Europe/Helsinki:20170416T203000
DTEND;TZID=Europe/Helsinki:20170416T203000
DTSTAMP:20260426T060527
CREATED:20170331T074522Z
LAST-MODIFIED:20170331T074522Z
UID:18295-1492374600-1492374600@www.allspots.com
SUMMARY:Easter Party with Faris Al-Abdullah @ Star Plaza
DESCRIPTION:تتشرف مجموعة كشافة و مرشدات قلب يسوع الأقدس\nبدعوتكم لحضور حفل عشاء ساهر\nبمناسبة عيد الفصح المجيد\nFaris Al Abdallah\nDJ Mohanad Sheikh Yaseen\nPercussion Bashar Haddad\nو ذلك يوم الأحد 16/4/2016 الساعة 8:30 مساءً\nفي فندق ستار بلازا (تايكي) سابقاً\nيتخلل الحفل عشاء بوفيه و جوائز و مسابقات عديدة\nسعر البطاقة 35دينار \nللحجز و الاستفسار الاتصال على: \nهاشم حدادين: 0799621863 \nليث عماري: 0796363808 \nغسان أبو منة: 0795544384
URL:https://www.allspots.com/jo/events/calendar/easter-party-with-faris-al-abdullah-star-plaza/
CATEGORIES:Easter Events,Food & Drinks,Musical, Theatrical & Films,Nightlife,Parties & Karaoke,Special Events
ATTACH;FMTTYPE=image/jpeg:https://www.allspots.com/jo/events/wp-content/uploads/2017/03/faris-abdallah.jpg
END:VEVENT
BEGIN:VEVENT
DTSTART;TZID=Europe/Helsinki:20170416T210000
DTEND;TZID=Europe/Helsinki:20170416T210000
DTSTAMP:20260426T060527
CREATED:20170410T153320Z
LAST-MODIFIED:20170410T153320Z
UID:19053-1492376400-1492376400@www.allspots.com
SUMMARY:المطرب إيهاب مراد @ النادي الأرثوذكسي
DESCRIPTION:Happy Easter\nمع المطرب إيهاب مراد\nفي أول يوم عيد الفصح المجيد\n16/4/2017\nالساعة التاسعة مساءً\nسعر التذكرة 25 دينار شامل الضريبة\nالعشاء بوفيه + DJ\nللحجز الاتصال على\n0797300412
URL:https://www.allspots.com/jo/events/calendar/%d8%a7%d9%84%d9%85%d8%b7%d8%b1%d8%a8-%d8%a5%d9%8a%d9%87%d8%a7%d8%a8-%d9%85%d8%b1%d8%a7%d8%af-%d8%a7%d9%84%d9%86%d8%a7%d8%af%d9%8a-%d8%a7%d9%84%d8%a3%d8%b1%d8%ab%d9%88%d8%b0%d9%83%d8%b3%d9%8a/
LOCATION:Orthodox Club\, Abdoun\, near Abdoun Circle\, Amman
CATEGORIES:Easter Events,Food & Drinks,Musical, Theatrical & Films,Special Events
ATTACH;FMTTYPE=image/jpeg:https://www.allspots.com/jo/events/wp-content/uploads/2017/04/ehab-murad-easter-party-and-dinner-at-orthodox-club.jpg
GEO:31.9453666;35.9283716
X-APPLE-STRUCTURED-LOCATION;VALUE=URI;X-ADDRESS=Orthodox Club Abdoun near Abdoun Circle Amman;X-APPLE-RADIUS=500;X-TITLE=Abdoun\, near Abdoun Circle:geo:35.9283716,31.9453666
END:VEVENT
END:VCALENDAR