BEGIN:VCALENDAR
VERSION:2.0
PRODID:-//Jordan events calendar - AllSpots - ECPv5.14.1//NONSGML v1.0//EN
CALSCALE:GREGORIAN
METHOD:PUBLISH
X-WR-CALNAME:Jordan events calendar - AllSpots
X-ORIGINAL-URL:https://www.allspots.com/jo/events
X-WR-CALDESC:Events for Jordan events calendar - AllSpots
BEGIN:VTIMEZONE

END:VTIMEZONE
BEGIN:VEVENT
DTSTART;TZID=Europe/Helsinki:20260426T024457
DTEND;TZID=Europe/Helsinki:20170417T010000
DTSTAMP:20260426T024457
CREATED:20170414T135004Z
LAST-MODIFIED:20170414T135004Z
UID:19347-0-1492390800@www.allspots.com
SUMMARY:سهرة العشاء مع صوت النجم امير صلاح @ مطعم الحصيرة
DESCRIPTION:سهرة العشاء مع صوت النجم امير صلاح\nيوم الاحد 16/4/2017\nللحجز والاستفسار الإتصال على الرقم 0798750096
URL:https://www.allspots.com/jo/events/calendar/%d8%b3%d9%87%d8%b1%d8%a9-%d8%a7%d9%84%d8%b9%d8%b4%d8%a7%d8%a1-%d9%85%d8%b9-%d8%b5%d9%88%d8%aa-%d8%a7%d9%84%d9%86%d8%ac%d9%85-%d8%a7%d9%85%d9%8a%d8%b1-%d8%b5%d9%84%d8%a7%d8%ad-%d9%85%d8%b7%d8%b9/
CATEGORIES:Easter Events,Food & Drinks,Musical, Theatrical & Films,Nightlife,Parties & Karaoke,Special Events
ATTACH;FMTTYPE=image/jpeg:https://www.allspots.com/jo/events/wp-content/uploads/2017/04/amir-salah.jpg
END:VEVENT
BEGIN:VEVENT
DTSTART;TZID=Europe/Helsinki:20170414T080000
DTEND;TZID=Europe/Helsinki:20170414T170000
DTSTAMP:20260426T024457
CREATED:20170414T134031Z
LAST-MODIFIED:20170414T134031Z
UID:19340-1492156800-1492189200@www.allspots.com
SUMMARY:Easter Family Lunch @ Mövenpick Resort & Spa Dead Sea
DESCRIPTION:Fill up on Easter excitement and great food at the ultimate Easter Family Lunch. Along with our festive buffet laden with traditional international favourites\, there’s a host of fun-filled Easter activities to entertain the kids.\nJD 26++ per personApril 16\, 2017 From 12.30 pm until 4.00 pm.Kids between the age of 7-12 years dine at 50% and kids below the age of 6 years dine for free.
URL:https://www.allspots.com/jo/events/calendar/easter-family-lunch-movenpick-resort-spa-dead-sea/
CATEGORIES:Easter Events,Food & Drinks,Kids & Family,Special Events
ATTACH;FMTTYPE=image/jpeg:https://www.allspots.com/jo/events/wp-content/uploads/2017/04/easter-family-lunch-dead-sea.jpg
END:VEVENT
BEGIN:VEVENT
DTSTART;TZID=Europe/Helsinki:20170414T110000
DTEND;TZID=Europe/Helsinki:20170414T150000
DTSTAMP:20260426T024457
CREATED:20170413T163247Z
LAST-MODIFIED:20170413T163311Z
UID:19281-1492167600-1492182000@www.allspots.com
SUMMARY:Friday Easter activities @ BLUE FIG
DESCRIPTION:Friday Easter activities @ BLUE FIG\n On Friday 14/4/2017 – from 11am – 3pm\n?Join us at Blue Fig ?and let the little ones enjoy Good Friday Easter activities
URL:https://www.allspots.com/jo/events/calendar/friday-easter-activities-blue-fig/
LOCATION:Blue Fig – بلو فيج\, Abdoun - Al-Ameer Hashem Bin Al-Hussein Street
CATEGORIES:Easter Events,Food & Drinks,Kids & Family
ATTACH;FMTTYPE=image/jpeg:https://www.allspots.com/jo/events/wp-content/uploads/2017/04/easter-kids-movenpick-aqaba.jpg
END:VEVENT
BEGIN:VEVENT
DTSTART;TZID=Europe/Helsinki:20170414T140000
DTEND;TZID=Europe/Helsinki:20170414T170000
DTSTAMP:20260426T024457
CREATED:20170412T154623Z
LAST-MODIFIED:20170412T154623Z
UID:19175-1492178400-1492189200@www.allspots.com
SUMMARY:Egg Hunting at Buffalo Wings & Rings
DESCRIPTION:You’ve Been Egged!\nBring your kids for a fun egg hunting family Friday at Buffalo Wings and Rings\, Abdoun\, Jabal Amman\, and Khalda on Friday the 14th from 2 PM to 5 PM.\nBring your kids for Chocolates\, Balloon SHapping\, Egg Coloring\, Cookies\, and Face painting! Moreover\, KIDS EAT FREE!\nFind your special Easter basket at our Egg Hunt at Buffalo Wings and Rings…
URL:https://www.allspots.com/jo/events/calendar/egg-hunting-at-buffalo-wings-rings/
LOCATION:Buffalo Wings & Rings – Jordan\, Amman\, Jordan\, Amman\, Jordan
CATEGORIES:Easter Events,Food & Drinks,Kids & Family,Special Events
ATTACH;FMTTYPE=image/jpeg:https://www.allspots.com/jo/events/wp-content/uploads/2017/04/egg-hunting-family-friday-buffalo-wings-and-rings-jordan.jpg
GEO:31.9453633;35.9283895
X-APPLE-STRUCTURED-LOCATION;VALUE=URI;X-ADDRESS=Buffalo Wings & Rings – Jordan Amman Jordan Amman Jordan;X-APPLE-RADIUS=500;X-TITLE=Amman\, Jordan:geo:35.9283895,31.9453633
END:VEVENT
END:VCALENDAR