BEGIN:VCALENDAR
VERSION:2.0
PRODID:-//Jordan events calendar - AllSpots - ECPv5.14.1//NONSGML v1.0//EN
CALSCALE:GREGORIAN
METHOD:PUBLISH
X-WR-CALNAME:Jordan events calendar - AllSpots
X-ORIGINAL-URL:https://www.allspots.com/jo/events
X-WR-CALDESC:Events for Jordan events calendar - AllSpots
BEGIN:VTIMEZONE

END:VTIMEZONE
BEGIN:VEVENT
DTSTART;TZID=Europe/Helsinki:20260425T194203
DTEND;TZID=Europe/Helsinki:20170417T010000
DTSTAMP:20260425T194203
CREATED:20170414T135004Z
LAST-MODIFIED:20170414T135004Z
UID:19347-0-1492390800@www.allspots.com
SUMMARY:سهرة العشاء مع صوت النجم امير صلاح @ مطعم الحصيرة
DESCRIPTION:سهرة العشاء مع صوت النجم امير صلاح\nيوم الاحد 16/4/2017\nللحجز والاستفسار الإتصال على الرقم 0798750096
URL:https://www.allspots.com/jo/events/calendar/%d8%b3%d9%87%d8%b1%d8%a9-%d8%a7%d9%84%d8%b9%d8%b4%d8%a7%d8%a1-%d9%85%d8%b9-%d8%b5%d9%88%d8%aa-%d8%a7%d9%84%d9%86%d8%ac%d9%85-%d8%a7%d9%85%d9%8a%d8%b1-%d8%b5%d9%84%d8%a7%d8%ad-%d9%85%d8%b7%d8%b9/
CATEGORIES:Easter Events,Food & Drinks,Musical, Theatrical & Films,Nightlife,Parties & Karaoke,Special Events
ATTACH;FMTTYPE=image/jpeg:https://www.allspots.com/jo/events/wp-content/uploads/2017/04/amir-salah.jpg
END:VEVENT
BEGIN:VEVENT
DTSTART;TZID=Europe/Helsinki:20170409T120000
DTEND;TZID=Europe/Helsinki:20170409T120000
DTSTAMP:20260425T194203
CREATED:20170405T141447Z
LAST-MODIFIED:20170405T141447Z
UID:18757-1491739200-1491739200@www.allspots.com
SUMMARY:بوفيه أحد الشعنينة المميز @ النادي الأرثوذكسي
DESCRIPTION:النادي الأرثوذكسي\nتناولوا بوفيه من الأسماك الطازجة الفاخرة\nأحد الشعانين المميز\nفي مطعم النادي الأرثوذكسي\nظهر يوم الأحد 9/4/2017\nفي مطعم النادي\nو كل عام و انتم بخير\nسعر البطاقة\nللكبار – 24 دينار\nللصغار – 12 دينار\nشامل الضريبة\nللحجز\n5920491\nفرعي 215-216
URL:https://www.allspots.com/jo/events/calendar/%d8%a8%d9%88%d9%81%d9%8a%d9%87-%d8%a3%d8%ad%d8%af-%d8%a7%d9%84%d8%b4%d8%b9%d9%86%d9%8a%d9%86%d8%a9-%d8%a7%d9%84%d9%85%d9%85%d9%8a%d8%b2-%d8%a7%d9%84%d9%86%d8%a7%d8%af%d9%8a-%d8%a7%d9%84%d8%a3%d8%b1/
LOCATION:Orthodox Club\, Abdoun\, near Abdoun Circle\, Amman
CATEGORIES:Food & Drinks,Special Events
ATTACH;FMTTYPE=image/jpeg:https://www.allspots.com/jo/events/wp-content/uploads/2017/04/palm-sunday-buffet.jpg
GEO:31.9453666;35.9283716
X-APPLE-STRUCTURED-LOCATION;VALUE=URI;X-ADDRESS=Orthodox Club Abdoun near Abdoun Circle Amman;X-APPLE-RADIUS=500;X-TITLE=Abdoun\, near Abdoun Circle:geo:35.9283716,31.9453666
END:VEVENT
BEGIN:VEVENT
DTSTART;TZID=Europe/Helsinki:20170409T130000
DTEND;TZID=Europe/Helsinki:20170409T180000
DTSTAMP:20260425T194203
CREATED:20170404T205219Z
LAST-MODIFIED:20170404T205731Z
UID:18640-1491742800-1491760800@www.allspots.com
SUMMARY:Palm Sunday lunch @ Villa Maza
DESCRIPTION:Palm Sunday lunch @ Villa Maza\nSunday 9/4/2017 – at 1 PM – 6 PM\nPalm Sunday preparations will include a set menu & kids activities.\nFor reservations please call 0775140004.
URL:https://www.allspots.com/jo/events/calendar/palm-sunday-lunch-villa-maza/
CATEGORIES:Easter Events,Food & Drinks
ATTACH;FMTTYPE=image/jpeg:https://www.allspots.com/jo/events/wp-content/uploads/2017/04/palm-sunday.jpg
END:VEVENT
END:VCALENDAR