BEGIN:VCALENDAR
VERSION:2.0
PRODID:-//Jordan events calendar - AllSpots - ECPv5.14.1//NONSGML v1.0//EN
CALSCALE:GREGORIAN
METHOD:PUBLISH
X-WR-CALNAME:Jordan events calendar - AllSpots
X-ORIGINAL-URL:https://www.allspots.com/jo/events
X-WR-CALDESC:Events for Jordan events calendar - AllSpots
BEGIN:VTIMEZONE

END:VTIMEZONE
BEGIN:VEVENT
DTSTART;TZID=Europe/Helsinki:20260426T001545
DTEND;TZID=Europe/Helsinki:20170417T010000
DTSTAMP:20260426T001545
CREATED:20170414T135004Z
LAST-MODIFIED:20170414T135004Z
UID:19347-0-1492390800@www.allspots.com
SUMMARY:سهرة العشاء مع صوت النجم امير صلاح @ مطعم الحصيرة
DESCRIPTION:سهرة العشاء مع صوت النجم امير صلاح\nيوم الاحد 16/4/2017\nللحجز والاستفسار الإتصال على الرقم 0798750096
URL:https://www.allspots.com/jo/events/calendar/%d8%b3%d9%87%d8%b1%d8%a9-%d8%a7%d9%84%d8%b9%d8%b4%d8%a7%d8%a1-%d9%85%d8%b9-%d8%b5%d9%88%d8%aa-%d8%a7%d9%84%d9%86%d8%ac%d9%85-%d8%a7%d9%85%d9%8a%d8%b1-%d8%b5%d9%84%d8%a7%d8%ad-%d9%85%d8%b7%d8%b9/
CATEGORIES:Easter Events,Food & Drinks,Musical, Theatrical & Films,Nightlife,Parties & Karaoke,Special Events
ATTACH;FMTTYPE=image/jpeg:https://www.allspots.com/jo/events/wp-content/uploads/2017/04/amir-salah.jpg
END:VEVENT
BEGIN:VEVENT
DTSTART;TZID=Europe/Helsinki:20170406T190000
DTEND;TZID=Europe/Helsinki:20170407T010000
DTSTAMP:20260426T001545
CREATED:20170325T131338Z
LAST-MODIFIED:20170325T133427Z
UID:17754-1491505200-1491526800@www.allspots.com
SUMMARY:Tapas Night @ Grand Hyatt Amman
DESCRIPTION:Tapas Night @ Grand Hyatt Amman\nThursday\, April 6 at 7 PM – 1 AM\nSit back and entice your appetite to a variety of scrumptious hot and cold Tapas. Enjoy a family style ambiance and roam around a buffet of Tapas and cheeses while listening to live music from Lation Acoustic Band.\nPrice : 32 JD’s ++ (including plate of hot and cold tapas and a bottle of wine from Torres Spain)\nLocation: 32 N Restaurant
URL:https://www.allspots.com/jo/events/calendar/tapas-night-grand-hyatt-amman/
LOCATION:Grand Hyatt Amman\, Jabal Amman\, Hussein Bin Ali Street\, Jordan
CATEGORIES:Food & Drinks
ATTACH;FMTTYPE=image/jpeg:https://www.allspots.com/jo/events/wp-content/uploads/2017/03/tapas.jpg
GEO:31.9453666;35.9283716
X-APPLE-STRUCTURED-LOCATION;VALUE=URI;X-ADDRESS=Grand Hyatt Amman Jabal Amman Hussein Bin Ali Street Jordan;X-APPLE-RADIUS=500;X-TITLE=Jabal Amman\, Hussein Bin Ali Street:geo:35.9283716,31.9453666
END:VEVENT
BEGIN:VEVENT
DTSTART;TZID=Europe/Helsinki:20170406T200000
DTEND;TZID=Europe/Helsinki:20170406T230000
DTSTAMP:20260426T001545
CREATED:20170327T170554Z
LAST-MODIFIED:20170327T170554Z
UID:18046-1491508800-1491519600@www.allspots.com
SUMMARY:Tapas 32 and Torres wine
DESCRIPTION:Sit back and enjoy an evening sampling Torres wines from Spain with a selection of hot and cold tapas for the table to share.\nLive music featuring the Latino Acoustic Band. \nVenue: 32 N Restaurant\nPrice: JD 32++\n(includes hot & cold tapas\, a bottle of Torres wine per couple)\nDate: 6th April 2017 \nFOR RESERVATIONS VISIT AMMAN.GRAND.HYATT.COM\nOR CALL +962 6 465 1234 OR EMAIL AMMAN.GRAND@HYATT.COM
URL:https://www.allspots.com/jo/events/calendar/tapas-32-and-torres-wine/
LOCATION:Grand Hyatt Amman\, Jabal Amman\, Hussein Bin Ali Street\, Jordan
CATEGORIES:Food & Drinks
GEO:31.9453666;35.9283716
X-APPLE-STRUCTURED-LOCATION;VALUE=URI;X-ADDRESS=Grand Hyatt Amman Jabal Amman Hussein Bin Ali Street Jordan;X-APPLE-RADIUS=500;X-TITLE=Jabal Amman\, Hussein Bin Ali Street:geo:35.9283716,31.9453666
END:VEVENT
END:VCALENDAR