BEGIN:VCALENDAR
VERSION:2.0
PRODID:-//Jordan events calendar - AllSpots - ECPv5.14.1//NONSGML v1.0//EN
CALSCALE:GREGORIAN
METHOD:PUBLISH
X-WR-CALNAME:Jordan events calendar - AllSpots
X-ORIGINAL-URL:https://www.allspots.com/jo/events
X-WR-CALDESC:Events for Jordan events calendar - AllSpots
BEGIN:VTIMEZONE

END:VTIMEZONE
BEGIN:VEVENT
DTSTART;TZID=Europe/Helsinki:20260426T014523
DTEND;TZID=Europe/Helsinki:20170417T010000
DTSTAMP:20260426T014523
CREATED:20170414T135004Z
LAST-MODIFIED:20170414T135004Z
UID:19347-0-1492390800@www.allspots.com
SUMMARY:سهرة العشاء مع صوت النجم امير صلاح @ مطعم الحصيرة
DESCRIPTION:سهرة العشاء مع صوت النجم امير صلاح\nيوم الاحد 16/4/2017\nللحجز والاستفسار الإتصال على الرقم 0798750096
URL:https://www.allspots.com/jo/events/calendar/%d8%b3%d9%87%d8%b1%d8%a9-%d8%a7%d9%84%d8%b9%d8%b4%d8%a7%d8%a1-%d9%85%d8%b9-%d8%b5%d9%88%d8%aa-%d8%a7%d9%84%d9%86%d8%ac%d9%85-%d8%a7%d9%85%d9%8a%d8%b1-%d8%b5%d9%84%d8%a7%d8%ad-%d9%85%d8%b7%d8%b9/
CATEGORIES:Easter Events,Food & Drinks,Musical, Theatrical & Films,Nightlife,Parties & Karaoke,Special Events
ATTACH;FMTTYPE=image/jpeg:https://www.allspots.com/jo/events/wp-content/uploads/2017/04/amir-salah.jpg
END:VEVENT
BEGIN:VEVENT
DTSTART;TZID=Europe/Helsinki:20170405T103000
DTEND;TZID=Europe/Helsinki:20170405T130000
DTSTAMP:20260426T014523
CREATED:20170403T150522Z
LAST-MODIFIED:20170403T150522Z
UID:18546-1491388200-1491397200@www.allspots.com
SUMMARY:Spring Buffet
DESCRIPTION:فتة بالسمنة، فتة بالزيت ،فول بالزيت ،مسخن رول ،سبرينغ رول، شاورما، بيتزا سورايه، برك جيبنة، كبة مقلية، شيشبرك، يلنجي، حراء باصبعو، تبولة ،سيزر سلط، جيرجير مع الفروالة، غنوج ، محمرة، حمص ، متبل شوندر ، اجبان مشكلة ، تركي .\nزبدة ، مربى ،مدلوقة، حلاوة الجبن ، مهلبية + مشروبات باردة\nسعر البوفيه على الشخص 12 دينار شامل الضريبة و الخدمة \nالرجاء الاتصال بالمطعم للحجز المسبق : 065939276 – 0798555556\nدوار عبدون ، مجمع الفيحاء – عمان\nاهلاً و سهلاً فيكم و بكل صحباتكم\nالفطور للسيدات فقط\nRecent Posts
URL:https://www.allspots.com/jo/events/calendar/spring-buffet/
CATEGORIES:Food & Drinks
ATTACH;FMTTYPE=image/jpeg:https://www.allspots.com/jo/events/wp-content/uploads/2017/04/spring-breakfas.jpg
END:VEVENT
BEGIN:VEVENT
DTSTART;TZID=Europe/Helsinki:20170405T120000
DTEND;TZID=Europe/Helsinki:20170405T160000
DTSTAMP:20260426T014523
CREATED:20170325T134025Z
LAST-MODIFIED:20170325T134025Z
UID:17760-1491393600-1491408000@www.allspots.com
SUMMARY:Say It with Flowers a Tribute to Spring
DESCRIPTION:FRIENDS OF JORDAN SOCIETY \nCordially invite you to\n“Say it with Flowers…a tribute to Spring” \nA fund raising lunch at\nDr. & Mrs. Mohammed Al Adwan\nShuna Janoubia-Jordan Valley\nOn Wednesday April 5th 2017 at 1 pm\nDress code: Anything floral & comfortable\nPrice JD 40 \nTo reserve for transportation by bus\nPlease contact\n079 6023000/0795521539/0795532591\nbefore 25/3/2017 \nKindly present this card at the entrancef
URL:https://www.allspots.com/jo/events/calendar/say-it-with-flowers-a-tribute-to-spring/
CATEGORIES:Charity & Fundraisers,Food & Drinks,Special Events
ATTACH;FMTTYPE=image/jpeg:https://www.allspots.com/jo/events/wp-content/uploads/2017/03/Say-It-with-Flowers-a-Tribute-to-Spring.jpg
END:VEVENT
END:VCALENDAR