BEGIN:VCALENDAR
VERSION:2.0
PRODID:-//Jordan events calendar - AllSpots - ECPv5.14.1//NONSGML v1.0//EN
CALSCALE:GREGORIAN
METHOD:PUBLISH
X-WR-CALNAME:Jordan events calendar - AllSpots
X-ORIGINAL-URL:https://www.allspots.com/jo/events
X-WR-CALDESC:Events for Jordan events calendar - AllSpots
BEGIN:VTIMEZONE

END:VTIMEZONE
BEGIN:VEVENT
DTSTART;TZID=Europe/Helsinki:20260426T031418
DTEND;TZID=Europe/Helsinki:20170417T010000
DTSTAMP:20260426T031418
CREATED:20170414T135004Z
LAST-MODIFIED:20170414T135004Z
UID:19347-0-1492390800@www.allspots.com
SUMMARY:سهرة العشاء مع صوت النجم امير صلاح @ مطعم الحصيرة
DESCRIPTION:سهرة العشاء مع صوت النجم امير صلاح\nيوم الاحد 16/4/2017\nللحجز والاستفسار الإتصال على الرقم 0798750096
URL:https://www.allspots.com/jo/events/calendar/%d8%b3%d9%87%d8%b1%d8%a9-%d8%a7%d9%84%d8%b9%d8%b4%d8%a7%d8%a1-%d9%85%d8%b9-%d8%b5%d9%88%d8%aa-%d8%a7%d9%84%d9%86%d8%ac%d9%85-%d8%a7%d9%85%d9%8a%d8%b1-%d8%b5%d9%84%d8%a7%d8%ad-%d9%85%d8%b7%d8%b9/
CATEGORIES:Easter Events,Food & Drinks,Musical, Theatrical & Films,Nightlife,Parties & Karaoke,Special Events
ATTACH;FMTTYPE=image/jpeg:https://www.allspots.com/jo/events/wp-content/uploads/2017/04/amir-salah.jpg
END:VEVENT
BEGIN:VEVENT
DTSTART;TZID=Europe/Helsinki:20170404T193000
DTEND;TZID=Europe/Helsinki:20170404T233000
DTSTAMP:20260426T031418
CREATED:20170331T081732Z
LAST-MODIFIED:20170331T081732Z
UID:18323-1491334200-1491348600@www.allspots.com
SUMMARY:Fork & Cork Festival at V Lounge & Restaurant
DESCRIPTION:Have you been dreaming of food and wine festival to roll around in town?\nWait no more as our ﬁrst time Fork and Cork festival is set for Tuesday 4th April 2017!\nWitness the perfect marriage of steaks\, brisket carving and ribs live stations paired with outstanding array of South African Hazendal wines for every palate.\nAll you can eat and drink night at V Lounge & Restaurant will be perfectly complete with the live music performed.\nJD 27 per person\, subject to all applicable taxes.\n* 50% discount on all cigars exclusive on this night.\nReserve your table now at 065510001 – 0796554994
URL:https://www.allspots.com/jo/events/calendar/fork-cork-festival-at-v-lounge-restaurant/
LOCATION:Crowne Plaza Amman\, 6th Circle - Um Uthaina
CATEGORIES:Food & Drinks,Nightlife
ATTACH;FMTTYPE=image/jpeg:https://www.allspots.com/jo/events/wp-content/uploads/2017/03/fork-and-cork.jpg
END:VEVENT
END:VCALENDAR