BEGIN:VCALENDAR
VERSION:2.0
PRODID:-//Jordan events calendar - AllSpots - ECPv5.14.1//NONSGML v1.0//EN
CALSCALE:GREGORIAN
METHOD:PUBLISH
X-WR-CALNAME:Jordan events calendar - AllSpots
X-ORIGINAL-URL:https://www.allspots.com/jo/events
X-WR-CALDESC:Events for Jordan events calendar - AllSpots
BEGIN:VTIMEZONE

END:VTIMEZONE
BEGIN:VEVENT
DTSTART;TZID=Europe/Helsinki:20260426T044315
DTEND;TZID=Europe/Helsinki:20170417T010000
DTSTAMP:20260426T044315
CREATED:20170414T135004Z
LAST-MODIFIED:20170414T135004Z
UID:19347-0-1492390800@www.allspots.com
SUMMARY:سهرة العشاء مع صوت النجم امير صلاح @ مطعم الحصيرة
DESCRIPTION:سهرة العشاء مع صوت النجم امير صلاح\nيوم الاحد 16/4/2017\nللحجز والاستفسار الإتصال على الرقم 0798750096
URL:https://www.allspots.com/jo/events/calendar/%d8%b3%d9%87%d8%b1%d8%a9-%d8%a7%d9%84%d8%b9%d8%b4%d8%a7%d8%a1-%d9%85%d8%b9-%d8%b5%d9%88%d8%aa-%d8%a7%d9%84%d9%86%d8%ac%d9%85-%d8%a7%d9%85%d9%8a%d8%b1-%d8%b5%d9%84%d8%a7%d8%ad-%d9%85%d8%b7%d8%b9/
CATEGORIES:Easter Events,Food & Drinks,Musical, Theatrical & Films,Nightlife,Parties & Karaoke,Special Events
ATTACH;FMTTYPE=image/jpeg:https://www.allspots.com/jo/events/wp-content/uploads/2017/04/amir-salah.jpg
END:VEVENT
BEGIN:VEVENT
DTSTART;TZID=Europe/Helsinki:20170403T183000
DTEND;TZID=Europe/Helsinki:20170403T220000
DTSTAMP:20260426T044315
CREATED:20170402T140317Z
LAST-MODIFIED:20170402T140317Z
UID:18365-1491244200-1491256800@www.allspots.com
SUMMARY:Monday Dinner and Dialogue ( The education system )
DESCRIPTION:Join us on Monday for dinner and dialogue on the topic of the current education system\, where we will try to answer some of the most pressing questions about the education system over delicious Italian cuisine.\n. انضموا إلينا يوم الأثنين لتناول العشاء والحوار حول موضوع النظام التعليمي، حيث سنحاول الإجابة على بعض الأسئلة الأكثر إلحاحا حول نظام التعليم الحالي وصلاحيته خلال عشاء مميز من الأكلات الأيطالية . \nالرجاء قراءة تفاصيل الفعالية بالأسفل ثم أذا ما زلت ترغب في بالحضور الرجاء تعبئة الطلب التالي https://goo.gl/cQI9dD \nPlease read the event description below then if you still wish to attend the event Please fill the following form :\nhhttps://goo.gl/cQI9dD \nDialogue is necessary in a modern world characterized by contrast and change. Dialogue can help overcome prejudice and create understanding of other people’s perspectives. It can show us new ways of perceiving the world. And it can expand our horizon. Dialogue enables us to reach across an abyss of difference\, as long as we see and recognize each other for what we are: different yet all human beings in the same world.\nالحوار ضروري جداً في عالمنا الحديث الذي يتسم بالتناقض والتغيير المستمر. يساعد الحوار على التغلب على التحيزات وأن يخلق فهما لآراء ووجهات نظر الآخرين. ويمكن أن يظهر لنا طرقاً جديدة لفهم العالم من حولنا وتوسيع مداركنا\, كما أن الحوار يتيح لنا الوصول لنقاط تلاقي في المواضيع المختلفة، طالما أننا نرى و نعترف ببعضنا البعض لما نحن عليه الآن. \nMonday Dinner and Dialogue is one of Shams Community weekly gatherings where we talk about a different topic each monday\, All are welcome to join in sharing their unique knowledge\, passion and perspectives.\nعشاء الاثنين هو أحدى لقاءات مجتمع شمس الأسبوعية حيث نتحدث في كل جلسة عن موضوع مختلف\, مرحب بالجميع للانضمام في مشاركة خبراتهم الفريدة\, شغفهم ووجهات نظرهم المتنوعة\, بالعادة لا يوجد متحدثين او ضيوف\, جميع المشاركين لهم نفس المساحة لتقديم أفكارهم ومشاركة خبراتهم. \n\nDinner : A collection of italian dishes.\nالعشاء: مجموعة من الأطباق الاليطاية المميزة. \n\nWhat should you expect?\n1. Connect with another 15 – 20 people from diverse backgrounds\, and be ready to be inspired.\n2. Exchange your knowledge and ideas and participate in dialogue with other global minds.\n3. Enjoy your dinner\, drinks\, and conversation. \nماذا عليك أن تتوقع خلال هذه الليلة ؟\n1. مقابلة مجموعة من الناس المختلفة من خلفيات ثقافية متنوعة .\n2. تبادل المعرفة والأفكار مع المشاركين.\n3. استمتع بالطعام الحوار والأمسية. \nHow much will it cost?\nWe ask for a contribution towards the cost of the food\, and hosting the event of 5 JD per person.. Please feel free to bring your own drinks. We will offer water & tea for everyone. \nكم تكلفة المشاركة ؟\nنقوم بالعادة طلب مبلغ 5 دنانير لتغطية تكاليف العشاء\, واستضافة الفعالية\, نقوم أيضاً بتوفير مياه و شاي للجميع . \nWhen?\nEvent start 6:30\, Dialogue starts at 7:00\, Dinner starts at 7:30. \nمتى موعد الفعالية ؟\nيبدأ التجمع لساعة 6:30 الحوار الساعة 7:00\, أما العشاء يبدأ الساعة الـ7:30 . \n\nWhere?\nShams Community\ngoogle map: https://goo.gl/QzQ2S2\nJabal Amman\, Omar Ibn alkhattab\, street 11C\nThe house located in end of the 2nd “short” stairs after montage cafe before before book@cafe. find the house with Green Windows. \nاين ستقام الفعالية ؟\nمجتمع شمس\ngoogle map: https://goo.gl/QzQ2S2 \n11 جبل عمان\, شارع عمر ابن الخطاب.\nمن نهاية شارع الرينبو انعطف يمين في شارع عمر ابن الخطاب\, الدرج الثاني بعد مونتاج كافية وقبل بوكسات كافية على يديك اليسار\, المنزل في نهاية الدرج ” الباب باللون الأخضر . \nTo confirm Please fill the following form :\nhttps://goo.gl/cQI9dD\nFor any further information please contact us on @Shams Community. or call / what’s app +962795209606\nWe look forward to your company on monday evening
URL:https://www.allspots.com/jo/events/calendar/monday-dinner-and-dialogue-the-education-system/
CATEGORIES:Food & Drinks,Lectures & Discussions
ATTACH;FMTTYPE=image/jpeg:https://www.allspots.com/jo/events/wp-content/uploads/2017/04/dnner-and-dialoug.jpg
END:VEVENT
END:VCALENDAR