BEGIN:VCALENDAR
VERSION:2.0
PRODID:-//Jordan events calendar - AllSpots - ECPv5.14.1//NONSGML v1.0//EN
CALSCALE:GREGORIAN
METHOD:PUBLISH
X-WR-CALNAME:Jordan events calendar - AllSpots
X-ORIGINAL-URL:https://www.allspots.com/jo/events
X-WR-CALDESC:Events for Jordan events calendar - AllSpots
BEGIN:VTIMEZONE
TZID:Europe/Helsinki
BEGIN:DAYLIGHT
TZOFFSETFROM:+0200
TZOFFSETTO:+0300
TZNAME:EEST
DTSTART:20160327T010000
END:DAYLIGHT
BEGIN:STANDARD
TZOFFSETFROM:+0300
TZOFFSETTO:+0200
TZNAME:EET
DTSTART:20161030T010000
END:STANDARD
END:VTIMEZONE
BEGIN:VEVENT
DTSTART;TZID=Europe/Helsinki:20161119T090000
DTEND;TZID=Europe/Helsinki:20161119T120000
DTSTAMP:20260424T194119
CREATED:20161116T130636Z
LAST-MODIFIED:20161116T130741Z
UID:7571-1479546000-1479556800@www.allspots.com
SUMMARY:Breakfast Buffet @ La Noisette Cafe
DESCRIPTION:Breakfast Buffet @ La Noisette Cafe\nEvery Saturday & Tuesday – 9:00am – 12:00pm\nزوارنا الأعزاء … موعدنا كل سبت وثلاثاء لقضاء أجمل الأوقات مع الأحبة ، جلسة هادئة ومطلة ، بوفيه صباحي مفتوح يشمل أطباق رئيسية شهية ، مقبلات ومشروبات ساخنة ، حلويات متنوعة ، فقط 6 دينار للشخص ، للإستفسار 065821500\nنتمنى لكم قضاء أوقات ممتعة
URL:https://www.allspots.com/jo/events/calendar/breakfast-buffet-la-noisette-cafe/2016-11-19/
CATEGORIES:Food & Drinks
ATTACH;FMTTYPE=image/png:https://www.allspots.com/jo/events/wp-content/uploads/2016/11/la-noisette-breakfast.png
END:VEVENT
END:VCALENDAR