BEGIN:VCALENDAR
VERSION:2.0
PRODID:-//Jordan events calendar - AllSpots - ECPv5.14.1//NONSGML v1.0//EN
CALSCALE:GREGORIAN
METHOD:PUBLISH
X-WR-CALNAME:Jordan events calendar - AllSpots
X-ORIGINAL-URL:https://www.allspots.com/jo/events
X-WR-CALDESC:Events for Jordan events calendar - AllSpots
BEGIN:VTIMEZONE
TZID:Europe/Helsinki
BEGIN:DAYLIGHT
TZOFFSETFROM:+0200
TZOFFSETTO:+0300
TZNAME:EEST
DTSTART:20160327T010000
END:DAYLIGHT
BEGIN:STANDARD
TZOFFSETFROM:+0300
TZOFFSETTO:+0200
TZNAME:EET
DTSTART:20161030T010000
END:STANDARD
END:VTIMEZONE
BEGIN:VEVENT
DTSTART;TZID=Europe/Helsinki:20161207T210000
DTEND;TZID=Europe/Helsinki:20161208T000000
DTSTAMP:20260425T232645
CREATED:20161207T131624Z
LAST-MODIFIED:20161207T131709Z
UID:10257-1481144400-1481155200@www.allspots.com
SUMMARY:Black Ice Trio @ Spago Restaurant & Bar
DESCRIPTION:Live Jazz Night: Black Ice Trio @ Spago Restaurant & Bar\nOn Wednesday 7/12/2016 – at 9pm onward\nAre you ready for TONIGHT’S LIVE JAZZ PERFORMANCE with Black Ice Trio?\nFor Reservation or for more information please call Spago at: 065857586 – 0795543777
URL:https://www.allspots.com/jo/events/calendar/black-ice-trio-spago-restaurant-bar/
CATEGORIES:Live Musical Concerts,Nightlife
ATTACH;FMTTYPE=image/jpeg:https://www.allspots.com/jo/events/wp-content/uploads/2016/12/black-ice-trio.jpg
END:VEVENT
END:VCALENDAR