BEGIN:VCALENDAR
VERSION:2.0
PRODID:-//Jordan events calendar - AllSpots - ECPv5.14.1//NONSGML v1.0//EN
CALSCALE:GREGORIAN
METHOD:PUBLISH
X-WR-CALNAME:Jordan events calendar - AllSpots
X-ORIGINAL-URL:https://www.allspots.com/jo/events
X-WR-CALDESC:Events for Jordan events calendar - AllSpots
BEGIN:VTIMEZONE
TZID:Europe/Helsinki
BEGIN:DAYLIGHT
TZOFFSETFROM:+0200
TZOFFSETTO:+0300
TZNAME:EEST
DTSTART:20160327T010000
END:DAYLIGHT
BEGIN:STANDARD
TZOFFSETFROM:+0300
TZOFFSETTO:+0200
TZNAME:EET
DTSTART:20161030T010000
END:STANDARD
END:VTIMEZONE
BEGIN:VEVENT
DTSTART;TZID=Europe/Helsinki:20161123T220000
DTEND;TZID=Europe/Helsinki:20161124T003000
DTSTAMP:20260425T020350
CREATED:20161121T143010Z
LAST-MODIFIED:20161121T143120Z
UID:8021-1479938400-1479947400@www.allspots.com
SUMMARY:Ahmad Yassin & DIAB @ Republic
DESCRIPTION:Ahmad Yassin & DIAB @ Republic\nOn Wednesday 23/11/2016\nGet ready to be blown away by the amazing Ahmad Yassin & the mesmerizing voice of DIAB taking over our stage!\nSo gather your friends and let there be a big crowd this WEDNESDAY at ROE!\n*Happy Hour is from 5 – 10pm!\nDoors open at 10:00\nCall us for bookings\, 0798007911
URL:https://www.allspots.com/jo/events/calendar/ahmad-yassin-diab-republic/
LOCATION:Republic\, Mecca Street - Inside Marmara Hotel - Talab abu Aleem Street\, Building #2\, Jordan
CATEGORIES:Nightlife,Parties & Karaoke
ATTACH;FMTTYPE=image/jpeg:https://www.allspots.com/jo/events/wp-content/uploads/2016/11/republic-diab.jpg
GEO:21.3890824;39.8579118
X-APPLE-STRUCTURED-LOCATION;VALUE=URI;X-ADDRESS=Republic Mecca Street - Inside Marmara Hotel - Talab abu Aleem Street Building #2 Jordan;X-APPLE-RADIUS=500;X-TITLE=Mecca Street - Inside Marmara Hotel - Talab abu Aleem Street\, Building #2:geo:39.8579118,21.3890824
END:VEVENT
END:VCALENDAR