BEGIN:VCALENDAR
VERSION:2.0
PRODID:-//Jordan events calendar - AllSpots - ECPv5.14.1//NONSGML v1.0//EN
CALSCALE:GREGORIAN
METHOD:PUBLISH
X-WR-CALNAME:Jordan events calendar - AllSpots
X-ORIGINAL-URL:https://www.allspots.com/jo/events
X-WR-CALDESC:Events for Jordan events calendar - AllSpots
BEGIN:VTIMEZONE
TZID:Europe/Helsinki
BEGIN:DAYLIGHT
TZOFFSETFROM:+0200
TZOFFSETTO:+0300
TZNAME:EEST
DTSTART:20160327T010000
END:DAYLIGHT
BEGIN:STANDARD
TZOFFSETFROM:+0300
TZOFFSETTO:+0200
TZNAME:EET
DTSTART:20161030T010000
END:STANDARD
END:VTIMEZONE
BEGIN:VEVENT
DTSTART;VALUE=DATE:20161124
DTEND;VALUE=DATE:20161128
DTSTAMP:20260425T002400
CREATED:20161124T150905Z
LAST-MODIFIED:20161124T150905Z
UID:8551-1479945600-1480219199@www.allspots.com
SUMMARY:25% Sale @ Charles & Keith
DESCRIPTION:25% Sale @ Charles & Keith\nfrom 24th until 26th of November\, 2016\nThe latest Fall / Winter collection is now available at Charles & Keith !\nyou still have the chance to save 25% on everything\nCharles & Keith Branches: Mecca Mall\, City Mall\, Taj Mall\, Galleria Mall
URL:https://www.allspots.com/jo/events/calendar/25-sale-charles-keith/
CATEGORIES:Sales & Offers,Suitable For Students
ATTACH;FMTTYPE=image/jpeg:https://www.allspots.com/jo/events/wp-content/uploads/2016/11/charles-and-keith.jpg
END:VEVENT
END:VCALENDAR