BEGIN:VCALENDAR
VERSION:2.0
PRODID:-//Jordan events calendar - AllSpots - ECPv5.14.1//NONSGML v1.0//EN
CALSCALE:GREGORIAN
METHOD:PUBLISH
X-WR-CALNAME:Jordan events calendar - AllSpots
X-ORIGINAL-URL:https://www.allspots.com/jo/events
X-WR-CALDESC:Events for Jordan events calendar - AllSpots
BEGIN:VTIMEZONE
TZID:Europe/Helsinki
BEGIN:DAYLIGHT
TZOFFSETFROM:+0200
TZOFFSETTO:+0300
TZNAME:EEST
DTSTART:20160327T010000
END:DAYLIGHT
BEGIN:STANDARD
TZOFFSETFROM:+0300
TZOFFSETTO:+0200
TZNAME:EET
DTSTART:20161030T010000
END:STANDARD
END:VTIMEZONE
BEGIN:VEVENT
DTSTART;TZID=Europe/Helsinki:20161201T090000
DTEND;TZID=Europe/Helsinki:20161201T093000
DTSTAMP:20260425T142602
CREATED:20161115T162658Z
LAST-MODIFIED:20161127T085430Z
UID:7531-1480582800-1480584600@www.allspots.com
SUMMARY:ورشة صناعة الصابون الجليسرين @ مرسم نقطة لون‎
DESCRIPTION:صناعة يسعدنا أن نقدم لكم ورشة عمل لتعلم\n(كيفية صناعة الصابون)\nللسيدات والصبايا\nبأسهل و أوفر الطرق يمكنك أن تصنع كل أنواع الصابون بنفسك بذوقك الخاص بالشكل و الحجم و اللون و الرائحة التي ترغبها و تحبها مع المدربة\nمريم ياسين\nبتاريخ ١-١٢-٢٠١٦\nمن الساعة ٩-١٢:٣٠\nالرسوم ٢٠ دينار شاملة المواد\nللتسجيل والاستفسار 0796516288
URL:https://www.allspots.com/jo/events/calendar/%d9%88%d8%b1%d8%b4%d8%a9-%d8%b5%d9%86%d8%a7%d8%b9%d8%a9-%d8%a7%d9%84%d8%b5%d8%a7%d8%a8%d9%88%d9%86-%d8%a7%d9%84%d8%ac%d9%84%d9%8a%d8%b3%d8%b1%d9%8a%d9%86/
LOCATION:Color Spot – مرسم نقطة لون\, Kilo Circle - Opposite to Mercedes Company - Building #111\, دوار الكيلو مقابل مرسيدس للسيارات عمارة #111 - الطابق الثاني\, Jordan
CATEGORIES:Suitable For Students,Workshops & Courses
ATTACH;FMTTYPE=image/jpeg:https://www.allspots.com/jo/events/wp-content/uploads/2016/11/soap-1.jpg
END:VEVENT
END:VCALENDAR