BEGIN:VCALENDAR
VERSION:2.0
PRODID:-//Jordan events calendar - AllSpots - ECPv5.14.1//NONSGML v1.0//EN
CALSCALE:GREGORIAN
METHOD:PUBLISH
X-WR-CALNAME:Jordan events calendar - AllSpots
X-ORIGINAL-URL:https://www.allspots.com/jo/events
X-WR-CALDESC:Events for Jordan events calendar - AllSpots
BEGIN:VTIMEZONE
TZID:UTC
BEGIN:STANDARD
TZOFFSETFROM:+0000
TZOFFSETTO:+0000
TZNAME:UTC
DTSTART:20160101T000000
END:STANDARD
END:VTIMEZONE
BEGIN:VEVENT
DTSTART;TZID=UTC:20161031T180000
DTEND;TZID=UTC:20161031T180000
DTSTAMP:20260421T151206
CREATED:20161005T075559Z
LAST-MODIFIED:20161005T075559Z
UID:2382-1477936800-1477936800@www.allspots.com
SUMMARY:ندوة حول تأثير الأزمة السورية على المجتمع الأردني @ مركز الملك عبدالله الثاني الثقافي
DESCRIPTION:ندوة حول تأثير الأزمة السورية على المجتمع الأردني @ مركز الملك عبدالله الثاني الثقافي\nيوم الاثنين 31/10/2016 – الساعة 6 مساء
URL:https://www.allspots.com/jo/events/calendar/%d9%86%d8%af%d9%88%d8%a9-%d8%ad%d9%88%d9%84-%d8%aa%d8%a3%d8%ab%d9%8a%d8%b1-%d8%a7%d9%84%d8%a3%d8%b2%d9%85%d8%a9-%d8%a7%d9%84%d8%b3%d9%88%d8%b1%d9%8a%d8%a9-%d8%b9%d9%84%d9%89-%d8%a7%d9%84%d9%85%d8%ac/
LOCATION:King Abdullah II Cultural Center – مركز الملك عبدالله الثاني الثقافي\,  خلف مبنى محافظة الزرقاء - بجانب البريد الرئيسي \, Zarqa - الزرقاء
CATEGORIES:Lectures & Discussions,Suitable For Students
GEO:32.0608187;36.0941795
X-APPLE-STRUCTURED-LOCATION;VALUE=URI;X-ADDRESS=King Abdullah II Cultural Center – مركز الملك عبدالله الثاني الثقافي  خلف مبنى محافظة الزرقاء - بجانب البريد الرئيسي  Zarqa - الزرقاء;X-APPLE-RADIUS=500;X-TITLE=خلف مبنى محافظة الزرقاء - بجانب البريد الرئيسي:geo:36.0941795,32.0608187
END:VEVENT
END:VCALENDAR