BEGIN:VCALENDAR
VERSION:2.0
PRODID:-//Jordan events calendar - AllSpots - ECPv5.14.1//NONSGML v1.0//EN
CALSCALE:GREGORIAN
METHOD:PUBLISH
X-WR-CALNAME:Jordan events calendar - AllSpots
X-ORIGINAL-URL:https://www.allspots.com/jo/events
X-WR-CALDESC:Events for Jordan events calendar - AllSpots
BEGIN:VTIMEZONE
TZID:Europe/Helsinki
BEGIN:DAYLIGHT
TZOFFSETFROM:+0200
TZOFFSETTO:+0300
TZNAME:EEST
DTSTART:20160327T010000
END:DAYLIGHT
BEGIN:STANDARD
TZOFFSETFROM:+0300
TZOFFSETTO:+0200
TZNAME:EET
DTSTART:20161030T010000
END:STANDARD
END:VTIMEZONE
BEGIN:VEVENT
DTSTART;TZID=Europe/Helsinki:20161124T170000
DTEND;TZID=Europe/Helsinki:20161124T190000
DTSTAMP:20260425T063126
CREATED:20161121T151142Z
LAST-MODIFIED:20161121T151142Z
UID:8042-1480006800-1480014000@www.allspots.com
SUMMARY:معرض للفنان عبد العزيز الحمصي @ جاليري رأس العين
DESCRIPTION:معرض للفنان عبد العزيز الحمصي @ جاليري رأس العين\nيرعى مساعد أمين عمان الكبرى حازم النعيمات، في الخامسة من مساء الخميس 24/11/2016، في جاليري رأس العين – مقابل مركز الحسين الثقافي معرض بعنوان “لحظة” للفنان عبد العزيز الحمصي، المعنون بـ
URL:https://www.allspots.com/jo/events/calendar/%d9%85%d8%b9%d8%b1%d8%b6-%d9%84%d9%84%d9%81%d9%86%d8%a7%d9%86-%d8%b9%d8%a8%d8%af-%d8%a7%d9%84%d8%b9%d8%b2%d9%8a%d8%b2-%d8%a7%d9%84%d8%ad%d9%85%d8%b5%d9%8a-%d8%ac%d8%a7%d9%84%d9%8a%d8%b1%d9%8a-%d8%b1/
LOCATION:Ras Al Ain Gallery & Hangar\, Ali Bin Abi Talib Street - Opposite to Al Hussien Cultural Center\, Amman
CATEGORIES:Art Exhibitions & Galleries,Suitable For Students
GEO:31.9453666;35.9283716
X-APPLE-STRUCTURED-LOCATION;VALUE=URI;X-ADDRESS=Ras Al Ain Gallery & Hangar Ali Bin Abi Talib Street - Opposite to Al Hussien Cultural Center Amman;X-APPLE-RADIUS=500;X-TITLE=Ali Bin Abi Talib Street - Opposite to Al Hussien Cultural Center:geo:35.9283716,31.9453666
END:VEVENT
END:VCALENDAR