BEGIN:VCALENDAR
VERSION:2.0
PRODID:-//Jordan events calendar - AllSpots - ECPv5.14.1//NONSGML v1.0//EN
CALSCALE:GREGORIAN
METHOD:PUBLISH
X-WR-CALNAME:Jordan events calendar - AllSpots
X-ORIGINAL-URL:https://www.allspots.com/jo/events
X-WR-CALDESC:Events for Jordan events calendar - AllSpots
BEGIN:VTIMEZONE
TZID:Europe/Helsinki
BEGIN:DAYLIGHT
TZOFFSETFROM:+0200
TZOFFSETTO:+0300
TZNAME:EEST
DTSTART:20160327T010000
END:DAYLIGHT
BEGIN:STANDARD
TZOFFSETFROM:+0300
TZOFFSETTO:+0200
TZNAME:EET
DTSTART:20161030T010000
END:STANDARD
END:VTIMEZONE
BEGIN:VEVENT
DTSTART;TZID=Europe/Helsinki:20161208T150000
DTEND;TZID=Europe/Helsinki:20161208T150000
DTSTAMP:20260426T010342
CREATED:20161206T115858Z
LAST-MODIFIED:20161206T115858Z
UID:10073-1481209200-1481209200@www.allspots.com
SUMMARY:مدن آمنة للنساء"حلقة نقاشية" @ مركز آكشن إيد المجتمعي في مأدبا‎
DESCRIPTION:مدن آمنة للنساء”حلقة نقاشية” @ مركز آكشن إيد المجتمعي في مأدبا‎\nيوم الخميس 2016/12/8 الساعة 3\nمناسبة فعاليات 16 يوم من النشاط / حملة مدن آمنة للنساء ومن ضمن انشطة شبكة أكتفيستا عربية بالتعاون مع أكشن ايد – مبادرة المنطقة العربية\nتتوجه شبكة أكتفيستا عربية بدعوتكم للمشاركة في الحلقة النقاشية : مدن آمنة للنساء\nويسرنا حضوركم و مشاركتنا حيث سيكون لذلك الأثر في نجاح الجلسة النقاشية سنكون بانتظاركم\nللاستفسار رقم الهاتف: 0775265122
URL:https://www.allspots.com/jo/events/calendar/%d9%85%d8%af%d9%86-%d8%a2%d9%85%d9%86%d8%a9-%d9%84%d9%84%d9%86%d8%b3%d8%a7%d8%a1%d8%ad%d9%84%d9%82%d8%a9-%d9%86%d9%82%d8%a7%d8%b4%d9%8a%d8%a9-%d9%85%d8%b1%d9%83%d8%b2-%d8%a2%d9%83%d8%b4%d9%86/
CATEGORIES:Lectures & Discussions,Suitable For Students
ATTACH;FMTTYPE=image/jpeg:https://www.allspots.com/jo/events/wp-content/uploads/2016/12/safe-cities.jpg
END:VEVENT
END:VCALENDAR