BEGIN:VCALENDAR
VERSION:2.0
PRODID:-//Jordan events calendar - AllSpots - ECPv5.14.1//NONSGML v1.0//EN
CALSCALE:GREGORIAN
METHOD:PUBLISH
X-WR-CALNAME:Jordan events calendar - AllSpots
X-ORIGINAL-URL:https://www.allspots.com/jo/events
X-WR-CALDESC:Events for Jordan events calendar - AllSpots
BEGIN:VTIMEZONE
TZID:Europe/Helsinki
BEGIN:DAYLIGHT
TZOFFSETFROM:+0200
TZOFFSETTO:+0300
TZNAME:EEST
DTSTART:20160327T010000
END:DAYLIGHT
BEGIN:STANDARD
TZOFFSETFROM:+0300
TZOFFSETTO:+0200
TZNAME:EET
DTSTART:20161030T010000
END:STANDARD
END:VTIMEZONE
BEGIN:VEVENT
DTSTART;TZID=Europe/Helsinki:20161208T170000
DTEND;TZID=Europe/Helsinki:20161208T170000
DTSTAMP:20260426T040035
CREATED:20161203T192432Z
LAST-MODIFIED:20161203T192432Z
UID:9614-1481216400-1481216400@www.allspots.com
SUMMARY:لقاء وحوار مع صاحب السمو الملكي الأمير الحسن بن طلال المعظم @ مؤسسة عبد الحميد شومان
DESCRIPTION:لقاء وحوار مع صاحب السمو الملكي الأمير الحسن بن طلال المعظم @ مؤسسة عبد الحميد شومان\nيستضيف منتدى مؤسسة عبد الحميد شومان الثقافي، الساعة 5 من مساء يوم الخميس الموافق 8/12/2016 صاحب السمو الملكي الأمير الحسن بن طلال المعظم في محاضرة بعنوان “إدارة التنوع وبناء السلام” يرأس الجلسة ويدير الحوار الدكتور عمر مشهور الجازي\nيشدد صاحب السمو الملكي الأمير الحسن بن طلال المعظم باستمرار، على ضرورة تعظيم ثقافة العيش المشترك واحترام الاختلاف والتنوع الديني والثقافي، لبناء مجتمع راسخ وآمن لا ينقسم إلى أكثرية وأقلية، ومن أجل تحقيق الصالح العام الذي تضمنه دولة القانون والمؤسسات\nويؤمن سموه بأن هذا التنوع هو أحد التحديات المطروحة بقوة اليوم على المستوى العالمي ككل، وليس على مستوى الإقليم فحسب، وأن إدارته بالشكل الصحيح، قادرة على تجنيب المنطقة مزيدا من النزاعات والحرائق\nسموه، وفي محاضرته في منتدى عبد الحميد شومان الثقافي بعنوان “إدارة التنوع وبناء السلام”، يرصد أشكال هذا التنوع في البيئات العربية، وكيف يمكن له أن يكون قيمة مضافة لمجتمعاتنا، ليسهم بالتالي في بناء السلم المجتمعي، والسلام في المنطقة ككل\nويتطرق سموه، في المحاضرة، إلى “خطاب الكراهية” الذي بات شائعا اليوم، وكيف يمكن لنا أن نحدّ من قنواته وأشكاله، بما يخفف من تأثيراته، وأن نجعل مجتمعاتنا محصنة ضد النزاعات الداخلية القائمة على أسس عرقية أو دينية أو مذهبية، إضافة إلى كيفية بناء خطاب وطني جامع، ودور الإعلام في هذا السياق\nأصدقاء منتدى مؤسسة عبد الحميد شومان الثقافي، كونوا معنا في ضيافة صاحب السمو الملكي الأمير الحسن بن طلال المعظم، في الخامسة من مساء يوم الخميس 8 /12 / 2016، في المحاضرة التي يديرها د. عمر مشهور الجازي، ولننهل معا من التجربة المميزة لسمو الأمير، ورؤيته الفاحصة لجذور النزاعات العربية الراهنة، وآفاق العمل على إنهائها، وكيفية بناء السلام في الوقت الراهن\nملاحظة: الدعوة عامة
URL:https://www.allspots.com/jo/events/calendar/%d9%84%d9%82%d8%a7%d8%a1-%d9%88%d8%ad%d9%88%d8%a7%d8%b1-%d9%85%d8%b9-%d8%b5%d8%a7%d8%ad%d8%a8-%d8%a7%d9%84%d8%b3%d9%85%d9%88-%d8%a7%d9%84%d9%85%d9%84%d9%83%d9%8a-%d8%a7%d9%84%d8%a3%d9%85%d9%8a%d8%b1/
LOCATION:Abdul Hameed Shoman Foundation – مؤسسة عبدالحميد شومان\,  Jabal Amman\, between 2nd and 1st Circle\, Al Kulliyah Al Elmiyah Al Eslamiyah Street\, Building #15 - Maraqa Commercial Complex \,  جبل عمان\, بين الدوار الثاني والاول - شارع الكلية العلمية الاسلامية - عمارة رقم 15\, Amman
CATEGORIES:Lectures & Discussions,Suitable For Students
ATTACH;FMTTYPE=image/jpeg:https://www.allspots.com/jo/events/wp-content/uploads/2016/12/prince-hasan.jpg
END:VEVENT
END:VCALENDAR