BEGIN:VCALENDAR
VERSION:2.0
PRODID:-//Jordan events calendar - AllSpots - ECPv5.14.1//NONSGML v1.0//EN
CALSCALE:GREGORIAN
METHOD:PUBLISH
X-WR-CALNAME:Jordan events calendar - AllSpots
X-ORIGINAL-URL:https://www.allspots.com/jo/events
X-WR-CALDESC:Events for Jordan events calendar - AllSpots
BEGIN:VTIMEZONE
TZID:Europe/Helsinki
BEGIN:DAYLIGHT
TZOFFSETFROM:+0200
TZOFFSETTO:+0300
TZNAME:EEST
DTSTART:20160327T010000
END:DAYLIGHT
BEGIN:STANDARD
TZOFFSETFROM:+0300
TZOFFSETTO:+0200
TZNAME:EET
DTSTART:20161030T010000
END:STANDARD
END:VTIMEZONE
BEGIN:VEVENT
DTSTART;TZID=Europe/Helsinki:20161210T084500
DTEND;TZID=Europe/Helsinki:20161210T204500
DTSTAMP:20260426T054111
CREATED:20161130T141919Z
LAST-MODIFIED:20161130T141919Z
UID:9365-1481359500-1481402700@www.allspots.com
SUMMARY:تزيين شجرة عيد الميلاد في بيت العناية الانسانية للمسنين - الفحيص
DESCRIPTION:تزيين شجرة عيد الميلاد في بيت العناية الانسانية للمسنين – الفحيص\nايد على ايد – لسن كبير، آوت آند أباوت\nالسبت 2016/12/10\nwww.facebook.com/events/873523786084338\nمش بس الصغار بينبسطوا بتزيين شجرة عيد الميلاد، الصغار والكبار من كل الاعمار\nرح نزور يوم السبت 12/10 بيت العناية الانسانية بالفحيص ونشارك المسنين بتزيين شجرة الميلاد، نغني معهم اغاني الميلاد، نتغدى ونقدملهم هدايا\n– التجمع الساعة 8:45 صباحا عند سيفوي الدوار السابع والانطلاق الساعة 9 بالسيارات\n– 9.30 لغاية الساعة 11.30 تزيين الشجرة وتبادل الهدايا\n– 11:45 لغاية الساعة 1 ظهرا تقديم وجبة الغداء\nيمكنكم التبرع بتغطية تكلفة وجبة غداء وهدية المسن وقيمتها : 7 دنانير\nالأعداد محدودة. للحجز إحكوا آوت آند أباوت\nمعا بمحبة وسلام\nفريق ايد على ايد\nآوت آند أباوت\nwww.facebook.com/groups/outandaboutjo\n0785834000
URL:https://www.allspots.com/jo/events/calendar/%d8%aa%d8%b2%d9%8a%d9%8a%d9%86-%d8%b4%d8%ac%d8%b1%d8%a9-%d8%b9%d9%8a%d8%af-%d8%a7%d9%84%d9%85%d9%8a%d9%84%d8%a7%d8%af-%d9%81%d9%8a-%d8%a8%d9%8a%d8%aa-%d8%a7%d9%84%d8%b9%d9%86%d8%a7%d9%8a%d8%a9-%d8%a7/
CATEGORIES:Charity & Fundraisers,Christmas Events
END:VEVENT
END:VCALENDAR