BEGIN:VCALENDAR
VERSION:2.0
PRODID:-//Jordan events calendar - AllSpots - ECPv5.14.1//NONSGML v1.0//EN
CALSCALE:GREGORIAN
METHOD:PUBLISH
X-WR-CALNAME:Jordan events calendar - AllSpots
X-ORIGINAL-URL:https://www.allspots.com/jo/events
X-WR-CALDESC:Events for Jordan events calendar - AllSpots
BEGIN:VTIMEZONE
TZID:Europe/Helsinki
BEGIN:DAYLIGHT
TZOFFSETFROM:+0200
TZOFFSETTO:+0300
TZNAME:EEST
DTSTART:20160327T010000
END:DAYLIGHT
BEGIN:STANDARD
TZOFFSETFROM:+0300
TZOFFSETTO:+0200
TZNAME:EET
DTSTART:20161030T010000
END:STANDARD
END:VTIMEZONE
BEGIN:VEVENT
DTSTART;VALUE=DATE:20161124
DTEND;VALUE=DATE:20161129
DTSTAMP:20260425T002659
CREATED:20161115T160808Z
LAST-MODIFIED:20161116T113337Z
UID:7516-1479945600-1480305599@www.allspots.com
SUMMARY:بازار الوحدة الوطنية @  أم السماق
DESCRIPTION:بازار الوحدة الوطنية كريسماس \nمطرانية الروم الكاثوليك مار جاوارجيوس – أم السماق \nمن 24- 27 نوفمبر 2016
URL:https://www.allspots.com/jo/events/calendar/%d8%a8%d8%a7%d8%b2%d8%a7%d8%b1-%d8%a7%d9%84%d9%88%d8%ad%d8%af%d8%a9-%d8%a7%d9%84%d9%88%d8%b7%d9%86%d9%8a%d8%a9-%d9%83%d8%b1%d9%8a%d8%b3%d9%85%d8%a7%d8%b3/
CATEGORIES:Christmas Events,Shopping, Fairs & Expos
ATTACH;FMTTYPE=image/jpeg:https://www.allspots.com/jo/events/wp-content/uploads/2016/11/santa.jpg
END:VEVENT
END:VCALENDAR