BEGIN:VCALENDAR
VERSION:2.0
PRODID:-//Jordan events calendar - AllSpots - ECPv5.14.1//NONSGML v1.0//EN
CALSCALE:GREGORIAN
METHOD:PUBLISH
X-WR-CALNAME:Jordan events calendar - AllSpots
X-ORIGINAL-URL:https://www.allspots.com/jo/events
X-WR-CALDESC:Events for Jordan events calendar - AllSpots
BEGIN:VTIMEZONE
TZID:Europe/Helsinki
BEGIN:DAYLIGHT
TZOFFSETFROM:+0200
TZOFFSETTO:+0300
TZNAME:EEST
DTSTART:20160327T010000
END:DAYLIGHT
BEGIN:STANDARD
TZOFFSETFROM:+0300
TZOFFSETTO:+0200
TZNAME:EET
DTSTART:20161030T010000
END:STANDARD
END:VTIMEZONE
BEGIN:VEVENT
DTSTART;TZID=Europe/Helsinki:20161119T100000
DTEND;TZID=Europe/Helsinki:20161119T200000
DTSTAMP:20260424T193422
CREATED:20161118T121801Z
LAST-MODIFIED:20161118T121801Z
UID:7810-1479549600-1479585600@www.allspots.com
SUMMARY:بازار ابداع @ مركز زها الثقافي
DESCRIPTION:بازار ابداع\nبانتظاركم يوم السبت 19/11 في مركز زها الثقافي – خلدا من الساعة 10 صباحاً حتى الساعة 8 مساءً\nحضوركم يسعدنا و يشرفنا\nالدعوة عامة و الدخول مجاني
URL:https://www.allspots.com/jo/events/calendar/%d8%a8%d8%a7%d8%b2%d8%a7%d8%b1-%d8%a7%d8%a8%d8%af%d8%a7%d8%b9-%d9%85%d8%b1%d9%83%d8%b2-%d8%b2%d9%87%d8%a7-%d8%a7%d9%84%d8%ab%d9%82%d8%a7%d9%81%d9%8a/
CATEGORIES:Shopping, Fairs & Expos
ATTACH;FMTTYPE=image/jpeg:https://www.allspots.com/jo/events/wp-content/uploads/2016/11/bazaar-ibdaa-at-zaha-cultural-center.jpg
END:VEVENT
END:VCALENDAR